BEGIN:VCALENDAR
VERSION:2.0
PRODID:-//Riihimäen Kotikirkko - ECPv6.15.20//NONSGML v1.0//EN
CALSCALE:GREGORIAN
METHOD:PUBLISH
X-WR-CALNAME:Riihimäen Kotikirkko
X-ORIGINAL-URL:https://kotikirkko.fi
X-WR-CALDESC:Tapahtumat Riihimäen Kotikirkko
REFRESH-INTERVAL;VALUE=DURATION:PT1H
X-Robots-Tag:noindex
X-PUBLISHED-TTL:PT1H
BEGIN:VTIMEZONE
TZID:Europe/Helsinki
BEGIN:DAYLIGHT
TZOFFSETFROM:+0200
TZOFFSETTO:+0300
TZNAME:EEST
DTSTART:20210328T010000
END:DAYLIGHT
BEGIN:STANDARD
TZOFFSETFROM:+0300
TZOFFSETTO:+0200
TZNAME:EET
DTSTART:20211031T010000
END:STANDARD
BEGIN:DAYLIGHT
TZOFFSETFROM:+0200
TZOFFSETTO:+0300
TZNAME:EEST
DTSTART:20220327T010000
END:DAYLIGHT
BEGIN:STANDARD
TZOFFSETFROM:+0300
TZOFFSETTO:+0200
TZNAME:EET
DTSTART:20221030T010000
END:STANDARD
BEGIN:DAYLIGHT
TZOFFSETFROM:+0200
TZOFFSETTO:+0300
TZNAME:EEST
DTSTART:20230326T010000
END:DAYLIGHT
BEGIN:STANDARD
TZOFFSETFROM:+0300
TZOFFSETTO:+0200
TZNAME:EET
DTSTART:20231029T010000
END:STANDARD
END:VTIMEZONE
BEGIN:VEVENT
DTSTART;TZID=Europe/Helsinki:20220429T190000
DTEND;TZID=Europe/Helsinki:20220429T230000
DTSTAMP:20260426T064020
CREATED:20220323T081651Z
LAST-MODIFIED:20220323T081651Z
UID:9699-1651258800-1651273200@kotikirkko.fi
SUMMARY:Pe 29.4. klo 19.00 Nuortenilta
DESCRIPTION:Pe 29.4. klo 19.00 Nuortenilta
URL:https://kotikirkko.fi/ohjelma/pe-29-4-klo-19-00-nuortenilta/
END:VEVENT
BEGIN:VEVENT
DTSTART;TZID=Europe/Helsinki:20220427T180000
DTEND;TZID=Europe/Helsinki:20220427T193000
DTSTAMP:20260426T064020
CREATED:20220407T073130Z
LAST-MODIFIED:20220407T073208Z
UID:9736-1651082400-1651087800@kotikirkko.fi
SUMMARY:Ke 27.4. 18.00 Rukousilta
DESCRIPTION:Ke 27.4. 18.00 Rukousilta\, Leo Saari
URL:https://kotikirkko.fi/ohjelma/ke-27-4-18-00-rukousilta/
END:VEVENT
BEGIN:VEVENT
DTSTART;TZID=Europe/Helsinki:20220426T180000
DTEND;TZID=Europe/Helsinki:20220426T193000
DTSTAMP:20260426T064020
CREATED:20220323T081411Z
LAST-MODIFIED:20220323T081411Z
UID:9696-1650996000-1651001400@kotikirkko.fi
SUMMARY:Ti 26.4. klo 18.00 Varkkikerho
DESCRIPTION:Ti 26.4. klo 18.00 Varkkikerho
URL:https://kotikirkko.fi/ohjelma/ti-26-4-klo-18-00-varkkikerho/
END:VEVENT
BEGIN:VEVENT
DTSTART;TZID=Europe/Helsinki:20220425T183000
DTEND;TZID=Europe/Helsinki:20220425T193000
DTSTAMP:20260426T064020
CREATED:20220323T081250Z
LAST-MODIFIED:20220323T081250Z
UID:9693-1650911400-1650915000@kotikirkko.fi
SUMMARY:Ma 25.4. klo 18.30 Jippii-kerho
DESCRIPTION:Ma 25.4. klo 18.30 Jippii-kerho
URL:https://kotikirkko.fi/ohjelma/ma-25-4-klo-18-30-jippii-kerho/
END:VEVENT
BEGIN:VEVENT
DTSTART;TZID=Europe/Helsinki:20220424T160000
DTEND;TZID=Europe/Helsinki:20220424T180000
DTSTAMP:20260426T064020
CREATED:20220407T073051Z
LAST-MODIFIED:20220421T132519Z
UID:9733-1650816000-1650823200@kotikirkko.fi
SUMMARY:Su 24.4. 16.00 Romanimusiikin juhla
DESCRIPTION:Su 24.4. 16.00 Romanimusiikin juhla\, Henry ja Sanna Hedman\, Tuula Åkerlund\, Hedmanin sisarukset\, solistit ja Pentti Oikarisen orkesteri\, keräys Riihimäen romanityölle\, kahvitarjoilu
URL:https://kotikirkko.fi/ohjelma/su-24-4-16-00-romanimusiikin-konsertti-henry-hedman-tuula-ja-valfrid-akerlund/
END:VEVENT
BEGIN:VEVENT
DTSTART;TZID=Europe/Helsinki:20220423T180000
DTEND;TZID=Europe/Helsinki:20220423T230000
DTSTAMP:20260426T064020
CREATED:20220323T081104Z
LAST-MODIFIED:20220323T081104Z
UID:9690-1650736800-1650754800@kotikirkko.fi
SUMMARY:La 23.4. klo 18.00 Siivet Unelmille-tapahtuma
DESCRIPTION:La 23.4. klo 18.00 Siivet Unelmille-tapahtuma nuorille ja nuorille aikuisille. Ohjelmasta vastaa Base- ja Reset-tiimit
URL:https://kotikirkko.fi/ohjelma/la-23-4-klo-18-00-siivet-unelmille-tapahtuma/
END:VEVENT
BEGIN:VEVENT
DTSTART;TZID=Europe/Helsinki:20220420T180000
DTEND;TZID=Europe/Helsinki:20220420T190000
DTSTAMP:20260426T064020
CREATED:20220407T072914Z
LAST-MODIFIED:20220407T072944Z
UID:9730-1650477600-1650481200@kotikirkko.fi
SUMMARY:Ke 20.4. 18.00 Riihimäen Kotikirkko-yhdistys ry:n kevätkokous
DESCRIPTION:Ke 20.4. 18.00 Riihimäen Kotikirkko-yhdistys ry:n kevätkokous\, Timo Mantila
URL:https://kotikirkko.fi/ohjelma/ke-20-4-18-00-riihimaen-kotikirkko-yhdistys-ryn-kevatkokous/
END:VEVENT
BEGIN:VEVENT
DTSTART;TZID=Europe/Helsinki:20220419T180000
DTEND;TZID=Europe/Helsinki:20220419T193000
DTSTAMP:20260426T064020
CREATED:20220323T080514Z
LAST-MODIFIED:20220323T080514Z
UID:9687-1650391200-1650396600@kotikirkko.fi
SUMMARY:Ti 19.4. klo 18.00 Varkkikerho
DESCRIPTION:Ti 19.4. klo 18.00 Varkkikerho
URL:https://kotikirkko.fi/ohjelma/ti-19-4-klo-18-00-varkkikerho/
END:VEVENT
BEGIN:VEVENT
DTSTART;TZID=Europe/Helsinki:20220417T110000
DTEND;TZID=Europe/Helsinki:20220417T123000
DTSTAMP:20260426T064020
CREATED:20220407T070923Z
LAST-MODIFIED:20220411T150116Z
UID:9723-1650193200-1650198600@kotikirkko.fi
SUMMARY:Su 17.4. 11.00 Musiikkijumalanpalvelus\, Saalem-kuoro Helsingistä
DESCRIPTION:Saalem-kuorolla on pitkät\, vuosikymmenten perinteet seurakuntamusiikissa\, jumalanpalveluksissa. Olemme neliääninen kuoro ja laulamme vuorollamme sunnuntain jumalanpalveluksissa Malmin Saalemissa. Teemme myös seurakuntavierailuja. \nJohtajanamme toimii Virpi Lyytikäinen ja säestäjänä Tommi Jalo. Tilaisuudessa puhuu Heikki Alastalo
URL:https://kotikirkko.fi/ohjelma/su-17-4-11-00-musiikkijumalanpalvelus-saalem-kuoro-helsingista/
END:VEVENT
BEGIN:VEVENT
DTSTART;TZID=Europe/Helsinki:20220415T180000
DTEND;TZID=Europe/Helsinki:20220415T193000
DTSTAMP:20260426T064020
CREATED:20220407T070614Z
LAST-MODIFIED:20220411T064814Z
UID:9720-1650045600-1650051000@kotikirkko.fi
SUMMARY:Pe 15.4. 18.00 Pitkäperjantain ehtoollinen
DESCRIPTION:Pe 15.4. 18.00 Pitkäperjantain ehtoollinen\, Risto Ropo\, Jukka Nummikoski\, lauluryhmä\, lahja seniorityöntekijöille
URL:https://kotikirkko.fi/ohjelma/pe-15-4-18-00-pitkaperjantain-ehtoollinen/
END:VEVENT
BEGIN:VEVENT
DTSTART;TZID=Europe/Helsinki:20220413T180000
DTEND;TZID=Europe/Helsinki:20220413T193000
DTSTAMP:20260426T064020
CREATED:20220407T070419Z
LAST-MODIFIED:20220411T143211Z
UID:9717-1649872800-1649878200@kotikirkko.fi
SUMMARY:Ke 13.4. 18.00 Rukousilta
DESCRIPTION:Ke 13.4. 18.00 Rukousilta\, Roope Berg ja Henkka Nyman
URL:https://kotikirkko.fi/ohjelma/ke-13-4-18-00-rukousilta/
END:VEVENT
BEGIN:VEVENT
DTSTART;TZID=Europe/Helsinki:20220411T183000
DTEND;TZID=Europe/Helsinki:20220411T193000
DTSTAMP:20260426T064020
CREATED:20220323T075643Z
LAST-MODIFIED:20220323T075643Z
UID:9675-1649701800-1649705400@kotikirkko.fi
SUMMARY:Ma 11.4. klo 18.30 Jippii-kerho
DESCRIPTION:Ma 11.4. klo 18.30 Jippii-kerho
URL:https://kotikirkko.fi/ohjelma/ma-11-4-klo-18-30-jippii-kerho/
END:VEVENT
BEGIN:VEVENT
DTSTART;TZID=Europe/Helsinki:20220410T170000
DTEND;TZID=Europe/Helsinki:20220410T190000
DTSTAMP:20260426T064020
CREATED:20220407T070216Z
LAST-MODIFIED:20220409T122927Z
UID:9714-1649610000-1649617200@kotikirkko.fi
SUMMARY:Su 10.4. 17.00 Yhteisöilta
DESCRIPTION:Su 10.4. 17.00 Yhteisöilta\, Henkka ja Hanna Nyman\, Allani Rantasalo ja tiimi\, kahvitarjoilu 
URL:https://kotikirkko.fi/ohjelma/su-10-4-17-00-yhteisoilta/
END:VEVENT
BEGIN:VEVENT
DTSTART;TZID=Europe/Helsinki:20220410T110000
DTEND;TZID=Europe/Helsinki:20220410T123000
DTSTAMP:20260426T064020
CREATED:20220407T065935Z
LAST-MODIFIED:20220410T053824Z
UID:9711-1649588400-1649593800@kotikirkko.fi
SUMMARY:Su 10.4. 11.00 Lähetysjumalanpalvelus
DESCRIPTION:Su 10.4. 11.00 Lähetysjumalanpalvelus\, Minna ja Timo Mantila\, Kairos-kuoro
URL:https://kotikirkko.fi/ohjelma/su-10-4-11-00-lahetysjumalanpalvelus/
END:VEVENT
BEGIN:VEVENT
DTSTART;TZID=Europe/Helsinki:20220408T190000
DTEND;TZID=Europe/Helsinki:20220408T230000
DTSTAMP:20260426T064020
CREATED:20220323T075522Z
LAST-MODIFIED:20220323T075522Z
UID:9672-1649444400-1649458800@kotikirkko.fi
SUMMARY:Pe 8.4. klo 19.00 Nuortenilta
DESCRIPTION:Pe 8.4. klo 19.00 Nuortenilta
URL:https://kotikirkko.fi/ohjelma/pe-8-4-klo-19-00-nuortenilta/
END:VEVENT
BEGIN:VEVENT
DTSTART;TZID=Europe/Helsinki:20220406T180000
DTEND;TZID=Europe/Helsinki:20220406T193000
DTSTAMP:20260426T064020
CREATED:20220309T085615Z
LAST-MODIFIED:20220323T075314Z
UID:9643-1649268000-1649273400@kotikirkko.fi
SUMMARY:Ke 6.4. klo 18.00 Rukousilta
DESCRIPTION:Ke 6.4. klo 18.00 Rukousilta
URL:https://kotikirkko.fi/ohjelma/ma-4-4-klo-18-30-riihimaki-rukoilee-ilta-kotikirkolla-2/
END:VEVENT
BEGIN:VEVENT
DTSTART;TZID=Europe/Helsinki:20220405T180000
DTEND;TZID=Europe/Helsinki:20220405T193000
DTSTAMP:20260426T064020
CREATED:20220323T074802Z
LAST-MODIFIED:20220323T074802Z
UID:9661-1649181600-1649187000@kotikirkko.fi
SUMMARY:Ti 5.4. klo 18.00 Varkkikerho
DESCRIPTION:Ti 5.4. klo 18.00 Varkkikerho
URL:https://kotikirkko.fi/ohjelma/ti-5-4-klo-18-00-varkkikerho/
END:VEVENT
BEGIN:VEVENT
DTSTART;TZID=Europe/Helsinki:20220404T183000
DTEND;TZID=Europe/Helsinki:20220404T200000
DTSTAMP:20260426T064020
CREATED:20220309T084539Z
LAST-MODIFIED:20220309T085450Z
UID:9639-1649097000-1649102400@kotikirkko.fi
SUMMARY:Ma 4.4. klo 18.30 Riihimäki rukoilee-ilta Kotikirkolla
DESCRIPTION:Ma 4.4. klo 18.30 Riihimäki rukoilee-ilta Kotikirkolla
URL:https://kotikirkko.fi/ohjelma/ma-4-4-klo-18-30-riihimaki-rukoilee-ilta-kotikirkolla/
END:VEVENT
BEGIN:VEVENT
DTSTART;TZID=Europe/Helsinki:20220403T110000
DTEND;TZID=Europe/Helsinki:20220403T123000
DTSTAMP:20260426T064020
CREATED:20220309T084148Z
LAST-MODIFIED:20220309T084402Z
UID:9635-1648983600-1648989000@kotikirkko.fi
SUMMARY:Su 3.4. 11.00 Ehtoollisjuhla
DESCRIPTION:Su 3.4. 11.00 Ehtoollisjuhla\, Seppo Kaski\, musiikki Hanna Sipilä ja ResetBand\, kahvitarjoilu Oitin työn hyväksi
URL:https://kotikirkko.fi/ohjelma/su-3-4-11-00-ehtoollisjuhla/
END:VEVENT
BEGIN:VEVENT
DTSTART;TZID=Europe/Helsinki:20220401T190000
DTEND;TZID=Europe/Helsinki:20220401T230000
DTSTAMP:20260426T064020
CREATED:20220323T075142Z
LAST-MODIFIED:20220323T075142Z
UID:9667-1648839600-1648854000@kotikirkko.fi
SUMMARY:Pe 1.4. klo 19.00 Nuortenilta
DESCRIPTION:Pe 1.4. klo 19.00 Nuortenilta
URL:https://kotikirkko.fi/ohjelma/pe-1-4-klo-19-00-nuortenilta/
END:VEVENT
BEGIN:VEVENT
DTSTART;TZID=Europe/Helsinki:20220330T080000
DTEND;TZID=Europe/Helsinki:20220330T170000
DTSTAMP:20260426T064020
CREATED:20220309T083433Z
LAST-MODIFIED:20220309T083433Z
UID:9628-1648627200-1648659600@kotikirkko.fi
SUMMARY:Ke 30.3. 18.00 Rukousilta
DESCRIPTION:Ke 30.3. 18.00 Rukousilta\, Anja Kolehmainen\, Airi Pullinen\, Tapio Mäenpää ja rukouskävelijät
URL:https://kotikirkko.fi/ohjelma/ke-30-3-18-00-rukousilta/
END:VEVENT
BEGIN:VEVENT
DTSTART;TZID=Europe/Helsinki:20220329T180000
DTEND;TZID=Europe/Helsinki:20220329T193000
DTSTAMP:20260426T064020
CREATED:20220216T105910Z
LAST-MODIFIED:20220216T105910Z
UID:9415-1648576800-1648582200@kotikirkko.fi
SUMMARY:Ti 29.2. klo 18.00 Varkkikerho
DESCRIPTION:Ti 29.3. klo 18.00 Varkkikerho
URL:https://kotikirkko.fi/ohjelma/ti-29-2-klo-18-00-varkkikerho/
END:VEVENT
BEGIN:VEVENT
DTSTART;TZID=Europe/Helsinki:20220328T183000
DTEND;TZID=Europe/Helsinki:20220328T193000
DTSTAMP:20260426T064020
CREATED:20220323T074945Z
LAST-MODIFIED:20220323T074945Z
UID:9664-1648492200-1648495800@kotikirkko.fi
SUMMARY:Ma 28.3. klo 18.30 Jippii-kerho
DESCRIPTION:Ma 28.3. klo 18.30 Jippii-kerho 
URL:https://kotikirkko.fi/ohjelma/ma-28-3-klo-18-30-jippii-kerho/
END:VEVENT
BEGIN:VEVENT
DTSTART;TZID=Europe/Helsinki:20220327T160000
DTEND;TZID=Europe/Helsinki:20220327T180000
DTSTAMP:20260426T064020
CREATED:20220309T083707Z
LAST-MODIFIED:20220309T083918Z
UID:9631-1648396800-1648404000@kotikirkko.fi
SUMMARY:Su 27.3. 16.00 Elämän tarinoita ja musiikkia Punaisessa talossa
DESCRIPTION:Su 27.3. 16.00 Elämän tarinoita ja musiikkia Punaisessa talossa\, Allani Rantasalo ja Tiimi\, Yhteisöiltojen kuoro\, Nikolas ja Henry Hedman
URL:https://kotikirkko.fi/ohjelma/su-27-3-16-00-elaman-tarinoita-ja-musiikkia-punaisessa-talossa/
END:VEVENT
BEGIN:VEVENT
DTSTART;TZID=Europe/Helsinki:20220325T190000
DTEND;TZID=Europe/Helsinki:20220325T230000
DTSTAMP:20260426T064020
CREATED:20220216T112740Z
LAST-MODIFIED:20220216T112740Z
UID:9427-1648234800-1648249200@kotikirkko.fi
SUMMARY:Pe 25.3. klo 19.00 Nuortenilta
DESCRIPTION:Pe 25.3. klo 19.00 Nuortenilta
URL:https://kotikirkko.fi/ohjelma/pe-25-3-klo-19-00-nuortenilta/
END:VEVENT
BEGIN:VEVENT
DTSTART;TZID=Europe/Helsinki:20220323T180000
DTEND;TZID=Europe/Helsinki:20220323T193000
DTSTAMP:20260426T064020
CREATED:20220309T083137Z
LAST-MODIFIED:20220309T083157Z
UID:9624-1648058400-1648063800@kotikirkko.fi
SUMMARY:Ke 23.3. 18.00 Rukousilta
DESCRIPTION:Ke 23.3. 18.00 Rukousilta\, Nikolas Hedman ja Rebekka Antinsalo
URL:https://kotikirkko.fi/ohjelma/9624/
END:VEVENT
BEGIN:VEVENT
DTSTART;TZID=Europe/Helsinki:20220322T180000
DTEND;TZID=Europe/Helsinki:20220322T193000
DTSTAMP:20260426T064020
CREATED:20220216T105741Z
LAST-MODIFIED:20220216T105741Z
UID:9412-1647972000-1647977400@kotikirkko.fi
SUMMARY:Ti 22.3. klo 18.00 Varkkikerho
DESCRIPTION:Ti 22.3. klo 18.00 Varkkikerho
URL:https://kotikirkko.fi/ohjelma/ti-22-3-klo-18-00-varkkikerho/
END:VEVENT
BEGIN:VEVENT
DTSTART;TZID=Europe/Helsinki:20220320T110000
DTEND;TZID=Europe/Helsinki:20220320T123000
DTSTAMP:20260426T064020
CREATED:20220309T082529Z
LAST-MODIFIED:20220314T164423Z
UID:9621-1647774000-1647779400@kotikirkko.fi
SUMMARY:Su 20.3. 11.00 Jumalanpalvelus Raamattu-teemalla
DESCRIPTION:Su 20.3. 11.00 Jumalanpalvelus Raamattu-teemalla\, Hannu Uusimies\, Kari Bergman\, musiikki Martti Pesso
URL:https://kotikirkko.fi/ohjelma/su-20-3-11-00-jumalanpalvelus/
END:VEVENT
BEGIN:VEVENT
DTSTART;TZID=Europe/Helsinki:20220318T190000
DTEND;TZID=Europe/Helsinki:20220318T230000
DTSTAMP:20260426T064020
CREATED:20220216T112607Z
LAST-MODIFIED:20220216T112607Z
UID:9424-1647630000-1647644400@kotikirkko.fi
SUMMARY:Pe 18.3. klo 19.00 Nuortenilta
DESCRIPTION:Pe 18.3. klo 19.00 Nuortenilta
URL:https://kotikirkko.fi/ohjelma/pe-18-3-klo-19-00-nuortenilta/
END:VEVENT
BEGIN:VEVENT
DTSTART;TZID=Europe/Helsinki:20220316T180000
DTEND;TZID=Europe/Helsinki:20220316T193000
DTSTAMP:20260426T064020
CREATED:20211104T131017Z
LAST-MODIFIED:20220313T070306Z
UID:9038-1647453600-1647459000@kotikirkko.fi
SUMMARY:Ke 16.3. klo 18.00 Avainmedian ilta\, Veli Taivaallinen\, Niilo Närhi ja Rauno Jalavisto
DESCRIPTION:Ke 16.3. klo 18.00 Avainmedian ilta\, Veli Taivaallinen\, Niilo Närhi ja Rauno Jalavisto\, Rakkauden lahja Avainmedialle
URL:https://kotikirkko.fi/ohjelma/ke-16-3-klo-18-00-avainmedian-ilta-veli-yun-niilo-narhi/
END:VEVENT
END:VCALENDAR