BEGIN:VCALENDAR
VERSION:2.0
PRODID:-//Riihimäen Kotikirkko - ECPv6.15.20//NONSGML v1.0//EN
CALSCALE:GREGORIAN
METHOD:PUBLISH
X-ORIGINAL-URL:https://kotikirkko.fi
X-WR-CALDESC:Tapahtumat Riihimäen Kotikirkko
REFRESH-INTERVAL;VALUE=DURATION:PT1H
X-Robots-Tag:noindex
X-PUBLISHED-TTL:PT1H
BEGIN:VTIMEZONE
TZID:Europe/Helsinki
BEGIN:DAYLIGHT
TZOFFSETFROM:+0200
TZOFFSETTO:+0300
TZNAME:EEST
DTSTART:20210328T010000
END:DAYLIGHT
BEGIN:STANDARD
TZOFFSETFROM:+0300
TZOFFSETTO:+0200
TZNAME:EET
DTSTART:20211031T010000
END:STANDARD
BEGIN:DAYLIGHT
TZOFFSETFROM:+0200
TZOFFSETTO:+0300
TZNAME:EEST
DTSTART:20220327T010000
END:DAYLIGHT
BEGIN:STANDARD
TZOFFSETFROM:+0300
TZOFFSETTO:+0200
TZNAME:EET
DTSTART:20221030T010000
END:STANDARD
BEGIN:DAYLIGHT
TZOFFSETFROM:+0200
TZOFFSETTO:+0300
TZNAME:EEST
DTSTART:20230326T010000
END:DAYLIGHT
BEGIN:STANDARD
TZOFFSETFROM:+0300
TZOFFSETTO:+0200
TZNAME:EET
DTSTART:20231029T010000
END:STANDARD
BEGIN:DAYLIGHT
TZOFFSETFROM:+0200
TZOFFSETTO:+0300
TZNAME:EEST
DTSTART:20240331T010000
END:DAYLIGHT
BEGIN:STANDARD
TZOFFSETFROM:+0300
TZOFFSETTO:+0200
TZNAME:EET
DTSTART:20241027T010000
END:STANDARD
END:VTIMEZONE
BEGIN:VEVENT
DTSTART;TZID=Europe/Helsinki:20230118T180000
DTEND;TZID=Europe/Helsinki:20230118T193000
DTSTAMP:20260425T135914
CREATED:20221221T083515Z
LAST-MODIFIED:20221221T083531Z
UID:11014-1674064800-1674070200@kotikirkko.fi
SUMMARY:Ke 18.1. 18.00 Rukousilta\, Timo ja Minna Mantila
DESCRIPTION:Ke 18.1. 18.00 Rukousilta\, Timo ja Minna Mantila   
URL:https://kotikirkko.fi/ohjelma/ke-18-1-18-00-rukousilta-timo-ja-minna-mantila/
END:VEVENT
BEGIN:VEVENT
DTSTART;TZID=Europe/Helsinki:20230117T180000
DTEND;TZID=Europe/Helsinki:20230117T193000
DTSTAMP:20260425T135914
CREATED:20221125T113530Z
LAST-MODIFIED:20221125T113530Z
UID:10906-1673978400-1673983800@kotikirkko.fi
SUMMARY:Ti 17.1. klo 18.00 Varkkikerho
DESCRIPTION:Ti 17.1. klo 18.00 Varkkikerho
URL:https://kotikirkko.fi/ohjelma/ti-17-1-klo-18-00-varkkikerho/
END:VEVENT
BEGIN:VEVENT
DTSTART;TZID=Europe/Helsinki:20230115T110000
DTEND;TZID=Europe/Helsinki:20230115T123000
DTSTAMP:20260425T135914
CREATED:20221125T132324Z
LAST-MODIFIED:20230106T170156Z
UID:10919-1673780400-1673785800@kotikirkko.fi
SUMMARY:Su 15.1. 11.00 Jumalanpalvelus ja kastejuhla
DESCRIPTION:Su 15.1. 11.00 Jumalanpalvelus ja kastejuhla\, Jukka ja Pirjo Perttu\, Kotikirkon kuoro
URL:https://kotikirkko.fi/ohjelma/su-15-1-11-00-jumalanpalvelus/
END:VEVENT
BEGIN:VEVENT
DTSTART;TZID=Europe/Helsinki:20230113T190000
DTEND;TZID=Europe/Helsinki:20230113T230000
DTSTAMP:20260425T135914
CREATED:20221125T113013Z
LAST-MODIFIED:20221125T113013Z
UID:10894-1673636400-1673650800@kotikirkko.fi
SUMMARY:Pe 13.1. klo 19.00 Nuortenilta
DESCRIPTION:Pe 13.1. klo 19.00 Nuortenilta
URL:https://kotikirkko.fi/ohjelma/pe-13-1-klo-19-00-nuortenilta/
END:VEVENT
BEGIN:VEVENT
DTSTART;TZID=Europe/Helsinki:20230111T180000
DTEND;TZID=Europe/Helsinki:20230111T210000
DTSTAMP:20260425T135914
CREATED:20221221T082944Z
LAST-MODIFIED:20221221T084135Z
UID:11011-1673460000-1673470800@kotikirkko.fi
SUMMARY:Ke 11.1. 18.00 Vapaamuotoista rukousta klo 18-21\, voit osallistua oman aikataulusi mukaisesti iltaan
DESCRIPTION:Ke 11.1. 18.00 Vapaamuotoista rukousta klo 18-21\, voit osallistua oman aikataulusi mukaisesti iltaan.  
URL:https://kotikirkko.fi/ohjelma/ke-11-1-18-00-vapaamuotoista-rukousta-klo-18-21/
END:VEVENT
BEGIN:VEVENT
DTSTART;TZID=Europe/Helsinki:20230110T180000
DTEND;TZID=Europe/Helsinki:20230110T193000
DTSTAMP:20260425T135914
CREATED:20221125T113440Z
LAST-MODIFIED:20221125T113440Z
UID:10903-1673373600-1673379000@kotikirkko.fi
SUMMARY:Ti 10.1. klo 18.00 Varkkikerho
DESCRIPTION:Ti 10.1. klo 18.00 Varkkikerho
URL:https://kotikirkko.fi/ohjelma/ti-10-1-klo-18-00-varkkikerho/
END:VEVENT
BEGIN:VEVENT
DTSTART;TZID=Europe/Helsinki:20230109T180000
DTEND;TZID=Europe/Helsinki:20230109T193000
DTSTAMP:20260425T135914
CREATED:20230105T180250Z
LAST-MODIFIED:20230105T180250Z
UID:11074-1673287200-1673292600@kotikirkko.fi
SUMMARY:Ma 9.1. 18.00 Raamattukoulu\, Henry Hedman
DESCRIPTION:Ma 9.1. 18.00 Raamattukoulu\, Henry Hedman\, enakkotehtävänä lukea 1. Mooseksen kirja. \n                      Raamattukouluun tulevien on hyvä ottaa mukaan muistiinpanovälineet. 
URL:https://kotikirkko.fi/ohjelma/ma-9-1-18-00-raamattukoulu-henry-hedman/
END:VEVENT
BEGIN:VEVENT
DTSTART;TZID=Europe/Helsinki:20230108T110000
DTEND;TZID=Europe/Helsinki:20230108T123000
DTSTAMP:20260425T135914
CREATED:20221125T125703Z
LAST-MODIFIED:20221221T084452Z
UID:10913-1673175600-1673181000@kotikirkko.fi
SUMMARY:Su 8.1. 11.00 Teemajumalanpalvelus
DESCRIPTION:Su 8.1. 11.00 Teemajumalanpalvelus\, Päivi Sarjasto Ruokkikaa nälkäiset ry\, Seppo Kaski\, musiikki Suvi Helinä ja Hanna Prinkkilä
URL:https://kotikirkko.fi/ohjelma/su-8-1-11-00-jumalanpalvelus/
END:VEVENT
BEGIN:VEVENT
DTSTART;TZID=Europe/Helsinki:20230104T180000
DTEND;TZID=Europe/Helsinki:20230104T193000
DTSTAMP:20260425T135914
CREATED:20221220T152118Z
LAST-MODIFIED:20221221T084217Z
UID:10996-1672855200-1672860600@kotikirkko.fi
SUMMARY:Ke 4.1. 18.00 Rukousilta
DESCRIPTION:Ke 4.1. 18.00 Rukousilta\, Tiina Halme ja tiimi
URL:https://kotikirkko.fi/ohjelma/ke-4-1-18-00-rukousilta/
END:VEVENT
BEGIN:VEVENT
DTSTART;TZID=Europe/Helsinki:20230101T160000
DTEND;TZID=Europe/Helsinki:20230101T173000
DTSTAMP:20260425T135914
CREATED:20221121T082750Z
LAST-MODIFIED:20221231T133741Z
UID:10863-1672588800-1672594200@kotikirkko.fi
SUMMARY:Su 1.1. 16.00 Perhejumalanpalvelus ja ehtoollinen
DESCRIPTION:Su 1.1. 16.00 Perhejumalanpalvelus ja ehtoollinen\, Heidi Antinsalo\, Hannu Kulju\, Jarmo Korpilahti\, Nikolas Hedman & Jippii-ryhmä (Huomaa kellonaika!)
URL:https://kotikirkko.fi/ohjelma/su-1-1-16-00-perhejumalanpalvelus-ja-ehtoollinen/
END:VEVENT
BEGIN:VEVENT
DTSTART;TZID=Europe/Helsinki:20221231T203000
DTEND;TZID=Europe/Helsinki:20221231T223000
DTSTAMP:20260425T135914
CREATED:20221121T081719Z
LAST-MODIFIED:20221121T081719Z
UID:10861-1672518600-1672525800@kotikirkko.fi
SUMMARY: 31.12. 20.30 Musiikkijuhla
DESCRIPTION: 31.12. 20.30 Musiikkijuhla\, Dimitri Isberg\, Alida Friman\, Tuula ja Valfrid Åkerlund\, Kotikirkon solistit ja orkesteri
URL:https://kotikirkko.fi/ohjelma/31-12-20-30-musiikkijuhla/
END:VEVENT
BEGIN:VEVENT
DTSTART;TZID=Europe/Helsinki:20221231T180000
DTEND;TZID=Europe/Helsinki:20221231T193000
DTSTAMP:20260425T135914
CREATED:20221121T081529Z
LAST-MODIFIED:20221121T081529Z
UID:10858-1672509600-1672515000@kotikirkko.fi
SUMMARY:La 31.12. 18.00  Uudenvuoden vastaanottajaiset
DESCRIPTION:La 31.12. 18.00 Uudenvuoden vastaanottajaiset ja yhteisöilta\, tarjoilua \n 
URL:https://kotikirkko.fi/ohjelma/la-31-12-18-00-uudenvuoden-vastaanottajaiset/
END:VEVENT
BEGIN:VEVENT
DTSTART;TZID=Europe/Helsinki:20221228T180000
DTEND;TZID=Europe/Helsinki:20221228T190000
DTSTAMP:20260425T135914
CREATED:20221121T081257Z
LAST-MODIFIED:20221121T081351Z
UID:10855-1672250400-1672254000@kotikirkko.fi
SUMMARY:Ke 28.11. 18.00 Rukousilta
DESCRIPTION:Ke 28.11. 18.00 Rukousilta\, Nikolas Hedman ja Rebekka Antinsalo  
URL:https://kotikirkko.fi/ohjelma/ke-28-11-18-00-rukousilta/
END:VEVENT
BEGIN:VEVENT
DTSTART;TZID=Europe/Helsinki:20221221T180000
DTEND;TZID=Europe/Helsinki:20221221T190000
DTSTAMP:20260425T135914
CREATED:20221121T081025Z
LAST-MODIFIED:20221121T081025Z
UID:10852-1671645600-1671649200@kotikirkko.fi
SUMMARY:Ke 21.12. 18.00 Rukousilta
DESCRIPTION:Ke 21.12. 18.00 Rukousilta\, Israel-piiriläiset           
URL:https://kotikirkko.fi/ohjelma/ke-21-12-18-00-rukousilta/
END:VEVENT
BEGIN:VEVENT
DTSTART;TZID=Europe/Helsinki:20221218T080000
DTEND;TZID=Europe/Helsinki:20221218T170000
DTSTAMP:20260425T135914
CREATED:20221027T075732Z
LAST-MODIFIED:20221121T080720Z
UID:10784-1671350400-1671382800@kotikirkko.fi
SUMMARY:Su 18.12. 16.00 Joulujuhla
DESCRIPTION:Su 18.12. 16.00  Koko seurakunnan joulujuhla\, lasten ja nuorten ohjelmaa\, Kotikirkon kuoro ja solistit\, Jippii-ryhmä ja joulumyyjäiset
URL:https://kotikirkko.fi/ohjelma/su-18-12-16-00-joulujuhla/
END:VEVENT
BEGIN:VEVENT
DTSTART;TZID=Europe/Helsinki:20221216T190000
DTEND;TZID=Europe/Helsinki:20221216T230000
DTSTAMP:20260425T135914
CREATED:20221125T112520Z
LAST-MODIFIED:20221125T112520Z
UID:10889-1671217200-1671231600@kotikirkko.fi
SUMMARY:Pe 16.12. klo 19.00 Nuortenilta\, pikkujoulut
DESCRIPTION:Pe 16.12. klo 19.00 Nuortenilta\, pikkujoulut
URL:https://kotikirkko.fi/ohjelma/pe-16-12-klo-19-00-nuortenilta-pikkujoulut/
END:VEVENT
BEGIN:VEVENT
DTSTART;TZID=Europe/Helsinki:20221214T180000
DTEND;TZID=Europe/Helsinki:20221214T193000
DTSTAMP:20260425T135914
CREATED:20221121T080057Z
LAST-MODIFIED:20221121T080057Z
UID:10839-1671040800-1671046200@kotikirkko.fi
SUMMARY:Ke 14.12. 18.00 Rukousilta
DESCRIPTION:Ke 14.12. 18.00 Rukousilta\, Ulf Krokfors
URL:https://kotikirkko.fi/ohjelma/ke-14-12-18-00-rukousilta/
END:VEVENT
BEGIN:VEVENT
DTSTART;TZID=Europe/Helsinki:20221213T180000
DTEND;TZID=Europe/Helsinki:20221213T193000
DTSTAMP:20260425T135914
CREATED:20220912T073345Z
LAST-MODIFIED:20221125T112648Z
UID:10649-1670954400-1670959800@kotikirkko.fi
SUMMARY:Ti 13.12. klo 18 Varkkikerhon pikkujoulut
DESCRIPTION:Ti 13.12. klo 18 Varkkikerhon pikkujoulut Kotikirkolla
URL:https://kotikirkko.fi/ohjelma/pe-13-12-klo-18-varkkikerhon-pikkujoulut/
END:VEVENT
BEGIN:VEVENT
DTSTART;TZID=Europe/Helsinki:20221211T110000
DTEND;TZID=Europe/Helsinki:20221211T123000
DTSTAMP:20260425T135914
CREATED:20221107T075135Z
LAST-MODIFIED:20221121T080404Z
UID:10813-1670756400-1670761800@kotikirkko.fi
SUMMARY:Su 11.12. 11.00 Jumalanpalvelus\, Riihimäen ukrainalaiset
DESCRIPTION:Su 11.12. 11.00 Jumalanpalvelus\, Pavel Moskalenko ja Riihimäen ukrainalaiset
URL:https://kotikirkko.fi/ohjelma/su-11-12-11-00-jumalanpalvelus-riihimaen-ukrainalaiset/
END:VEVENT
BEGIN:VEVENT
DTSTART;TZID=Europe/Helsinki:20221209T190000
DTEND;TZID=Europe/Helsinki:20221209T230000
DTSTAMP:20260425T135914
CREATED:20221125T112336Z
LAST-MODIFIED:20221125T112336Z
UID:10886-1670612400-1670626800@kotikirkko.fi
SUMMARY:Pe 9.12. klo 19.00 Nuortenilta
DESCRIPTION:Pe 9.12. klo 19.00 Nuortenilta
URL:https://kotikirkko.fi/ohjelma/pe-9-12-klo-19-00-nuortenilta/
END:VEVENT
BEGIN:VEVENT
DTSTART;TZID=Europe/Helsinki:20221207T180000
DTEND;TZID=Europe/Helsinki:20221207T193000
DTSTAMP:20260425T135914
CREATED:20221027T080103Z
LAST-MODIFIED:20221107T080019Z
UID:10790-1670436000-1670441400@kotikirkko.fi
SUMMARY:Ke 7.12. 18.00 Rukousilta
DESCRIPTION:Ke 7.12. 18.00 Rukousilta\, Henkka Nyman ja Robert Berg
URL:https://kotikirkko.fi/ohjelma/ke-7-12-18-00-rukousilta/
END:VEVENT
BEGIN:VEVENT
DTSTART;TZID=Europe/Helsinki:20221205T183000
DTEND;TZID=Europe/Helsinki:20221205T193000
DTSTAMP:20260425T135914
CREATED:20221121T075821Z
LAST-MODIFIED:20221125T134254Z
UID:10836-1670265000-1670268600@kotikirkko.fi
SUMMARY:Ma 5.12. 18.30 Riihimäki rukoilee-ilta Kotikirkolla
DESCRIPTION:Ma 5.12. 18.30 Riihimäki rukoilee-ilta Kotikirkolla\, Heidi Antinsalo\, Seppo Kaski\, Tapio Mäenpää
URL:https://kotikirkko.fi/ohjelma/ma-5-12-18-30-riihimaki-rukoilee-ilta-kotikirkolla/
END:VEVENT
BEGIN:VEVENT
DTSTART;TZID=Europe/Helsinki:20221204T110000
DTEND;TZID=Europe/Helsinki:20221204T123000
DTSTAMP:20260425T135914
CREATED:20221027T075521Z
LAST-MODIFIED:20221121T080253Z
UID:10781-1670151600-1670157000@kotikirkko.fi
SUMMARY:Su 4.12. 11.00 Ehtoollisjuhla
DESCRIPTION:Su 4.12. 11.00 Ehtoollisjuhla\, Seppo Kaski\, Jukka Nummikoski\, Kotikirkon kuoro\, Henry Hedman\, pyhäkoulu\, kahvitarjoilu ja joulumyyjäiset \n 
URL:https://kotikirkko.fi/ohjelma/su-4-12-11-00-ehtoollisjuhla/
END:VEVENT
BEGIN:VEVENT
DTSTART;TZID=Europe/Helsinki:20221202T190000
DTEND;TZID=Europe/Helsinki:20221202T230000
DTSTAMP:20260425T135914
CREATED:20220912T070454Z
LAST-MODIFIED:20220912T070454Z
UID:10624-1670007600-1670022000@kotikirkko.fi
SUMMARY:Pe 2.12. klo 19.00 Nuortenilta
DESCRIPTION:Pe 2.12. klo 19.00 Nuortenilta Kotikirkolla
URL:https://kotikirkko.fi/ohjelma/pe-4-11-klo-19-00-nuortenilta-2-2-2-2/
END:VEVENT
BEGIN:VEVENT
DTSTART;TZID=Europe/Helsinki:20221130T180000
DTEND;TZID=Europe/Helsinki:20221130T193000
DTSTAMP:20260425T135914
CREATED:20220830T071034Z
LAST-MODIFIED:20221027T075307Z
UID:10506-1669831200-1669836600@kotikirkko.fi
SUMMARY:Ke 30.11. 18.00 Rukousilta
DESCRIPTION:Ke 30.11. 18.00 Rukousilta\, Jukka ja Paula Nummikoski
URL:https://kotikirkko.fi/ohjelma/ke-30-11-18-00-rukousilta-2/
END:VEVENT
BEGIN:VEVENT
DTSTART;TZID=Europe/Helsinki:20221127T160000
DTEND;TZID=Europe/Helsinki:20221127T173000
DTSTAMP:20260425T135914
CREATED:20220830T071749Z
LAST-MODIFIED:20221027T074349Z
UID:10512-1669564800-1669570200@kotikirkko.fi
SUMMARY:Su 27.11. 16.00 Matinsalin musiikki-ilta
DESCRIPTION:Su 27.11. 16.00 Matinsalin musiikki-ilta\, Jaana Pöllänen & Ville Uusitalo \n \n 
URL:https://kotikirkko.fi/ohjelma/su-16-10-16-00-matinsalin-musiikki-ilta/
END:VEVENT
BEGIN:VEVENT
DTSTART;TZID=Europe/Helsinki:20221125T190000
DTEND;TZID=Europe/Helsinki:20221125T230000
DTSTAMP:20260425T135914
CREATED:20220912T070350Z
LAST-MODIFIED:20221125T112106Z
UID:10621-1669402800-1669417200@kotikirkko.fi
SUMMARY:Pe 25.11. klo 20.00 Nuortenilta
DESCRIPTION:Pe 25.11. klo 18.00 Joulutapahtuma Vanhalla torilla\, jonka jälkeen klo 20.00 Nuortenilta
URL:https://kotikirkko.fi/ohjelma/pe-4-11-klo-19-00-nuortenilta-2-2-2/
END:VEVENT
BEGIN:VEVENT
DTSTART;TZID=Europe/Helsinki:20221123T180000
DTEND;TZID=Europe/Helsinki:20221123T193000
DTSTAMP:20260425T135914
CREATED:20220830T065902Z
LAST-MODIFIED:20221121T074626Z
UID:10493-1669226400-1669231800@kotikirkko.fi
SUMMARY:Ke 23.11. 18.00 Rukousilta
DESCRIPTION:Ke 23.11. 18.00 Rukousilta\, Nikolas Hedman\, Heidi Antinsalo
URL:https://kotikirkko.fi/ohjelma/ke-23-11-18-00-rukousilta/
END:VEVENT
BEGIN:VEVENT
DTSTART;TZID=Europe/Helsinki:20221122T180000
DTEND;TZID=Europe/Helsinki:20221122T193000
DTSTAMP:20260425T135914
CREATED:20220912T071844Z
LAST-MODIFIED:20220912T071844Z
UID:10641-1669140000-1669145400@kotikirkko.fi
SUMMARY:Ti 22.11. klo 18 Varkkikerho
DESCRIPTION:Ti 22.11. klo 18 Varkkikerho Kotikirkolla
URL:https://kotikirkko.fi/ohjelma/ti-11-10-klo-18-varkkikerho-2-2-2-2/
END:VEVENT
BEGIN:VEVENT
DTSTART;TZID=Europe/Helsinki:20221120T110000
DTEND;TZID=Europe/Helsinki:20221120T123000
DTSTAMP:20260425T135914
CREATED:20220830T071338Z
LAST-MODIFIED:20220830T071355Z
UID:10509-1668942000-1668947400@kotikirkko.fi
SUMMARY:Su 20.11. 11.00 Jumalanpalvelus
DESCRIPTION:Su 20.11. 11.00 Jumalanpalvelus\, Mari Palomäki\, Timo Mantila
URL:https://kotikirkko.fi/ohjelma/su-20-11-11-00-jumalanpalvelus/
END:VEVENT
END:VCALENDAR