BEGIN:VCALENDAR
VERSION:2.0
PRODID:-//Riihimäen Kotikirkko - ECPv6.15.20//NONSGML v1.0//EN
CALSCALE:GREGORIAN
METHOD:PUBLISH
X-WR-CALNAME:Riihimäen Kotikirkko
X-ORIGINAL-URL:https://kotikirkko.fi
X-WR-CALDESC:Tapahtumat Riihimäen Kotikirkko
REFRESH-INTERVAL;VALUE=DURATION:PT1H
X-Robots-Tag:noindex
X-PUBLISHED-TTL:PT1H
BEGIN:VTIMEZONE
TZID:Europe/Helsinki
BEGIN:DAYLIGHT
TZOFFSETFROM:+0200
TZOFFSETTO:+0300
TZNAME:EEST
DTSTART:20220327T010000
END:DAYLIGHT
BEGIN:STANDARD
TZOFFSETFROM:+0300
TZOFFSETTO:+0200
TZNAME:EET
DTSTART:20221030T010000
END:STANDARD
BEGIN:DAYLIGHT
TZOFFSETFROM:+0200
TZOFFSETTO:+0300
TZNAME:EEST
DTSTART:20230326T010000
END:DAYLIGHT
BEGIN:STANDARD
TZOFFSETFROM:+0300
TZOFFSETTO:+0200
TZNAME:EET
DTSTART:20231029T010000
END:STANDARD
BEGIN:DAYLIGHT
TZOFFSETFROM:+0200
TZOFFSETTO:+0300
TZNAME:EEST
DTSTART:20240331T010000
END:DAYLIGHT
BEGIN:STANDARD
TZOFFSETFROM:+0300
TZOFFSETTO:+0200
TZNAME:EET
DTSTART:20241027T010000
END:STANDARD
END:VTIMEZONE
BEGIN:VEVENT
DTSTART;TZID=Europe/Helsinki:20230712T180000
DTEND;TZID=Europe/Helsinki:20230712T193000
DTSTAMP:20260421T014936
CREATED:20230510T114501Z
LAST-MODIFIED:20230510T114501Z
UID:11684-1689184800-1689190200@kotikirkko.fi
SUMMARY:Ke 12.7. klo 18.00 Rukousilta
DESCRIPTION:Ke 12.7. klo 18.00 Rukousilta
URL:https://kotikirkko.fi/ohjelma/ke-21-6-klo-18-00-rukousilta-2-2-2/
END:VEVENT
BEGIN:VEVENT
DTSTART;TZID=Europe/Helsinki:20230709T110000
DTEND;TZID=Europe/Helsinki:20230709T123000
DTSTAMP:20260421T014936
CREATED:20230425T064218Z
LAST-MODIFIED:20230706T073736Z
UID:11583-1688900400-1688905800@kotikirkko.fi
SUMMARY:Su 9.7. 11.00 Musiikkijumalanpalvelus
DESCRIPTION:Su 9.7. klo 11.00 Musiikkijumalanpalvelus\, Ulf Krokfors\, Elina ja Heikki Uusikylä
URL:https://kotikirkko.fi/ohjelma/su-9-7-klo-11-00-jumalanpalvelus/
END:VEVENT
BEGIN:VEVENT
DTSTART;TZID=Europe/Helsinki:20230705T180000
DTEND;TZID=Europe/Helsinki:20230705T193000
DTSTAMP:20260421T014936
CREATED:20230510T114426Z
LAST-MODIFIED:20230510T114426Z
UID:11681-1688580000-1688585400@kotikirkko.fi
SUMMARY:Ke 5.7. klo 18.00 Rukousilta
DESCRIPTION:Ke 5.7. klo 18.00 Rukousilta
URL:https://kotikirkko.fi/ohjelma/ke-21-6-klo-18-00-rukousilta-2-2/
END:VEVENT
BEGIN:VEVENT
DTSTART;TZID=Europe/Helsinki:20230702T110000
DTEND;TZID=Europe/Helsinki:20230702T123000
DTSTAMP:20260421T014936
CREATED:20230425T063900Z
LAST-MODIFIED:20230425T063958Z
UID:11580-1688295600-1688301000@kotikirkko.fi
SUMMARY:Su 2.7. klo 11.00 Ehtoollisjuhla
DESCRIPTION:Su 2.7. klo 11.00 Ehtoollisjuhla\, Erkki Karvanen\, Seppo Kaski\, Raamattuleiriläisiä
URL:https://kotikirkko.fi/ohjelma/su-2-7-klo-11-00-ehtoollisjuhla-2/
END:VEVENT
BEGIN:VEVENT
DTSTART;TZID=Europe/Helsinki:20230628T180000
DTEND;TZID=Europe/Helsinki:20230628T193000
DTSTAMP:20260421T014936
CREATED:20230510T114348Z
LAST-MODIFIED:20230511T133641Z
UID:11678-1687975200-1687980600@kotikirkko.fi
SUMMARY:Ke 28.6. klo 18.00 Rukousilta
DESCRIPTION:Ke 28.6. klo 18.00 Rukousilta\, Terttu Korsman
URL:https://kotikirkko.fi/ohjelma/ke-21-6-klo-18-00-rukousilta-2/
END:VEVENT
BEGIN:VEVENT
DTSTART;TZID=Europe/Helsinki:20230625T110000
DTEND;TZID=Europe/Helsinki:20230625T123000
DTSTAMP:20260421T014936
CREATED:20230425T063517Z
LAST-MODIFIED:20230425T070818Z
UID:11577-1687690800-1687696200@kotikirkko.fi
SUMMARY:Su 28.6. klo 11.00 Juhannuskonferenssin lähetys Usko-TV:n kanavalla
DESCRIPTION:Su 28.6. klo 11.00 Juhannuskonferenssin lähetys Usko-TV:n kanavalla
URL:https://kotikirkko.fi/ohjelma/su-28-6-klo-11-00-juhannuskonferenssin-lahetys-usko-tvn-kanavalla/
END:VEVENT
BEGIN:VEVENT
DTSTART;TZID=Europe/Helsinki:20230621T180000
DTEND;TZID=Europe/Helsinki:20230621T193000
DTSTAMP:20260421T014936
CREATED:20230507T185322Z
LAST-MODIFIED:20230511T133603Z
UID:11671-1687370400-1687375800@kotikirkko.fi
SUMMARY:Ke 21.6. klo 18.00 Rukousilta
DESCRIPTION:Ke 21.6. klo 18.00 Rukousilta\, Anja Kolehmainen\, Tiina Halme
URL:https://kotikirkko.fi/ohjelma/ke-21-6-klo-18-00-rukousilta/
END:VEVENT
BEGIN:VEVENT
DTSTART;TZID=Europe/Helsinki:20230618T110000
DTEND;TZID=Europe/Helsinki:20230618T123000
DTSTAMP:20260421T014936
CREATED:20230425T062736Z
LAST-MODIFIED:20230425T063227Z
UID:11574-1687086000-1687091400@kotikirkko.fi
SUMMARY:Su 18.6. klo 11.00 Teemajumalanpalvelus
DESCRIPTION:Su 18.6. klo 11.00 Teemajumalanpalvelus\, Leena Pihlainen ja opetuslapseuskoululaiset
URL:https://kotikirkko.fi/ohjelma/su-18-6-klo-11-00-teemajumalanpalvelus-2/
END:VEVENT
BEGIN:VEVENT
DTSTART;TZID=Europe/Helsinki:20230615T180000
DTEND;TZID=Europe/Helsinki:20230615T193000
DTSTAMP:20260421T014936
CREATED:20230502T062100Z
LAST-MODIFIED:20230502T062100Z
UID:11653-1686852000-1686857400@kotikirkko.fi
SUMMARY:To 15.6. 18.00 Israel-ilta\, Malcolm Hedding ICEJ:stä
DESCRIPTION:To 15.6. 18.00 Israel-ilta\, vieraana Malcolm Hedding ICEJ:n  kansainvälinen puhemies\, Jukka Nummikoski
URL:https://kotikirkko.fi/ohjelma/to-15-6-18-00-israel-ilta-malcolm-hedding-icejsta/
END:VEVENT
BEGIN:VEVENT
DTSTART;TZID=Europe/Helsinki:20230614T180000
DTEND;TZID=Europe/Helsinki:20230614T193000
DTSTAMP:20260421T014936
CREATED:20230507T185109Z
LAST-MODIFIED:20230507T185109Z
UID:11668-1686765600-1686771000@kotikirkko.fi
SUMMARY:Ke 14.6. klo 18.00 Rukousilta
DESCRIPTION:Ke 14.6. klo 18.00 Rukousilta\, Johanna Sandbergin aiheena armolahjat käyttöön
URL:https://kotikirkko.fi/ohjelma/ke-14-6-klo-18-00-rukousilta/
END:VEVENT
BEGIN:VEVENT
DTSTART;TZID=Europe/Helsinki:20230611T160000
DTEND;TZID=Europe/Helsinki:20230611T173000
DTSTAMP:20260421T014936
CREATED:20230418T090851Z
LAST-MODIFIED:20230521T144012Z
UID:11450-1686499200-1686504600@kotikirkko.fi
SUMMARY:Su 11.6. klo 16.00 Jumalanpalvelus
DESCRIPTION:Su 11.6. klo 16.00 Jumalanpalvelus\, Sanna Hedman\, Rebekka Hedman\, musiikki Nikolas Hedman
URL:https://kotikirkko.fi/ohjelma/su-11-6-klo-11-00-jumalanpalvelus/
END:VEVENT
BEGIN:VEVENT
DTSTART;TZID=Europe/Helsinki:20230609T190000
DTEND;TZID=Europe/Helsinki:20230609T230000
DTSTAMP:20260421T014936
CREATED:20230510T115105Z
LAST-MODIFIED:20230510T115105Z
UID:11698-1686337200-1686351600@kotikirkko.fi
SUMMARY:Pe 9.6. klo 19.00 Nuortenilta
DESCRIPTION:Pe 9.6. klo 19.00 Nuortenilta
URL:https://kotikirkko.fi/ohjelma/pe-9-6-klo-19-00-nuortenilta/
END:VEVENT
BEGIN:VEVENT
DTSTART;TZID=Europe/Helsinki:20230607T180000
DTEND;TZID=Europe/Helsinki:20230607T193000
DTSTAMP:20260421T014936
CREATED:20230425T072420Z
LAST-MODIFIED:20230507T184819Z
UID:11617-1686160800-1686166200@kotikirkko.fi
SUMMARY:Ke 7.6. klo 18.00 Rukousilta
DESCRIPTION:Ke 7.6. klo 18.00 Rukousilta\, Ulla Korpilahti
URL:https://kotikirkko.fi/ohjelma/ke-18-00-rukousilta/
END:VEVENT
BEGIN:VEVENT
DTSTART;TZID=Europe/Helsinki:20230604T110000
DTEND;TZID=Europe/Helsinki:20230604T123000
DTSTAMP:20260421T014936
CREATED:20230418T090217Z
LAST-MODIFIED:20230515T182214Z
UID:11447-1685876400-1685881800@kotikirkko.fi
SUMMARY:Su 4.6. klo 11.00 Ehtoollisjuhla
DESCRIPTION:Su 4.6. klo 11.00 Ehtoollisjuhla\, Pyhä Henki kirkastaa Kristuksen\, Jukka Perttu\, Seppo Kaski\, Kotikirkon kuoro\,kahvitarjoilu
URL:https://kotikirkko.fi/ohjelma/su-4-6-klo-11-00-ehtoollisjuhla/
END:VEVENT
BEGIN:VEVENT
DTSTART;TZID=Europe/Helsinki:20230603T140000
DTEND;TZID=Europe/Helsinki:20230603T230000
DTSTAMP:20260421T014936
CREATED:20230428T074157Z
LAST-MODIFIED:20230428T074157Z
UID:11645-1685800800-1685833200@kotikirkko.fi
SUMMARY:La 3.6. klo 14 Nuortenleiri
DESCRIPTION:La 3.6. klo 12 Nuortenleiri Valkjärven leirikeskuksessa. Lisätietoja Heidi 050 4709970
URL:https://kotikirkko.fi/ohjelma/la-3-6-klo-14-nuortenleiri/
END:VEVENT
BEGIN:VEVENT
DTSTART;TZID=Europe/Helsinki:20230531T180000
DTEND;TZID=Europe/Helsinki:20230531T193000
DTSTAMP:20260421T014936
CREATED:20230418T091913Z
LAST-MODIFIED:20230418T092321Z
UID:11460-1685556000-1685561400@kotikirkko.fi
SUMMARY:Ke 31.5. klo 18:00 Rukousilta
DESCRIPTION:Ke 31.5. klo 18:00 Rukousilta\, Anna-Liisa Liljefors
URL:https://kotikirkko.fi/ohjelma/ke-31-5-klo-1800-rukousilta/
END:VEVENT
BEGIN:VEVENT
DTSTART;TZID=Europe/Helsinki:20230528T110000
DTEND;TZID=Europe/Helsinki:20230528T123000
DTSTAMP:20260421T014936
CREATED:20230418T084646Z
LAST-MODIFIED:20230418T092454Z
UID:11444-1685271600-1685277000@kotikirkko.fi
SUMMARY:Su 28.5. klo 11.00 Teemajumalanpalvelus
DESCRIPTION:Su 28.5. klo 11.00 Teemajumalanpalvelus\, armolahjat\, Pirjo Perttu\, Heidi ja Mikael Antinsalo\, pyhäkoulu
URL:https://kotikirkko.fi/ohjelma/su-28-5-klo-11-00-teemajumalanpalvelus/
END:VEVENT
BEGIN:VEVENT
DTSTART;TZID=Europe/Helsinki:20230526T190000
DTEND;TZID=Europe/Helsinki:20230526T230000
DTSTAMP:20260421T014936
CREATED:20230428T073624Z
LAST-MODIFIED:20230428T073624Z
UID:11642-1685127600-1685142000@kotikirkko.fi
SUMMARY:Pe 26.5. klo 19.00 Nuortenilta
DESCRIPTION:Pe 26.5. klo 19.00 Nuortenilta
URL:https://kotikirkko.fi/ohjelma/pe-26-5-klo-19-00-nuortenilta/
END:VEVENT
BEGIN:VEVENT
DTSTART;TZID=Europe/Helsinki:20230524T180000
DTEND;TZID=Europe/Helsinki:20230524T193000
DTSTAMP:20260421T014936
CREATED:20230418T091522Z
LAST-MODIFIED:20230418T091750Z
UID:11456-1684951200-1684956600@kotikirkko.fi
SUMMARY:Ke 24.5. klo 18:00 Rukousilta
DESCRIPTION:Ke 24.5. klo 18:00 Rukousilta\, Tiina Halme
URL:https://kotikirkko.fi/ohjelma/ke-24-5-klo-1800-rukousilta/
END:VEVENT
BEGIN:VEVENT
DTSTART;TZID=Europe/Helsinki:20230521T110000
DTEND;TZID=Europe/Helsinki:20230521T123000
DTSTAMP:20260421T014936
CREATED:20230418T084042Z
LAST-MODIFIED:20230519T062352Z
UID:11441-1684666800-1684672200@kotikirkko.fi
SUMMARY:Su 21.5. klo 11.00 Teemajumalanpalvelus
DESCRIPTION:Su 21.5. klo 11.00 Teemajumalanpalvelus\, Raamattu ja Pyhä Henki\, Timo Mantila\, Jukka Perttu\, musiikki Mikko ja Minna Ilomäki\, pyhäkoulu
URL:https://kotikirkko.fi/ohjelma/su-21-4-klo-11-00-teemajumalanpalvelus/
END:VEVENT
BEGIN:VEVENT
DTSTART;TZID=Europe/Helsinki:20230517T180000
DTEND;TZID=Europe/Helsinki:20230517T193000
DTSTAMP:20260421T014936
CREATED:20230418T091332Z
LAST-MODIFIED:20230418T091332Z
UID:11453-1684346400-1684351800@kotikirkko.fi
SUMMARY:Ke 17.5. klo 18:00 Rukousilta
DESCRIPTION:Ke 17.5. klo 18:00 Rukousilta\, Allani Rantasalo
URL:https://kotikirkko.fi/ohjelma/ke-17-5-klo-1800-rukousilta/
END:VEVENT
BEGIN:VEVENT
DTSTART;TZID=Europe/Helsinki:20230516T180000
DTEND;TZID=Europe/Helsinki:20230516T193000
DTSTAMP:20260421T014936
CREATED:20230428T073116Z
LAST-MODIFIED:20230428T073116Z
UID:11639-1684260000-1684265400@kotikirkko.fi
SUMMARY:Ti 16.5. klo 18.00 Varkkikerho
DESCRIPTION:Ti 16.5. klo 18.00 varkkikerhon kevätretki. Lisätietoja Heidiltä 050 4709970.
URL:https://kotikirkko.fi/ohjelma/ti-16-5-klo-18-00-varkkikerho/
END:VEVENT
BEGIN:VEVENT
DTSTART;TZID=Europe/Helsinki:20230514T110000
DTEND;TZID=Europe/Helsinki:20230514T123000
DTSTAMP:20260421T014936
CREATED:20230414T150906Z
LAST-MODIFIED:20230425T061938Z
UID:11420-1684062000-1684067400@kotikirkko.fi
SUMMARY:Su 14.5. 11.00 Teemajumalanpalvelus\, Hengen virat seurakunnassa
DESCRIPTION:Su 14.5. 11.00 Teemajumalanpalvelus\, Hengen virat seurakunnassa\, Martti Ahvenainen\, Allani Rantasalo\, musiikki Henry Hedman \n \n  \n 
URL:https://kotikirkko.fi/ohjelma/su-14-5-11-00-teemajumalanpalvelus-martti-ahvenainen-allani-rantasalo/
END:VEVENT
BEGIN:VEVENT
DTSTART;TZID=Europe/Helsinki:20230512T190000
DTEND;TZID=Europe/Helsinki:20230512T230000
DTSTAMP:20260421T014936
CREATED:20230428T072822Z
LAST-MODIFIED:20230428T072822Z
UID:11636-1683918000-1683932400@kotikirkko.fi
SUMMARY:Pe 12.5. klo 19.00 Nuortenilta
DESCRIPTION:Pe 12.5. klo 19.00 Nuortenilta
URL:https://kotikirkko.fi/ohjelma/pe-12-5-klo-19-00-nuortenilta/
END:VEVENT
BEGIN:VEVENT
DTSTART;TZID=Europe/Helsinki:20230510T180000
DTEND;TZID=Europe/Helsinki:20230510T193000
DTSTAMP:20260421T014936
CREATED:20230418T082645Z
LAST-MODIFIED:20230418T082645Z
UID:11437-1683741600-1683747000@kotikirkko.fi
SUMMARY:Ke 10.5. klo 18.00 Rukousilta
DESCRIPTION:Ke 10.5. klo 18.00 Rukousilta\, Suvi Hyytinen
URL:https://kotikirkko.fi/ohjelma/ke-10-5-klo-18-00-rukousilta/
END:VEVENT
BEGIN:VEVENT
DTSTART;TZID=Europe/Helsinki:20230509T180000
DTEND;TZID=Europe/Helsinki:20230509T193000
DTSTAMP:20260421T014936
CREATED:20230428T072517Z
LAST-MODIFIED:20230428T072517Z
UID:11633-1683655200-1683660600@kotikirkko.fi
SUMMARY:Ti 9.5. klo 18.00 Varkkikerho
DESCRIPTION:Ti 9.5. klo 18.00 Varkkikerho
URL:https://kotikirkko.fi/ohjelma/ti-9-5-klo-18-00-varkkikerho/
END:VEVENT
BEGIN:VEVENT
DTSTART;TZID=Europe/Helsinki:20230507T160000
DTEND;TZID=Europe/Helsinki:20230507T173000
DTSTAMP:20260421T014936
CREATED:20230320T175430Z
LAST-MODIFIED:20230502T071720Z
UID:11376-1683475200-1683480600@kotikirkko.fi
SUMMARY:Su 7.5. 16.00 Perhe- ja ehtoollisjuhla
DESCRIPTION:Su 7.5. 16.00 Perhe- ja ehtoollisjuhla\, Pyhän Hengen työ meissä\, Minna Mantila\, Ari Juntunen\, Jippii-ryhmä\, musiikki Nikolas\, Hanna & Co\, pyhäkoulu\, kahvitarjoilu ja aktioletut
URL:https://kotikirkko.fi/ohjelma/su-7-5-16-00-perhe-ja-ehtoollisjuhla/
END:VEVENT
BEGIN:VEVENT
DTSTART;TZID=Europe/Helsinki:20230505T190000
DTEND;TZID=Europe/Helsinki:20230505T230000
DTSTAMP:20260421T014936
CREATED:20230326T103045Z
LAST-MODIFIED:20230326T103045Z
UID:11394-1683313200-1683327600@kotikirkko.fi
SUMMARY:Pe 5.5. klo 19.00 Nuortenilta
DESCRIPTION:Pe 5.5. klo 19.00 Nuortenilta
URL:https://kotikirkko.fi/ohjelma/pe-5-5-klo-19-00-nuortenilta/
END:VEVENT
BEGIN:VEVENT
DTSTART;TZID=Europe/Helsinki:20230503T180000
DTEND;TZID=Europe/Helsinki:20230503T193000
DTSTAMP:20260421T014936
CREATED:20230418T082231Z
LAST-MODIFIED:20230418T082231Z
UID:11432-1683136800-1683142200@kotikirkko.fi
SUMMARY:Ke 3.5. klo 18.00 Rukousilta
DESCRIPTION:Ke 3.5. klo 18.00 Rukousilta\, Seppo Kaski
URL:https://kotikirkko.fi/ohjelma/ke-3-5-klo-18-00-rukousilta/
END:VEVENT
BEGIN:VEVENT
DTSTART;TZID=Europe/Helsinki:20230502T180000
DTEND;TZID=Europe/Helsinki:20230502T193000
DTSTAMP:20260421T014936
CREATED:20230428T072121Z
LAST-MODIFIED:20230428T072121Z
UID:11630-1683050400-1683055800@kotikirkko.fi
SUMMARY:Ti 2.5. klo 18.00 Varkkikerho
DESCRIPTION:Ti 2.5. klo 18.00 Jippii-varkkikerho
URL:https://kotikirkko.fi/ohjelma/ti-2-5-klo-18-00-varkkikerho/
END:VEVENT
END:VCALENDAR