BEGIN:VCALENDAR
VERSION:2.0
PRODID:-//Riihimäen Kotikirkko - ECPv6.15.20//NONSGML v1.0//EN
CALSCALE:GREGORIAN
METHOD:PUBLISH
X-ORIGINAL-URL:https://kotikirkko.fi
X-WR-CALDESC:Tapahtumat Riihimäen Kotikirkko
REFRESH-INTERVAL;VALUE=DURATION:PT1H
X-Robots-Tag:noindex
X-PUBLISHED-TTL:PT1H
BEGIN:VTIMEZONE
TZID:Europe/Helsinki
BEGIN:DAYLIGHT
TZOFFSETFROM:+0200
TZOFFSETTO:+0300
TZNAME:EEST
DTSTART:20220327T010000
END:DAYLIGHT
BEGIN:STANDARD
TZOFFSETFROM:+0300
TZOFFSETTO:+0200
TZNAME:EET
DTSTART:20221030T010000
END:STANDARD
BEGIN:DAYLIGHT
TZOFFSETFROM:+0200
TZOFFSETTO:+0300
TZNAME:EEST
DTSTART:20230326T010000
END:DAYLIGHT
BEGIN:STANDARD
TZOFFSETFROM:+0300
TZOFFSETTO:+0200
TZNAME:EET
DTSTART:20231029T010000
END:STANDARD
BEGIN:DAYLIGHT
TZOFFSETFROM:+0200
TZOFFSETTO:+0300
TZNAME:EEST
DTSTART:20240331T010000
END:DAYLIGHT
BEGIN:STANDARD
TZOFFSETFROM:+0300
TZOFFSETTO:+0200
TZNAME:EET
DTSTART:20241027T010000
END:STANDARD
END:VTIMEZONE
BEGIN:VEVENT
DTSTART;TZID=Europe/Helsinki:20230910T160000
DTEND;TZID=Europe/Helsinki:20230910T180000
DTSTAMP:20260420T221915
CREATED:20230725T074103Z
LAST-MODIFIED:20230831T052732Z
UID:11866-1694361600-1694368800@kotikirkko.fi
SUMMARY:Su 10.9. 16.00 Teemana pienryhmät
DESCRIPTION:Su 10.9. 16.00 Teemana pienryhmät\, opettajina Maarit ja Jouko Pynnönen\, Ari Juntunen\, musiikki Miku Antinsalo\, pyhäkoulu
URL:https://kotikirkko.fi/ohjelma/su-10-9-16-00-teemana-pienryhmat/
END:VEVENT
BEGIN:VEVENT
DTSTART;TZID=Europe/Helsinki:20230908T180000
DTEND;TZID=Europe/Helsinki:20230908T220000
DTSTAMP:20260420T221915
CREATED:20230808T061947Z
LAST-MODIFIED:20230831T053008Z
UID:11908-1694196000-1694210400@kotikirkko.fi
SUMMARY:Pe 8.9. klo 18.00 Taiteiden yö\, BaseCafe
DESCRIPTION:Pe 8.9. klo 18.00 Taiteiden yö BaseCafessa
URL:https://kotikirkko.fi/ohjelma/pe-8-9-klo-20-00-nuortenilta/
END:VEVENT
BEGIN:VEVENT
DTSTART;TZID=Europe/Helsinki:20230906T180000
DTEND;TZID=Europe/Helsinki:20230906T193000
DTSTAMP:20260420T221915
CREATED:20230831T145003Z
LAST-MODIFIED:20230831T145003Z
UID:11984-1694023200-1694028600@kotikirkko.fi
SUMMARY:Ke 6.9. 18.00 Rukousilta
DESCRIPTION:Ke 6.9. 18.00 Rukousilta\, Tiina Halme ja Anja Kolehmainen
URL:https://kotikirkko.fi/ohjelma/ke-6-9-18-00-rukousilta/
END:VEVENT
BEGIN:VEVENT
DTSTART;TZID=Europe/Helsinki:20230905T183000
DTEND;TZID=Europe/Helsinki:20230905T200000
DTSTAMP:20260420T221915
CREATED:20230808T060554Z
LAST-MODIFIED:20230831T052601Z
UID:11896-1693938600-1693944000@kotikirkko.fi
SUMMARY:Ti 5.9. klo 18.30 Varkkikerho
DESCRIPTION:Ti 5.9. klo 18.30 Varkkikerho 9-12-vuotiaille Kotikirkon alakerrassa.
URL:https://kotikirkko.fi/ohjelma/ti-5-9-klo-18-00-varkkikerho/
END:VEVENT
BEGIN:VEVENT
DTSTART;TZID=Europe/Helsinki:20230904T183000
DTEND;TZID=Europe/Helsinki:20230904T193000
DTSTAMP:20260420T221915
CREATED:20230831T144636Z
LAST-MODIFIED:20230831T144636Z
UID:11981-1693852200-1693855800@kotikirkko.fi
SUMMARY:Ma 4.9. 18.30 Riihimäki rukoilee-ilta
DESCRIPTION:Ma 4.9. 18.30 Riihimäki rukoilee-ilta\, Seppo ja Anne Kaski
URL:https://kotikirkko.fi/ohjelma/ma-4-9-18-30-riihimaki-rukoilee-ilta/
END:VEVENT
BEGIN:VEVENT
DTSTART;TZID=Europe/Helsinki:20230903T160000
DTEND;TZID=Europe/Helsinki:20230903T173000
DTSTAMP:20260420T221915
CREATED:20230725T072227Z
LAST-MODIFIED:20230831T052345Z
UID:11863-1693756800-1693762200@kotikirkko.fi
SUMMARY:Su 3.9. 16.00 Perhe- ja ehtoollisjuhla
DESCRIPTION:Su 3.9. 16.00 Perhe- ja ehtoollisjuhla\, Minna Mantila\, #ResetBand\, Jippii-pyhäkoulu\, kahvitarjoilu
URL:https://kotikirkko.fi/ohjelma/su-3-9-16-00-perhe-ja-ehtoollisjuhla/
END:VEVENT
BEGIN:VEVENT
DTSTART;TZID=Europe/Helsinki:20230901T190000
DTEND;TZID=Europe/Helsinki:20230901T220000
DTSTAMP:20260420T221915
CREATED:20230808T061705Z
LAST-MODIFIED:20230831T052447Z
UID:11905-1693594800-1693605600@kotikirkko.fi
SUMMARY:Pe 1.9. klo 19.00 Nuortenilta
DESCRIPTION:Pe 1.9. klo 19.00 Nuortenilta
URL:https://kotikirkko.fi/ohjelma/pe-1-9-klo-20-00-nuortenilta/
END:VEVENT
BEGIN:VEVENT
DTSTART;TZID=Europe/Helsinki:20230830T180000
DTEND;TZID=Europe/Helsinki:20230830T193000
DTSTAMP:20260420T221915
CREATED:20230725T072058Z
LAST-MODIFIED:20230725T072058Z
UID:11860-1693418400-1693423800@kotikirkko.fi
SUMMARY:Ke 30.8. 18.00 Rukousilta\, Satu Laine\, Anni Mäenpää ja Renne Haapanen
DESCRIPTION:Ke 30.8. 18.00 Rukousilta\, Satu Laine\, Anni Mäenpää ja Renne Haapanen
URL:https://kotikirkko.fi/ohjelma/ke-30-8-18-00-rukousilta-satu-laine-anni-maenpaa-ja-renne-haapanen/
END:VEVENT
BEGIN:VEVENT
DTSTART;TZID=Europe/Helsinki:20230827T110000
DTEND;TZID=Europe/Helsinki:20230827T123000
DTSTAMP:20260420T221915
CREATED:20230725T071919Z
LAST-MODIFIED:20230815T074720Z
UID:11856-1693134000-1693139400@kotikirkko.fi
SUMMARY:Su 27.8. 11.00 Israel-jumalanpalvelus ja kastejuhla
DESCRIPTION:Su 27.8. 11.00 Israel-jumalanpalvelus ja kastejuhla\, Harri Kröger\, Pirjo Perttu\, musiikki Marika ja Anne
URL:https://kotikirkko.fi/ohjelma/su-27-8-11-00-israel-jumalanpalvelus/
END:VEVENT
BEGIN:VEVENT
DTSTART;TZID=Europe/Helsinki:20230825T190000
DTEND;TZID=Europe/Helsinki:20230825T230000
DTSTAMP:20260420T221915
CREATED:20230808T061304Z
LAST-MODIFIED:20230808T061304Z
UID:11902-1692990000-1693004400@kotikirkko.fi
SUMMARY:Pe 25.8. klo 19.00 Nuorten YC
DESCRIPTION:Pe 25.8. – la 26.8. Nuorten Youth Celebration\, Keuruulla Iso Kirjassa\, ilmoittaudu Heidille autokyytejä varten (050 4709970).
URL:https://kotikirkko.fi/ohjelma/pe-25-8-klo-19-00-nuorten-yc/
END:VEVENT
BEGIN:VEVENT
DTSTART;TZID=Europe/Helsinki:20230823T180000
DTEND;TZID=Europe/Helsinki:20230823T193000
DTSTAMP:20260420T221915
CREATED:20230725T071222Z
LAST-MODIFIED:20230725T071222Z
UID:11846-1692813600-1692819000@kotikirkko.fi
SUMMARY:Ke 23.8. 18.00 Rukousilta\, Leif Palm ja Allani Rantasalo
DESCRIPTION:Ke 23.8. 18.00 Rukousilta\, Leif Palm ja Allani Rantasalo
URL:https://kotikirkko.fi/ohjelma/ke-23-8-18-00-rukousilta-leif-palm-ja-allani-rantasalo/
END:VEVENT
BEGIN:VEVENT
DTSTART;TZID=Europe/Helsinki:20230822T180000
DTEND;TZID=Europe/Helsinki:20230822T200000
DTSTAMP:20260420T221915
CREATED:20230808T060258Z
LAST-MODIFIED:20230808T060258Z
UID:11893-1692727200-1692734400@kotikirkko.fi
SUMMARY:Ti 22.8. klo 18.00 Lapsityöpalaveri
DESCRIPTION:Ti 22.8. klo 18.00 lapsityöpalaveri pyhäkoulu-\, varkkikerho-\, Jippii-kerhonvetäjille. Tervetuloa uudetkin mukaan.
URL:https://kotikirkko.fi/ohjelma/ti-22-8-klo-18-00-lapsityopalaveri/
END:VEVENT
BEGIN:VEVENT
DTSTART;TZID=Europe/Helsinki:20230820T160000
DTEND;TZID=Europe/Helsinki:20230820T173000
DTSTAMP:20260420T221915
CREATED:20230725T071021Z
LAST-MODIFIED:20230815T071025Z
UID:11841-1692547200-1692552600@kotikirkko.fi
SUMMARY:Su 20.8. 16.00 Yhteysilta
DESCRIPTION:Su 20.8. 16.00 Yhteysilta\, Jari Lindroos\, Seppo Kaski\, Henkka Nyman ja Allani Rantasalo
URL:https://kotikirkko.fi/ohjelma/su-20-8-16-00-yhteysilta/
END:VEVENT
BEGIN:VEVENT
DTSTART;TZID=Europe/Helsinki:20230818T190000
DTEND;TZID=Europe/Helsinki:20230818T230000
DTSTAMP:20260420T221915
CREATED:20230808T060708Z
LAST-MODIFIED:20230808T060708Z
UID:11899-1692385200-1692399600@kotikirkko.fi
SUMMARY:Pe 18.8. klo 19.00 Nuortenilta
DESCRIPTION:Pe 18.8. klo 19.00 Nuortenilta
URL:https://kotikirkko.fi/ohjelma/pe-18-8-klo-19-00-nuortenilta/
END:VEVENT
BEGIN:VEVENT
DTSTART;TZID=Europe/Helsinki:20230816T180000
DTEND;TZID=Europe/Helsinki:20230816T193000
DTSTAMP:20260420T221915
CREATED:20230725T070744Z
LAST-MODIFIED:20230725T070826Z
UID:11838-1692208800-1692214200@kotikirkko.fi
SUMMARY:Ke 16.8. 18.00 Rukousilta\, Heidi Antinsalo
DESCRIPTION:Ke 16.8. 18.00 Rukousilta\, Heidi Antinsalo
URL:https://kotikirkko.fi/ohjelma/ke-16-8-18-00-rukousilta-heidi-antinsalo/
END:VEVENT
BEGIN:VEVENT
DTSTART;TZID=Europe/Helsinki:20230813T160000
DTEND;TZID=Europe/Helsinki:20230813T173000
DTSTAMP:20260420T221915
CREATED:20230725T064615Z
LAST-MODIFIED:20230725T070448Z
UID:11833-1691942400-1691947800@kotikirkko.fi
SUMMARY:Su 13.8. 16.00 Perhejumalanpalvelus
DESCRIPTION:Su 13.8. 16.00 Perhejumalanpalvelus\, Heidi Antinsalo\, Unkari-aktion tiimi
URL:https://kotikirkko.fi/ohjelma/ke-9-8-18-00-rukousilta-seppo-kaski/
END:VEVENT
BEGIN:VEVENT
DTSTART;TZID=Europe/Helsinki:20230811T190000
DTEND;TZID=Europe/Helsinki:20230811T230000
DTSTAMP:20260420T221915
CREATED:20230808T055902Z
LAST-MODIFIED:20230808T055902Z
UID:11890-1691780400-1691794800@kotikirkko.fi
SUMMARY:Pe 11.8. klo 19.00 Nuortenilta
DESCRIPTION:Pe 11.8. klo 19.00 Nuortenilta
URL:https://kotikirkko.fi/ohjelma/pe-11-8-klo-19-00-nuortenilta/
END:VEVENT
BEGIN:VEVENT
DTSTART;TZID=Europe/Helsinki:20230809T180000
DTEND;TZID=Europe/Helsinki:20230809T193000
DTSTAMP:20260420T221915
CREATED:20230725T071652Z
LAST-MODIFIED:20230725T071652Z
UID:11852-1691604000-1691609400@kotikirkko.fi
SUMMARY:Ke 9.8. 18.00 Rukousilta\, Seppo Kaski
DESCRIPTION:Ke 9.8. 18.00 Rukousilta\, Seppo Kaski
URL:https://kotikirkko.fi/ohjelma/ke-9-8-18-00-rukousilta-seppo-kaski-2/
END:VEVENT
BEGIN:VEVENT
DTSTART;TZID=Europe/Helsinki:20230806T110000
DTEND;TZID=Europe/Helsinki:20230806T123000
DTSTAMP:20260420T221915
CREATED:20230725T064418Z
LAST-MODIFIED:20230804T075719Z
UID:11830-1691319600-1691325000@kotikirkko.fi
SUMMARY:Su 6.8. 11.00 Ehtoollisjuhla
DESCRIPTION:Su 6.8. 11.00 Ehtoollisjuhla\, Seppo Kaski\, Heidi Antinsalo\, Kotikirkon kuoro\, leiriterveiset sekä koululaisten\, opiskelijoiden ja lasten parissa työskentelevien siunaus\, kahvitarjoilu
URL:https://kotikirkko.fi/ohjelma/su-6-8-11-00-ehtoollisjuhla/
END:VEVENT
BEGIN:VEVENT
DTSTART;TZID=Europe/Helsinki:20230804T190000
DTEND;TZID=Europe/Helsinki:20230804T230000
DTSTAMP:20260420T221915
CREATED:20230510T115440Z
LAST-MODIFIED:20230510T115440Z
UID:11701-1691175600-1691190000@kotikirkko.fi
SUMMARY:Pe 4.8. klo 19.00 Nuortenilta
DESCRIPTION:Pe 4.8. klo 19.00 Nuortenilta
URL:https://kotikirkko.fi/ohjelma/pe-4-8-klo-19-00-nuortenilta/
END:VEVENT
BEGIN:VEVENT
DTSTART;TZID=Europe/Helsinki:20230802T180000
DTEND;TZID=Europe/Helsinki:20230802T193000
DTSTAMP:20260420T221915
CREATED:20230725T064102Z
LAST-MODIFIED:20230725T064123Z
UID:11827-1690999200-1691004600@kotikirkko.fi
SUMMARY:Ke 2.8. 18.00 Rukousilta\, Ulf Krokfors
DESCRIPTION:Ke 2.8. 18.00 Rukousilta\, Ulf Krokfors
URL:https://kotikirkko.fi/ohjelma/ke-2-8-18-00-rukousilta-ulf-krokfors/
END:VEVENT
BEGIN:VEVENT
DTSTART;TZID=Europe/Helsinki:20230730T110000
DTEND;TZID=Europe/Helsinki:20230730T170000
DTSTAMP:20260420T221915
CREATED:20230425T070000Z
LAST-MODIFIED:20230425T071407Z
UID:11596-1690714800-1690736400@kotikirkko.fi
SUMMARY:Su 30.7. 11.00-17.00 Hengelliset kesäjuhlat Kotikirkolla
DESCRIPTION:Su 30.7. klo 11.00-17.00 Hengelliset kesäjuhlat\, Harri Grönstrand\, Seppo Kaski\, Yksi Sydän-yhtye ym.
URL:https://kotikirkko.fi/ohjelma/la-30-7-hengelliset-kesajuhlat-kotikirkolla/
END:VEVENT
BEGIN:VEVENT
DTSTART;TZID=Europe/Helsinki:20230729T160000
DTEND;TZID=Europe/Helsinki:20230730T170000
DTSTAMP:20260420T221915
CREATED:20230425T065515Z
LAST-MODIFIED:20230425T065624Z
UID:11592-1690646400-1690736400@kotikirkko.fi
SUMMARY:La 29.-30.7. Hengelliset kesäjuhlat
DESCRIPTION:La 29.7. klo 16.00 Granitin lavalla\, elämäntarinoita ja musiikkia\, Leukku Stenroos 
URL:https://kotikirkko.fi/ohjelma/la-29-30-7-hengelliset-kesajuhlat/
END:VEVENT
BEGIN:VEVENT
DTSTART;TZID=Europe/Helsinki:20230729T160000
DTEND;TZID=Europe/Helsinki:20230729T173000
DTSTAMP:20260420T221915
CREATED:20230425T071913Z
LAST-MODIFIED:20230425T071913Z
UID:11612-1690646400-1690651800@kotikirkko.fi
SUMMARY:La 29.7. 16.00 Granitin lavalla\, Elämäntarinoita ja musiikkia
DESCRIPTION:La 29.7. 16.00 Granitin lavalla\, Elämäntarinoita ja musiikkia\, Leukku Stenroos
URL:https://kotikirkko.fi/ohjelma/la-29-7-16-00-granitin-lavalla-elamantarinoita-ja-musiikkia/
END:VEVENT
BEGIN:VEVENT
DTSTART;TZID=Europe/Helsinki:20230729T080000
DTEND;TZID=Europe/Helsinki:20230729T170000
DTSTAMP:20260420T221915
CREATED:20230425T071654Z
LAST-MODIFIED:20230722T061936Z
UID:11609-1690617600-1690650000@kotikirkko.fi
SUMMARY:La 29.7. 13.00-21.00 Hengelliset kesäjuhlat Kotikirkolla
DESCRIPTION:Su 30.7. 13.00-21.00 Hengelliset kesäjuhlat Kotikirkolla
URL:https://kotikirkko.fi/ohjelma/la-30-7-klo-13-00-18-00-hengelliset-kesajuhlat-kotikirkolla/
END:VEVENT
BEGIN:VEVENT
DTSTART;TZID=Europe/Helsinki:20230726T180000
DTEND;TZID=Europe/Helsinki:20230726T193000
DTSTAMP:20260420T221915
CREATED:20230510T114601Z
LAST-MODIFIED:20230510T114601Z
UID:11690-1690394400-1690399800@kotikirkko.fi
SUMMARY:Ke 26.7. klo 18.00 Rukousilta
DESCRIPTION:Ke 26.7. klo 18.00 Rukousilta
URL:https://kotikirkko.fi/ohjelma/ke-21-6-klo-18-00-rukousilta-2-2-2-2-2/
END:VEVENT
BEGIN:VEVENT
DTSTART;TZID=Europe/Helsinki:20230724T100000
DTEND;TZID=Europe/Helsinki:20230724T230000
DTSTAMP:20260420T221915
CREATED:20230428T075552Z
LAST-MODIFIED:20230428T075552Z
UID:11648-1690192800-1690239600@kotikirkko.fi
SUMMARY:Ma 24.7. klo 10 Lastenleiri
DESCRIPTION:Ma 24.7. – To 27.7. Lastenleiri Märkiön leirikeskuksessa. Lisätietoja Heidi 050 4709970.
URL:https://kotikirkko.fi/ohjelma/ma-24-7-klo-10-lastenleiri/
END:VEVENT
BEGIN:VEVENT
DTSTART;TZID=Europe/Helsinki:20230723T110000
DTEND;TZID=Europe/Helsinki:20230723T123000
DTSTAMP:20260420T221915
CREATED:20230425T065213Z
LAST-MODIFIED:20230425T065213Z
UID:11589-1690110000-1690115400@kotikirkko.fi
SUMMARY:Su 23.7. klo 11.00 Musiikkijumalanpalvelus\, Miks pelkäisin – Reijo Blommendahl
DESCRIPTION:Su 23.7. klo 11.00 Musiikkijumalanpalvelus\, Miks pelkäisin – Reijo Blommendahl \n 
URL:https://kotikirkko.fi/ohjelma/su-23-7-klo-11-00-musiikkijumalanpalvelus-miks-pelkaisin-reijo-blommendahl/
END:VEVENT
BEGIN:VEVENT
DTSTART;TZID=Europe/Helsinki:20230719T180000
DTEND;TZID=Europe/Helsinki:20230719T193000
DTSTAMP:20260420T221915
CREATED:20230510T114530Z
LAST-MODIFIED:20230510T114530Z
UID:11686-1689789600-1689795000@kotikirkko.fi
SUMMARY:Ke 19.7. klo 18.00 Rukousilta
DESCRIPTION:Ke 19.7. klo 18.00 Rukousilta
URL:https://kotikirkko.fi/ohjelma/ke-21-6-klo-18-00-rukousilta-2-2-2-2/
END:VEVENT
BEGIN:VEVENT
DTSTART;TZID=Europe/Helsinki:20230716T110000
DTEND;TZID=Europe/Helsinki:20230716T123000
DTSTAMP:20260420T221915
CREATED:20230425T064536Z
LAST-MODIFIED:20230714T151728Z
UID:11586-1689505200-1689510600@kotikirkko.fi
SUMMARY:Su 16.7. klo 11.00 Elämäntarinoita ja musiikkia
DESCRIPTION:Su 16.7. klo 11.00 Elämäntarinoita ja musiikkia\nRebekka\, Nikolas ja Henry Hedman\, Allani Rantasalo & tiimi
URL:https://kotikirkko.fi/ohjelma/su-16-7-klo-11-00-jumalanpalvelus/
END:VEVENT
END:VCALENDAR