BEGIN:VCALENDAR
VERSION:2.0
PRODID:-//Riihimäen Kotikirkko - ECPv6.15.20//NONSGML v1.0//EN
CALSCALE:GREGORIAN
METHOD:PUBLISH
X-WR-CALNAME:Riihimäen Kotikirkko
X-ORIGINAL-URL:https://kotikirkko.fi
X-WR-CALDESC:Tapahtumat Riihimäen Kotikirkko
REFRESH-INTERVAL;VALUE=DURATION:PT1H
X-Robots-Tag:noindex
X-PUBLISHED-TTL:PT1H
BEGIN:VTIMEZONE
TZID:Europe/Helsinki
BEGIN:DAYLIGHT
TZOFFSETFROM:+0200
TZOFFSETTO:+0300
TZNAME:EEST
DTSTART:20220327T010000
END:DAYLIGHT
BEGIN:STANDARD
TZOFFSETFROM:+0300
TZOFFSETTO:+0200
TZNAME:EET
DTSTART:20221030T010000
END:STANDARD
BEGIN:DAYLIGHT
TZOFFSETFROM:+0200
TZOFFSETTO:+0300
TZNAME:EEST
DTSTART:20230326T010000
END:DAYLIGHT
BEGIN:STANDARD
TZOFFSETFROM:+0300
TZOFFSETTO:+0200
TZNAME:EET
DTSTART:20231029T010000
END:STANDARD
BEGIN:DAYLIGHT
TZOFFSETFROM:+0200
TZOFFSETTO:+0300
TZNAME:EEST
DTSTART:20240331T010000
END:DAYLIGHT
BEGIN:STANDARD
TZOFFSETFROM:+0300
TZOFFSETTO:+0200
TZNAME:EET
DTSTART:20241027T010000
END:STANDARD
END:VTIMEZONE
BEGIN:VEVENT
DTSTART;TZID=Europe/Helsinki:20231105T160000
DTEND;TZID=Europe/Helsinki:20231105T173000
DTSTAMP:20260420T184553
CREATED:20230913T111504Z
LAST-MODIFIED:20230913T111504Z
UID:12055-1699200000-1699205400@kotikirkko.fi
SUMMARY:Su 5.11. 16.00 Perhe- ja ehtoollisjuhla
DESCRIPTION:Su 5.11. 16.00 Perhe- ja ehtoollisjuhla\, Seppo Kaski\, Ari Juntunen\, Jippii-ryhmä\, #ResetBand\, pyhäkoulu\, kahvitarjoilu
URL:https://kotikirkko.fi/ohjelma/su-5-11-16-00-perhe-ja-ehtoollisjuhla/
END:VEVENT
BEGIN:VEVENT
DTSTART;TZID=Europe/Helsinki:20231103T190000
DTEND;TZID=Europe/Helsinki:20231103T220000
DTSTAMP:20260420T184553
CREATED:20230925T172942Z
LAST-MODIFIED:20230925T173105Z
UID:12158-1699038000-1699048800@kotikirkko.fi
SUMMARY:Pe 3.11. klo 19.00 Nuortenilta
DESCRIPTION:Pe 3.11. klo 19.00 Nuortenilta
URL:https://kotikirkko.fi/ohjelma/pe-6-11-klo-19-00-nuortenilta-2-2-2/
END:VEVENT
BEGIN:VEVENT
DTSTART;TZID=Europe/Helsinki:20231101T180000
DTEND;TZID=Europe/Helsinki:20231101T193000
DTSTAMP:20260420T184553
CREATED:20230914T091018Z
LAST-MODIFIED:20230914T091738Z
UID:12113-1698861600-1698867000@kotikirkko.fi
SUMMARY:Ke 1.11. 18.00 Riihimäen Kotikirkko-yhdistys ry:n syyskokous
DESCRIPTION:Ke 1.11. 18.00 Riihimäen Kotikirkko-yhdistys ry:n syyskokous
URL:https://kotikirkko.fi/ohjelma/ke-1-11-18-00-riihimaen-kotikirkko-yhdistys-ryn-syyskokous/
END:VEVENT
BEGIN:VEVENT
DTSTART;TZID=Europe/Helsinki:20231031T183000
DTEND;TZID=Europe/Helsinki:20231031T200000
DTSTAMP:20260420T184553
CREATED:20230925T171748Z
LAST-MODIFIED:20230925T171748Z
UID:12134-1698777000-1698782400@kotikirkko.fi
SUMMARY:Ti 31.10. klo 18.30 Varkkikerho
DESCRIPTION:Ti 31.10. klo 18.30 Varkkikerho
URL:https://kotikirkko.fi/ohjelma/ti-3-10-klo-18-30-varkkikerho-2-2-2/
END:VEVENT
BEGIN:VEVENT
DTSTART;TZID=Europe/Helsinki:20231029T110000
DTEND;TZID=Europe/Helsinki:20231029T123000
DTSTAMP:20260420T184553
CREATED:20230913T111033Z
LAST-MODIFIED:20231025T133748Z
UID:12051-1698577200-1698582600@kotikirkko.fi
SUMMARY:Su 29.10. 11.00  Varjoista valoon -musiikkijumalanpalvelus
DESCRIPTION:Su 29.10. 11.00  Varjoista valoon -musiikkijumalanpalvelus\, Hannah & Co\, Jani Rossi puhuu aiheesta avioliitto Raamatun valossa\, pyhäkoulu
URL:https://kotikirkko.fi/ohjelma/su-29-10-11-00-varjoista-valoon-musiikkijumalanpalvelus/
END:VEVENT
BEGIN:VEVENT
DTSTART;TZID=Europe/Helsinki:20231027T190000
DTEND;TZID=Europe/Helsinki:20231027T220000
DTSTAMP:20260420T184553
CREATED:20230925T174001Z
LAST-MODIFIED:20230925T174001Z
UID:12171-1698433200-1698444000@kotikirkko.fi
SUMMARY:Pe 27.10. klo 19.00 Nuortenilta
DESCRIPTION:Pe 27.10. klo 19.00 Nuortenilta
URL:https://kotikirkko.fi/ohjelma/pe-27-10-klo-19-00-nuortenilta/
END:VEVENT
BEGIN:VEVENT
DTSTART;TZID=Europe/Helsinki:20231025T180000
DTEND;TZID=Europe/Helsinki:20231025T193000
DTSTAMP:20260420T184553
CREATED:20230831T152507Z
LAST-MODIFIED:20230831T152507Z
UID:12017-1698256800-1698262200@kotikirkko.fi
SUMMARY:Ke 25.10. 18.00 Pienryhmät kodeissa ja Kotikirkolla
DESCRIPTION:Ke 25.10. 18.00 Pienryhmät kodeissa ja Kotikirkolla
URL:https://kotikirkko.fi/ohjelma/ke-25-10-18-00-pienryhmat-kodeissa-ja-kotikirkolla/
END:VEVENT
BEGIN:VEVENT
DTSTART;TZID=Europe/Helsinki:20231024T183000
DTEND;TZID=Europe/Helsinki:20231024T200000
DTSTAMP:20260420T184553
CREATED:20230925T171714Z
LAST-MODIFIED:20230925T171714Z
UID:12131-1698172200-1698177600@kotikirkko.fi
SUMMARY:Ti 24.10. klo 18.30 Varkkikerho
DESCRIPTION:Ti 24.10. klo 18.30 Varkkikerho
URL:https://kotikirkko.fi/ohjelma/ti-3-10-klo-18-30-varkkikerho-2-2/
END:VEVENT
BEGIN:VEVENT
DTSTART;TZID=Europe/Helsinki:20231022T110000
DTEND;TZID=Europe/Helsinki:20231022T123000
DTSTAMP:20260420T184553
CREATED:20230913T110751Z
LAST-MODIFIED:20230913T110751Z
UID:12048-1697972400-1697977800@kotikirkko.fi
SUMMARY:Su 22.10. 16.00 Yhteysilta\, Opisto omaksi-teemalla
DESCRIPTION:Su 22.10. 16.00 Yhteysilta\, Opisto omaksi-teemalla\, Marko Halttunen\, Henry Hedman ja Kotikirkon kuoro\, kerätään rahalahja IK-opistolle
URL:https://kotikirkko.fi/ohjelma/su-22-10-16-00-yhteysilta-opisto-omaksi-teemalla/
END:VEVENT
BEGIN:VEVENT
DTSTART;TZID=Europe/Helsinki:20231018T180000
DTEND;TZID=Europe/Helsinki:20231018T193000
DTSTAMP:20260420T184553
CREATED:20230912T122822Z
LAST-MODIFIED:20230912T122822Z
UID:12042-1697652000-1697657400@kotikirkko.fi
SUMMARY:Ke 18.10. 18.00 Rukousilta
DESCRIPTION:Ke 18.10. 18.00  Rukousilta\, Risto Ropo
URL:https://kotikirkko.fi/ohjelma/ke-18-10-18-00-rukousilta/
END:VEVENT
BEGIN:VEVENT
DTSTART;TZID=Europe/Helsinki:20231015T110000
DTEND;TZID=Europe/Helsinki:20231015T123000
DTSTAMP:20260420T184553
CREATED:20230912T122616Z
LAST-MODIFIED:20230912T122616Z
UID:12039-1697367600-1697373000@kotikirkko.fi
SUMMARY:Su 15.10. 11.00 Jumalanpalvelus\, Uskoa ajassa-teemalla
DESCRIPTION:Su 15.10. 11.00  Jumalanpalvelus\, Uskoa ajassa-teemalla\, Onni jr. Haapala\, Jukka Musakka\,   \nmusiikki Pia\, Robert\, Satu\, Renne ja Rufina 
URL:https://kotikirkko.fi/ohjelma/su-15-10-11-00-jumalanpalvelus-uskoa-ajassa-teemalla/
END:VEVENT
BEGIN:VEVENT
DTSTART;TZID=Europe/Helsinki:20231013T180000
DTEND;TZID=Europe/Helsinki:20231013T220000
DTSTAMP:20260420T184553
CREATED:20230925T172807Z
LAST-MODIFIED:20230925T173800Z
UID:12155-1697220000-1697234400@kotikirkko.fi
SUMMARY:Pe 13.10. klo 18.00 Nuortenilta
DESCRIPTION:Pe 13.10. klo 18.00 Nuortenilta Hyvinkäällä
URL:https://kotikirkko.fi/ohjelma/pe-6-11-klo-19-00-nuortenilta-2-2/
END:VEVENT
BEGIN:VEVENT
DTSTART;TZID=Europe/Helsinki:20231011T180000
DTEND;TZID=Europe/Helsinki:20231011T193000
DTSTAMP:20260420T184553
CREATED:20230831T152335Z
LAST-MODIFIED:20230912T121825Z
UID:12014-1697047200-1697052600@kotikirkko.fi
SUMMARY:Ke 11.10. 18.00 Pienryhmät kodeissa ja Kotikirkolla\, rukousilta yläsalissa
DESCRIPTION:Ke 11.10. 18.00 Pienryhmät kodeissa ja Kotikirkolla\, rukousilta yläsalissa \n 
URL:https://kotikirkko.fi/ohjelma/ke-11-10-18-00-pienryhmat-kodeissa-ja-kotikirkolla/
END:VEVENT
BEGIN:VEVENT
DTSTART;TZID=Europe/Helsinki:20231010T183000
DTEND;TZID=Europe/Helsinki:20231010T200000
DTSTAMP:20260420T184553
CREATED:20230925T171615Z
LAST-MODIFIED:20230925T171615Z
UID:12128-1696962600-1696968000@kotikirkko.fi
SUMMARY:Ti 10.10. klo 18.30 Varkkikerho
DESCRIPTION:Ti 10.10. klo 18.30 Varkkikerho
URL:https://kotikirkko.fi/ohjelma/ti-3-10-klo-18-30-varkkikerho-2/
END:VEVENT
BEGIN:VEVENT
DTSTART;TZID=Europe/Helsinki:20231008T110000
DTEND;TZID=Europe/Helsinki:20231008T123000
DTSTAMP:20260420T184553
CREATED:20230831T151501Z
LAST-MODIFIED:20230925T173559Z
UID:12007-1696762800-1696768200@kotikirkko.fi
SUMMARY:Su 8.10. 11.00 Jumalanpalvelus
DESCRIPTION:Su 8.10. 11.00 Jumalanpalvelus\, Jukka Perttu\, Karl Balloch (Pakistan)\, Hannele Saari\, musiikki Virpi\, Ulla ja Hannele\, pyhäkoulu
URL:https://kotikirkko.fi/ohjelma/12007/
END:VEVENT
BEGIN:VEVENT
DTSTART;TZID=Europe/Helsinki:20231006T190000
DTEND;TZID=Europe/Helsinki:20231006T220000
DTSTAMP:20260420T184553
CREATED:20230925T172639Z
LAST-MODIFIED:20230925T173724Z
UID:12152-1696618800-1696629600@kotikirkko.fi
SUMMARY:Pe 6.10. klo 19.00 Nuortenilta
DESCRIPTION:Pe 6.10. klo 19.00 Nuortenilta\, Salla Ylönen puhumassa
URL:https://kotikirkko.fi/ohjelma/pe-6-11-klo-19-00-nuortenilta-2/
END:VEVENT
BEGIN:VEVENT
DTSTART;TZID=Europe/Helsinki:20231004T180000
DTEND;TZID=Europe/Helsinki:20231004T193000
DTSTAMP:20260420T184553
CREATED:20230831T150927Z
LAST-MODIFIED:20230912T122236Z
UID:12002-1696442400-1696447800@kotikirkko.fi
SUMMARY:Ke 4.10. 18.00 Rukousilta
DESCRIPTION:Ke 4.10. 18.00 Rukousilta\, Allani Rantasalo ja Mitä kuuluu-ryhmä
URL:https://kotikirkko.fi/ohjelma/ke-4-10-18-00-rukousilta/
END:VEVENT
BEGIN:VEVENT
DTSTART;TZID=Europe/Helsinki:20231003T183000
DTEND;TZID=Europe/Helsinki:20231003T200000
DTSTAMP:20260420T184553
CREATED:20230925T171545Z
LAST-MODIFIED:20230925T171545Z
UID:12125-1696357800-1696363200@kotikirkko.fi
SUMMARY:Ti 3.10. klo 18.30 Varkkikerho
DESCRIPTION:Ti 3.10. klo 18.30 Varkkikerho
URL:https://kotikirkko.fi/ohjelma/ti-3-10-klo-18-30-varkkikerho/
END:VEVENT
BEGIN:VEVENT
DTSTART;TZID=Europe/Helsinki:20231001T110000
DTEND;TZID=Europe/Helsinki:20231001T123000
DTSTAMP:20260420T184553
CREATED:20230831T150503Z
LAST-MODIFIED:20230831T150503Z
UID:11999-1696158000-1696163400@kotikirkko.fi
SUMMARY:Su 1.10. 11.00 Ehtoollisjuhla
DESCRIPTION:Su 1.10. 11.00 Ehtoollisjuhla\, Timo Mantila\, Jukka Nummikoski\, Kotikirkon kuoro\, pyhäkoulu\, kahvitarjoilu
URL:https://kotikirkko.fi/ohjelma/su-1-10-11-00-ehtoollisjuhla/
END:VEVENT
BEGIN:VEVENT
DTSTART;TZID=Europe/Helsinki:20230929T190000
DTEND;TZID=Europe/Helsinki:20230929T220000
DTSTAMP:20260420T184553
CREATED:20230831T055113Z
LAST-MODIFIED:20230831T055113Z
UID:11977-1696014000-1696024800@kotikirkko.fi
SUMMARY:Pe 29.9. klo 19.00 Nuortenilta
DESCRIPTION:Pe 29.9. klo 19.00 Nuortenilta
URL:https://kotikirkko.fi/ohjelma/pe-29-9-klo-19-00-nuortenilta/
END:VEVENT
BEGIN:VEVENT
DTSTART;TZID=Europe/Helsinki:20230927T180000
DTEND;TZID=Europe/Helsinki:20230927T193000
DTSTAMP:20260420T184553
CREATED:20230912T121948Z
LAST-MODIFIED:20230912T121948Z
UID:12033-1695837600-1695843000@kotikirkko.fi
SUMMARY:Ke 27.9. 18.00 Pienryhmät kodeissa ja Kotikirkolla\, rukousilta yläsalissa
DESCRIPTION:Ke 27.9. 18.00 Pienryhmät kodeissa ja Kotikirkolla\, rukousilta yläsalissa
URL:https://kotikirkko.fi/ohjelma/ke-27-9-18-00-pienryhmat-kodeissa-ja-kotikirkolla-rukousilta-ylasalissa/
END:VEVENT
BEGIN:VEVENT
DTSTART;TZID=Europe/Helsinki:20230924T160000
DTEND;TZID=Europe/Helsinki:20230924T180000
DTSTAMP:20260420T184553
CREATED:20230831T145945Z
LAST-MODIFIED:20230831T145945Z
UID:11996-1695571200-1695578400@kotikirkko.fi
SUMMARY:Su 24.9. 16.00 Elämäntarinoita ja musiikkia Punaisella talolla
DESCRIPTION:Su 24.9. 16.00 Elämäntarinoita ja musiikkia Punaisella talolla\, Yksi Sydän-yhtye\, Ulf Krokfors
URL:https://kotikirkko.fi/ohjelma/su-24-9-16-00-elamantarinoita-ja-musiikkia-punaisella-talolla/
END:VEVENT
BEGIN:VEVENT
DTSTART;TZID=Europe/Helsinki:20230923T130000
DTEND;TZID=Europe/Helsinki:20230923T230000
DTSTAMP:20260420T184553
CREATED:20230831T054856Z
LAST-MODIFIED:20230831T054856Z
UID:11974-1695474000-1695510000@kotikirkko.fi
SUMMARY:La 23.9. klo 13 lapsiperheiden\, varkkien ja nuorten leiripäivä Valkjärvellä
DESCRIPTION:La 23.9. klo 13 lapsiperheiden\, varkkien ja nuorten leiripäivä Valkjärvellä. Yhteistä ohjelmaa\, afrikkalaista ruokaa\, sauna.  \nIlmoittautuminen ruokailuun Heidille.
URL:https://kotikirkko.fi/ohjelma/la-23-9-klo-13-lapsiperheiden-varkkien-ja-nuorten-leiripaiva-valkjarvella/
END:VEVENT
BEGIN:VEVENT
DTSTART;TZID=Europe/Helsinki:20230922T190000
DTEND;TZID=Europe/Helsinki:20230922T220000
DTSTAMP:20260420T184553
CREATED:20230831T054614Z
LAST-MODIFIED:20230831T054614Z
UID:11971-1695409200-1695420000@kotikirkko.fi
SUMMARY:Pe 22.9. klo 19.00 Nuortenilta
DESCRIPTION:Pe 22.9. klo 19.00 Nuortenilta
URL:https://kotikirkko.fi/ohjelma/pe-22-9-klo-19-00-nuortenilta/
END:VEVENT
BEGIN:VEVENT
DTSTART;TZID=Europe/Helsinki:20230920T180000
DTEND;TZID=Europe/Helsinki:20230920T193000
DTSTAMP:20260420T184553
CREATED:20230831T145748Z
LAST-MODIFIED:20230831T145748Z
UID:11993-1695232800-1695238200@kotikirkko.fi
SUMMARY:Ke 20.9. 18.00 Rukousilta
DESCRIPTION:Ke 20.9. 18.00 Rukousilta\, Leo Saari
URL:https://kotikirkko.fi/ohjelma/ke-20-9-18-00-rukousilta/
END:VEVENT
BEGIN:VEVENT
DTSTART;TZID=Europe/Helsinki:20230919T183000
DTEND;TZID=Europe/Helsinki:20230919T200000
DTSTAMP:20260420T184553
CREATED:20230831T054506Z
LAST-MODIFIED:20230831T054506Z
UID:11968-1695148200-1695153600@kotikirkko.fi
SUMMARY:Ti 19.9. klo 18.30 Varkkikerho
DESCRIPTION:Ti 19.9. klo 18.30 Varkkikerho
URL:https://kotikirkko.fi/ohjelma/ti-19-9-klo-18-30-varkkikerho/
END:VEVENT
BEGIN:VEVENT
DTSTART;TZID=Europe/Helsinki:20230917T110000
DTEND;TZID=Europe/Helsinki:20230917T123000
DTSTAMP:20260420T184553
CREATED:20230831T145602Z
LAST-MODIFIED:20230912T121126Z
UID:11990-1694948400-1694953800@kotikirkko.fi
SUMMARY:Su 17.9. 11.00 Jumalanpalvelus
DESCRIPTION:Su 17.9. 11.00 Jumalanpalvelus\, Päivi Sarjasto Ruokkikaa nälkäiset ry:stä\, Heidi Antinsalo\, musiikki Hanna ja Anne\, pyhäkoulu
URL:https://kotikirkko.fi/ohjelma/su-17-9-11-00-jumalanpalvelus/
END:VEVENT
BEGIN:VEVENT
DTSTART;TZID=Europe/Helsinki:20230915T190000
DTEND;TZID=Europe/Helsinki:20230915T220000
DTSTAMP:20260420T184553
CREATED:20230831T054157Z
LAST-MODIFIED:20230831T054157Z
UID:11965-1694804400-1694815200@kotikirkko.fi
SUMMARY:Pe 15.9. klo 19.00 Nuortenilta
DESCRIPTION:Pe 15.9. klo 19.00 Nuortenilta
URL:https://kotikirkko.fi/ohjelma/pe-15-9-klo-19-00-nuortenilta/
END:VEVENT
BEGIN:VEVENT
DTSTART;TZID=Europe/Helsinki:20230913T180000
DTEND;TZID=Europe/Helsinki:20230913T193000
DTSTAMP:20260420T184553
CREATED:20230831T145256Z
LAST-MODIFIED:20230831T145352Z
UID:11987-1694628000-1694633400@kotikirkko.fi
SUMMARY:Ke 13.9. 18.00 Pienryhmien koordinointi- ja rukousilta
DESCRIPTION:Ke 13.9. 18.00 Pienryhmien koordinointi- ja rukousilta\, Seppo Kaski\, Minna Mantila ja Suvi Hyytinen
URL:https://kotikirkko.fi/ohjelma/ke-13-9-18-00-pienryhmien-koordinointi-ja-rukousilta/
END:VEVENT
BEGIN:VEVENT
DTSTART;TZID=Europe/Helsinki:20230912T183000
DTEND;TZID=Europe/Helsinki:20230912T200000
DTSTAMP:20260420T184553
CREATED:20230831T053338Z
LAST-MODIFIED:20230831T053338Z
UID:11962-1694543400-1694548800@kotikirkko.fi
SUMMARY:Ti 12.9. klo 18.30 Varkkikerho
DESCRIPTION:Ti 12.9. klo 18.30. Varkkikerho
URL:https://kotikirkko.fi/ohjelma/ti-12-9-klo-18-30-varkkikerho/
END:VEVENT
END:VCALENDAR