BEGIN:VCALENDAR
VERSION:2.0
PRODID:-//Riihimäen Kotikirkko - ECPv6.15.20//NONSGML v1.0//EN
CALSCALE:GREGORIAN
METHOD:PUBLISH
X-ORIGINAL-URL:https://kotikirkko.fi
X-WR-CALDESC:Tapahtumat Riihimäen Kotikirkko
REFRESH-INTERVAL;VALUE=DURATION:PT1H
X-Robots-Tag:noindex
X-PUBLISHED-TTL:PT1H
BEGIN:VTIMEZONE
TZID:Europe/Helsinki
BEGIN:DAYLIGHT
TZOFFSETFROM:+0200
TZOFFSETTO:+0300
TZNAME:EEST
DTSTART:20220327T010000
END:DAYLIGHT
BEGIN:STANDARD
TZOFFSETFROM:+0300
TZOFFSETTO:+0200
TZNAME:EET
DTSTART:20221030T010000
END:STANDARD
BEGIN:DAYLIGHT
TZOFFSETFROM:+0200
TZOFFSETTO:+0300
TZNAME:EEST
DTSTART:20230326T010000
END:DAYLIGHT
BEGIN:STANDARD
TZOFFSETFROM:+0300
TZOFFSETTO:+0200
TZNAME:EET
DTSTART:20231029T010000
END:STANDARD
BEGIN:DAYLIGHT
TZOFFSETFROM:+0200
TZOFFSETTO:+0300
TZNAME:EEST
DTSTART:20240331T010000
END:DAYLIGHT
BEGIN:STANDARD
TZOFFSETFROM:+0300
TZOFFSETTO:+0200
TZNAME:EET
DTSTART:20241027T010000
END:STANDARD
BEGIN:DAYLIGHT
TZOFFSETFROM:+0200
TZOFFSETTO:+0300
TZNAME:EEST
DTSTART:20250330T010000
END:DAYLIGHT
BEGIN:STANDARD
TZOFFSETFROM:+0300
TZOFFSETTO:+0200
TZNAME:EET
DTSTART:20251026T010000
END:STANDARD
END:VTIMEZONE
BEGIN:VEVENT
DTSTART;TZID=Europe/Helsinki:20240206T183000
DTEND;TZID=Europe/Helsinki:20240206T200000
DTSTAMP:20260420T130844
CREATED:20231219T062658Z
LAST-MODIFIED:20231219T062658Z
UID:12336-1707244200-1707249600@kotikirkko.fi
SUMMARY:Ti 6.2. klo 18.30 Varkkikerho
DESCRIPTION:Ti 6.2. klo 18.30 Varkkikerho 
URL:https://kotikirkko.fi/ohjelma/ti-9-1-klo-18-30-varkkikerho-2-2-2/
END:VEVENT
BEGIN:VEVENT
DTSTART;TZID=Europe/Helsinki:20240204T160000
DTEND;TZID=Europe/Helsinki:20240204T173000
DTSTAMP:20260420T130844
CREATED:20231219T071420Z
LAST-MODIFIED:20231219T071420Z
UID:12425-1707062400-1707067800@kotikirkko.fi
SUMMARY:Su 4.2. 16.00 Perhe- ja ehtoollisjuhla
DESCRIPTION:Su 4.2. 16.00 Perhe- ja ehtoollisjuhla\, Minna Mantila\, musiikki Hannah & Co\, Jippii-pyhäkoulu\, kahvitarjoilu
URL:https://kotikirkko.fi/ohjelma/su-4-2-16-00-perhe-ja-ehtoollisjuhla/
END:VEVENT
BEGIN:VEVENT
DTSTART;TZID=Europe/Helsinki:20240202T190000
DTEND;TZID=Europe/Helsinki:20240202T230000
DTSTAMP:20260420T130844
CREATED:20231219T062036Z
LAST-MODIFIED:20231219T062036Z
UID:12317-1706900400-1706914800@kotikirkko.fi
SUMMARY:Pe 2.2. klo 19 Nuortenilta
DESCRIPTION:Pe 2.2. klo 19 Nuortenilta Kotikirkolla
URL:https://kotikirkko.fi/ohjelma/pe-12-1-klo-19-nuortenilta-2-2-2/
END:VEVENT
BEGIN:VEVENT
DTSTART;TZID=Europe/Helsinki:20240131T180000
DTEND;TZID=Europe/Helsinki:20240131T193000
DTSTAMP:20260420T130844
CREATED:20231219T070315Z
LAST-MODIFIED:20231219T070315Z
UID:12420-1706724000-1706729400@kotikirkko.fi
SUMMARY:Ke 31.1. 18.00 Rukousilta
DESCRIPTION:Ke 31.1. 18.00 Rukousilta\, Ulf Krokfors
URL:https://kotikirkko.fi/ohjelma/ke-31-1-18-00-rukousilta/
END:VEVENT
BEGIN:VEVENT
DTSTART;TZID=Europe/Helsinki:20240128T110000
DTEND;TZID=Europe/Helsinki:20240128T123000
DTSTAMP:20260420T130844
CREATED:20231219T070151Z
LAST-MODIFIED:20240124T083757Z
UID:12417-1706439600-1706445000@kotikirkko.fi
SUMMARY:Su 28.1. 11.00 Israel-teemajumalanpalvelus
DESCRIPTION:Su 28.1. 11.00 Israel-teemajumalanpalvelus\, Valomerkki-yhtye ja Outi Lyytikäinen\, Virpi Jouttela\, pyhäkoulu
URL:https://kotikirkko.fi/ohjelma/su-28-1-11-00-israel-teemajumalanpalvelus/
END:VEVENT
BEGIN:VEVENT
DTSTART;TZID=Europe/Helsinki:20240126T190000
DTEND;TZID=Europe/Helsinki:20240126T230000
DTSTAMP:20260420T130844
CREATED:20231219T061957Z
LAST-MODIFIED:20231219T061957Z
UID:12314-1706295600-1706310000@kotikirkko.fi
SUMMARY:Pe 26.1. klo 19 Nuortenilta
DESCRIPTION:Pe 26.1. klo 19 Nuortenilta Kotikirkolla
URL:https://kotikirkko.fi/ohjelma/pe-12-1-klo-19-nuortenilta-2-2/
END:VEVENT
BEGIN:VEVENT
DTSTART;TZID=Europe/Helsinki:20240124T180000
DTEND;TZID=Europe/Helsinki:20240124T193000
DTSTAMP:20260420T130844
CREATED:20231219T065949Z
LAST-MODIFIED:20231219T065949Z
UID:12414-1706119200-1706124600@kotikirkko.fi
SUMMARY:Ke 24.1. 18.00 Rukousilta
DESCRIPTION:Ke 24.1. 18.00 Rukousilta\, Jukka ja Pirjo Perttu
URL:https://kotikirkko.fi/ohjelma/ke-24-1-18-00-rukousilta/
END:VEVENT
BEGIN:VEVENT
DTSTART;TZID=Europe/Helsinki:20240123T183000
DTEND;TZID=Europe/Helsinki:20240123T200000
DTSTAMP:20260420T130844
CREATED:20231219T062558Z
LAST-MODIFIED:20231219T062558Z
UID:12332-1706034600-1706040000@kotikirkko.fi
SUMMARY:Ti 23.1. klo 18.30 Varkkikerho
DESCRIPTION:Ti 23.1. klo 18.30 Varkkikerho 
URL:https://kotikirkko.fi/ohjelma/ti-9-1-klo-18-30-varkkikerho-2-2/
END:VEVENT
BEGIN:VEVENT
DTSTART;TZID=Europe/Helsinki:20240121T110000
DTEND;TZID=Europe/Helsinki:20240121T123000
DTSTAMP:20260420T130844
CREATED:20231219T065830Z
LAST-MODIFIED:20231219T065830Z
UID:12411-1705834800-1705840200@kotikirkko.fi
SUMMARY:Su 21.1. 11.00 Jumalanpalvelus
DESCRIPTION:Su 21.1. 11.00 Jumalanpalvelus\, Rebecca Palmi\, Anna-Liisa Liljefors\, Salla Ylönen\, musiikki\nRenne ja Anni
URL:https://kotikirkko.fi/ohjelma/su-21-1-11-00-jumalanpalvelus/
END:VEVENT
BEGIN:VEVENT
DTSTART;TZID=Europe/Helsinki:20240119T190000
DTEND;TZID=Europe/Helsinki:20240119T230000
DTSTAMP:20260420T130844
CREATED:20231219T061920Z
LAST-MODIFIED:20231219T061920Z
UID:12311-1705690800-1705705200@kotikirkko.fi
SUMMARY:Pe 19.1. klo 19 Nuortenilta
DESCRIPTION:Pe 19.1. klo 19 Nuortenilta Kotikirkolla
URL:https://kotikirkko.fi/ohjelma/pe-12-1-klo-19-nuortenilta-2/
END:VEVENT
BEGIN:VEVENT
DTSTART;TZID=Europe/Helsinki:20240117T180000
DTEND;TZID=Europe/Helsinki:20240117T193000
DTSTAMP:20260420T130844
CREATED:20231219T065447Z
LAST-MODIFIED:20231219T065639Z
UID:12408-1705514400-1705519800@kotikirkko.fi
SUMMARY:Ke 17.1. 18.00 Rukousilta
DESCRIPTION:Ke 17.1. 18.00 Rukousilta\, Risto Ropo
URL:https://kotikirkko.fi/ohjelma/ke-17-1-18-00-rukousilta/
END:VEVENT
BEGIN:VEVENT
DTSTART;TZID=Europe/Helsinki:20240116T183000
DTEND;TZID=Europe/Helsinki:20240116T200000
DTSTAMP:20260420T130844
CREATED:20231219T062522Z
LAST-MODIFIED:20231219T062522Z
UID:12329-1705429800-1705435200@kotikirkko.fi
SUMMARY:Ti 16.1. klo 18.30 Varkkikerho
DESCRIPTION:Ti 16.1. klo 18.30 Varkkikerho 
URL:https://kotikirkko.fi/ohjelma/ti-9-1-klo-18-30-varkkikerho-2/
END:VEVENT
BEGIN:VEVENT
DTSTART;TZID=Europe/Helsinki:20240114T110000
DTEND;TZID=Europe/Helsinki:20240114T123000
DTSTAMP:20260420T130844
CREATED:20231219T065316Z
LAST-MODIFIED:20231219T065316Z
UID:12405-1705230000-1705235400@kotikirkko.fi
SUMMARY:Su 14.1. 11.00 Musiikkijumalanpalvelus\, Light Choir
DESCRIPTION:Su 14.1. 11.00 Musiikkijumalanpalvelus\, Light Choir\, Erick Kabongo ja Sinambi Feza
URL:https://kotikirkko.fi/ohjelma/su-14-1-11-00-musiikkijumalanpalvelus-light-choir/
END:VEVENT
BEGIN:VEVENT
DTSTART;TZID=Europe/Helsinki:20240112T190000
DTEND;TZID=Europe/Helsinki:20240112T230000
DTSTAMP:20260420T130844
CREATED:20231219T061830Z
LAST-MODIFIED:20231219T061830Z
UID:12308-1705086000-1705100400@kotikirkko.fi
SUMMARY:Pe 12.1. klo 19 Nuortenilta
DESCRIPTION:Pe 12.1. klo 19 Nuortenilta Kotikirkolla
URL:https://kotikirkko.fi/ohjelma/pe-12-1-klo-19-nuortenilta/
END:VEVENT
BEGIN:VEVENT
DTSTART;TZID=Europe/Helsinki:20240110T180000
DTEND;TZID=Europe/Helsinki:20240110T193000
DTSTAMP:20260420T130844
CREATED:20231219T065020Z
LAST-MODIFIED:20231219T071304Z
UID:12401-1704909600-1704915000@kotikirkko.fi
SUMMARY:Ke 10.1. 18.00 Rukousilta
DESCRIPTION:Ke 10.1. 18.00 Rukousilta\, Allani Rantasalo ja Leif Palm
URL:https://kotikirkko.fi/ohjelma/ke-10-1-18-00-rukousilta-allani-rantasalo-ja-leif-palm/
END:VEVENT
BEGIN:VEVENT
DTSTART;TZID=Europe/Helsinki:20240109T183000
DTEND;TZID=Europe/Helsinki:20240109T200000
DTSTAMP:20260420T130844
CREATED:20231219T062444Z
LAST-MODIFIED:20231219T062444Z
UID:12326-1704825000-1704830400@kotikirkko.fi
SUMMARY:Ti 9.1. klo 18.30 Varkkikerho
DESCRIPTION:Ti 9.1. klo 18.30 Varkkikerho 
URL:https://kotikirkko.fi/ohjelma/ti-9-1-klo-18-30-varkkikerho/
END:VEVENT
BEGIN:VEVENT
DTSTART;TZID=Europe/Helsinki:20240107T110000
DTEND;TZID=Europe/Helsinki:20240107T123000
DTSTAMP:20260420T130844
CREATED:20230913T114035Z
LAST-MODIFIED:20231219T064100Z
UID:12071-1704625200-1704630600@kotikirkko.fi
SUMMARY:Su 7.1. klo 11.00 Ehtoollisjuhla
DESCRIPTION:Su 7.1. klo 11.00 Ehtoollisjuhla\, Hannu Kulju\, Seppo Kaski\, musiikki Robert ja Pia Berg\, kahvitarjoilu. Seurakunnan jäsenasiat Timo Mantila
URL:https://kotikirkko.fi/ohjelma/su-7-1-klo-11-00-ehtoollisjuhla/
END:VEVENT
BEGIN:VEVENT
DTSTART;TZID=Europe/Helsinki:20240103T180000
DTEND;TZID=Europe/Helsinki:20240103T193000
DTSTAMP:20260420T130844
CREATED:20231219T064239Z
LAST-MODIFIED:20231219T064306Z
UID:12389-1704304800-1704310200@kotikirkko.fi
SUMMARY:Ke 3.1. 18.00	Rukousilta
DESCRIPTION:Ke 3.1. 18.00 Rukousilta\, Anja Kolehmainen ja Tiina Halme
URL:https://kotikirkko.fi/ohjelma/ke-3-1-18-00rukousilta-anja-kolehmainen-ja-tiina-halme/
END:VEVENT
BEGIN:VEVENT
DTSTART;TZID=Europe/Helsinki:20231231T190000
DTEND;TZID=Europe/Helsinki:20231231T230000
DTSTAMP:20260420T130844
CREATED:20231120T084234Z
LAST-MODIFIED:20231120T085008Z
UID:12266-1704049200-1704063600@kotikirkko.fi
SUMMARY:Su 31.12. 19.00 ja 21.00 Uuden vuoden vastaanottajaiset
DESCRIPTION:Su 31.12. 19.00 ja 21.00 Uuden vuoden vastaanottajaiset\, kahvitarjoilu
URL:https://kotikirkko.fi/ohjelma/su-31-12-19-00-ja-21-00-uuden-vuoden-vastaanottajaiset/
END:VEVENT
BEGIN:VEVENT
DTSTART;TZID=Europe/Helsinki:20231227T180000
DTEND;TZID=Europe/Helsinki:20231227T193000
DTSTAMP:20260420T130844
CREATED:20230914T085730Z
LAST-MODIFIED:20231120T083953Z
UID:12106-1703700000-1703705400@kotikirkko.fi
SUMMARY:Ke 27.12. 18.00 Rukousilta
DESCRIPTION:Ke 27.12. 18.00 Rukousilta\, Allani Rantasalo ja Leif Palm 
URL:https://kotikirkko.fi/ohjelma/ke-27-12-18-00-rukousilta/
END:VEVENT
BEGIN:VEVENT
DTSTART;TZID=Europe/Helsinki:20231220T180000
DTEND;TZID=Europe/Helsinki:20231220T193000
DTSTAMP:20260420T130844
CREATED:20230914T084527Z
LAST-MODIFIED:20231120T083643Z
UID:12098-1703095200-1703100600@kotikirkko.fi
SUMMARY:Ke 20.12. 18.00 Rukousilta
DESCRIPTION:Ke 20.12. 18.00 Rukousilta\, Satu\, Paavo\, Anni ja Renne 
URL:https://kotikirkko.fi/ohjelma/ke-20-12-18-00-pienryhmat-kodeissa-ja-kotikirkolla-rukousilta-ylasalissa/
END:VEVENT
BEGIN:VEVENT
DTSTART;TZID=Europe/Helsinki:20231217T160000
DTEND;TZID=Europe/Helsinki:20231217T173000
DTSTAMP:20260420T130844
CREATED:20230913T114623Z
LAST-MODIFIED:20231217T080143Z
UID:12077-1702828800-1702834200@kotikirkko.fi
SUMMARY:Su 17.12. 16.00 Koko seurakunnan joulujuhla
DESCRIPTION:Su 17.12. 16.00 Koko seurakunnan joulujuhla\, lasten ja nuorten ohjelmaa\, Kotikirkon kuoro\, solistit ja orkesteri\, kahvitarjoilu ja myyjäiset
URL:https://kotikirkko.fi/ohjelma/su-17-12-klo-16-00-koko-seurakunnan-joulujuhla/
END:VEVENT
BEGIN:VEVENT
DTSTART;TZID=Europe/Helsinki:20231215T180000
DTEND;TZID=Europe/Helsinki:20231215T220000
DTSTAMP:20260420T130844
CREATED:20230925T174630Z
LAST-MODIFIED:20230925T174630Z
UID:12188-1702663200-1702677600@kotikirkko.fi
SUMMARY:Pe 15.12. klo 19 Nuortenilta
DESCRIPTION:Pe 15.12. klo 19.00 Nuortenilta\, Hyvinkäällä
URL:https://kotikirkko.fi/ohjelma/la-18-11-klo-19-nuoret-maata-nakyvissa-festareilla-2-2-2-2/
END:VEVENT
BEGIN:VEVENT
DTSTART;TZID=Europe/Helsinki:20231213T180000
DTEND;TZID=Europe/Helsinki:20231213T193000
DTSTAMP:20260420T130844
CREATED:20230914T085430Z
LAST-MODIFIED:20231120T083815Z
UID:12103-1702490400-1702495800@kotikirkko.fi
SUMMARY:Ke 13.12. 18.00 Rukousilta
DESCRIPTION:Ke 13.12. 18.00 Rukousilta\, Hemmi Nyman
URL:https://kotikirkko.fi/ohjelma/ke-13-12-18-00-rukousilta/
END:VEVENT
BEGIN:VEVENT
DTSTART;TZID=Europe/Helsinki:20231212T183000
DTEND;TZID=Europe/Helsinki:20231212T200000
DTSTAMP:20260420T130844
CREATED:20230925T172049Z
LAST-MODIFIED:20230925T172049Z
UID:12149-1702405800-1702411200@kotikirkko.fi
SUMMARY:Ti 12.12. klo 18.30 Varkkikerho
DESCRIPTION:Ti 12.12. klo 18.30 Varkkikerho\, pikkujoulut
URL:https://kotikirkko.fi/ohjelma/ti-3-10-klo-18-30-varkkikerho-2-2-2-2-2-2-2-2/
END:VEVENT
BEGIN:VEVENT
DTSTART;TZID=Europe/Helsinki:20231210T110000
DTEND;TZID=Europe/Helsinki:20231210T123000
DTSTAMP:20260420T130844
CREATED:20230913T114313Z
LAST-MODIFIED:20230913T114313Z
UID:12074-1702206000-1702211400@kotikirkko.fi
SUMMARY:Su 10.12. klo 11.00 Jumalanpalvelus
DESCRIPTION:Su 10.12. klo 11.00 Jumalanpalvelus\, Sari Matikainen\, Salme Toikkanen
URL:https://kotikirkko.fi/ohjelma/su-10-12-klo-11-00-jumalanpalvelus/
END:VEVENT
BEGIN:VEVENT
DTSTART;TZID=Europe/Helsinki:20231208T190000
DTEND;TZID=Europe/Helsinki:20231208T220000
DTSTAMP:20260420T130844
CREATED:20230925T174520Z
LAST-MODIFIED:20230925T174520Z
UID:12185-1702062000-1702072800@kotikirkko.fi
SUMMARY:Pe 8.12. klo 19 Nuortenilta
DESCRIPTION:Pe 8.12. klo 19.00 Nuortenilta\, pikkujoulut
URL:https://kotikirkko.fi/ohjelma/la-18-11-klo-19-nuoret-maata-nakyvissa-festareilla-2-2-2/
END:VEVENT
BEGIN:VEVENT
DTSTART;TZID=Europe/Helsinki:20231208T183000
DTEND;TZID=Europe/Helsinki:20231208T200000
DTSTAMP:20260420T130844
CREATED:20231120T133842Z
LAST-MODIFIED:20231120T133842Z
UID:12270-1702060200-1702065600@kotikirkko.fi
SUMMARY:Pe 8.12. 18.30 Yksi Sydän-yhtyeen joulukonsertti Keskuskirkossa
DESCRIPTION:Pe 8.12. 18.30 Yksi Sydän-yhtyeen joulukonsertti Keskuskirkossa
URL:https://kotikirkko.fi/ohjelma/pe-8-12-18-30-yksi-sydan-yhtyeen-joulukonsertti-keskuskirkossa/
END:VEVENT
BEGIN:VEVENT
DTSTART;TZID=Europe/Helsinki:20231205T183000
DTEND;TZID=Europe/Helsinki:20231205T200000
DTSTAMP:20260420T130844
CREATED:20230925T172003Z
LAST-MODIFIED:20230925T172003Z
UID:12146-1701801000-1701806400@kotikirkko.fi
SUMMARY:Ti 5.12. klo 18.30 Varkkikerho
DESCRIPTION:Ti 5.12. klo 18.30 Varkkikerho
URL:https://kotikirkko.fi/ohjelma/ti-3-10-klo-18-30-varkkikerho-2-2-2-2-2-2-2/
END:VEVENT
BEGIN:VEVENT
DTSTART;TZID=Europe/Helsinki:20231204T183000
DTEND;TZID=Europe/Helsinki:20231204T200000
DTSTAMP:20260420T130844
CREATED:20231120T080517Z
LAST-MODIFIED:20231120T080517Z
UID:12255-1701714600-1701720000@kotikirkko.fi
SUMMARY:Ma 4.12. 18.30 Riihimäki rukoilee-ilta
DESCRIPTION:Ma 4.12. 18.30 Riihimäki rukoilee-ilta\, Erkki Karvanen ja Seppo Huhdanpää
URL:https://kotikirkko.fi/ohjelma/ma-4-12-18-30-riihimaki-rukoilee-ilta/
END:VEVENT
END:VCALENDAR