BEGIN:VCALENDAR
VERSION:2.0
PRODID:-//Riihimäen Kotikirkko - ECPv6.15.20//NONSGML v1.0//EN
CALSCALE:GREGORIAN
METHOD:PUBLISH
X-ORIGINAL-URL:https://kotikirkko.fi
X-WR-CALDESC:Tapahtumat Riihimäen Kotikirkko
REFRESH-INTERVAL;VALUE=DURATION:PT1H
X-Robots-Tag:noindex
X-PUBLISHED-TTL:PT1H
BEGIN:VTIMEZONE
TZID:Europe/Helsinki
BEGIN:DAYLIGHT
TZOFFSETFROM:+0200
TZOFFSETTO:+0300
TZNAME:EEST
DTSTART:20230326T010000
END:DAYLIGHT
BEGIN:STANDARD
TZOFFSETFROM:+0300
TZOFFSETTO:+0200
TZNAME:EET
DTSTART:20231029T010000
END:STANDARD
BEGIN:DAYLIGHT
TZOFFSETFROM:+0200
TZOFFSETTO:+0300
TZNAME:EEST
DTSTART:20240331T010000
END:DAYLIGHT
BEGIN:STANDARD
TZOFFSETFROM:+0300
TZOFFSETTO:+0200
TZNAME:EET
DTSTART:20241027T010000
END:STANDARD
BEGIN:DAYLIGHT
TZOFFSETFROM:+0200
TZOFFSETTO:+0300
TZNAME:EEST
DTSTART:20250330T010000
END:DAYLIGHT
BEGIN:STANDARD
TZOFFSETFROM:+0300
TZOFFSETTO:+0200
TZNAME:EET
DTSTART:20251026T010000
END:STANDARD
END:VTIMEZONE
BEGIN:VEVENT
DTSTART;TZID=Europe/Helsinki:20240329T190000
DTEND;TZID=Europe/Helsinki:20240329T230000
DTSTAMP:20260420T091514
CREATED:20231219T063609Z
LAST-MODIFIED:20231219T063609Z
UID:12369-1711738800-1711753200@kotikirkko.fi
SUMMARY:Pe 29.3. klo 19 Nuortenilta
DESCRIPTION:Pe 29.3. klo 19 Nuortenilta Kotikirkolla
URL:https://kotikirkko.fi/ohjelma/pe-1-3-klo-19-nuortenilta-2-2-2-2/
END:VEVENT
BEGIN:VEVENT
DTSTART;TZID=Europe/Helsinki:20240329T160000
DTEND;TZID=Europe/Helsinki:20240329T173000
DTSTAMP:20260420T091514
CREATED:20240225T073812Z
LAST-MODIFIED:20240225T073812Z
UID:12597-1711728000-1711733400@kotikirkko.fi
SUMMARY:Pe 29.3. 16.00 Pitkäperjantain ehtoollinen
DESCRIPTION:Pe 29.3. 16.00 Pitkäperjantain ehtoollinen\, Ulf Krokfors\, Seppo Kaski\, musiikki Tuire Haatane\, rahalahja seniorityöntekijöille
URL:https://kotikirkko.fi/ohjelma/pe-29-3-16-00-pitkaperjantain-ehtoollinen/
END:VEVENT
BEGIN:VEVENT
DTSTART;TZID=Europe/Helsinki:20240327T180000
DTEND;TZID=Europe/Helsinki:20240327T193000
DTSTAMP:20260420T091514
CREATED:20240225T073257Z
LAST-MODIFIED:20240225T073556Z
UID:12594-1711562400-1711567800@kotikirkko.fi
SUMMARY:Ke 27.3. 18.00 Rukousilta
DESCRIPTION:Ke 27.3. 18.00 Rukousilta\, Jukka Nummikoski
URL:https://kotikirkko.fi/ohjelma/ke-27-3-18-00-rukousilta/
END:VEVENT
BEGIN:VEVENT
DTSTART;TZID=Europe/Helsinki:20240324T110000
DTEND;TZID=Europe/Helsinki:20240324T123000
DTSTAMP:20260420T091514
CREATED:20240225T072908Z
LAST-MODIFIED:20240225T073121Z
UID:12589-1711278000-1711283400@kotikirkko.fi
SUMMARY:Su 24.3. 11.00 Musiikijuhla
DESCRIPTION:Su 24.3. 11.00 Musiikijuhla\, Lavrenchukin musiikkiperhe \nhttps://lavr.fi/pages?id=7
URL:https://kotikirkko.fi/ohjelma/su-24-3-11-00-musiikijuhla/
END:VEVENT
BEGIN:VEVENT
DTSTART;TZID=Europe/Helsinki:20240322T190000
DTEND;TZID=Europe/Helsinki:20240322T230000
DTSTAMP:20260420T091514
CREATED:20231219T063530Z
LAST-MODIFIED:20231219T063530Z
UID:12366-1711134000-1711148400@kotikirkko.fi
SUMMARY:Pe 22.3. klo 19 Nuortenilta
DESCRIPTION:Pe 22.3. klo 19 Nuortenilta Kotikirkolla
URL:https://kotikirkko.fi/ohjelma/pe-1-3-klo-19-nuortenilta-2-2-2/
END:VEVENT
BEGIN:VEVENT
DTSTART;TZID=Europe/Helsinki:20240320T180000
DTEND;TZID=Europe/Helsinki:20240320T193000
DTSTAMP:20260420T091514
CREATED:20240225T072539Z
LAST-MODIFIED:20240225T072539Z
UID:12586-1710957600-1710963000@kotikirkko.fi
SUMMARY:Ke 20.3. 18.00 Rukousilta
DESCRIPTION:Ke 20.3. 18.00 Rukousilta\, Henkka ja Hanna Nyman
URL:https://kotikirkko.fi/ohjelma/ke-20-3-18-00-rukousilta/
END:VEVENT
BEGIN:VEVENT
DTSTART;TZID=Europe/Helsinki:20240319T183000
DTEND;TZID=Europe/Helsinki:20240319T200000
DTSTAMP:20260420T091514
CREATED:20231219T063009Z
LAST-MODIFIED:20231219T063009Z
UID:12351-1710873000-1710878400@kotikirkko.fi
SUMMARY:Ti 19.3. klo 18.30 Varkkikerho
DESCRIPTION:Ti 19.3. klo 18.30 Varkkikerho 
URL:https://kotikirkko.fi/ohjelma/ti-9-1-klo-18-30-varkkikerho-2-2-2-2-2-2-2-2/
END:VEVENT
BEGIN:VEVENT
DTSTART;TZID=Europe/Helsinki:20240319T080000
DTEND;TZID=Europe/Helsinki:20240319T170000
DTSTAMP:20260420T091514
CREATED:20240319T130645Z
LAST-MODIFIED:20240319T130645Z
UID:12639-1710835200-1710867600@kotikirkko.fi
SUMMARY:Su 14.4. 16.00 Musiikkijuhla\, Laulun Siivet -yhtye
DESCRIPTION:Su 14.4. 16.00 Musiikkijuhla\, Laulun Siivet -yhtye ja evankelista Seppo Lindeman\, pyhäkoulu
URL:https://kotikirkko.fi/ohjelma/su-14-4-16-00-musiikkijuhla-laulun-siivet-yhtye/
END:VEVENT
BEGIN:VEVENT
DTSTART;TZID=Europe/Helsinki:20240317T160000
DTEND;TZID=Europe/Helsinki:20240317T173000
DTSTAMP:20260420T091514
CREATED:20240225T072411Z
LAST-MODIFIED:20240225T072411Z
UID:12583-1710691200-1710696600@kotikirkko.fi
SUMMARY:Su 17.3. 16.00 Yhteysilta
DESCRIPTION:Su 17.3. 16.00 Yhteysilta\, Paula Reijonen\, Henkka ja Hanna Nyman
URL:https://kotikirkko.fi/ohjelma/su-17-3-16-00-yhteysilta/
END:VEVENT
BEGIN:VEVENT
DTSTART;TZID=Europe/Helsinki:20240315T190000
DTEND;TZID=Europe/Helsinki:20240315T230000
DTSTAMP:20260420T091514
CREATED:20231219T063502Z
LAST-MODIFIED:20231219T063502Z
UID:12363-1710529200-1710543600@kotikirkko.fi
SUMMARY:Pe 15.3. klo 19 Nuortenilta
DESCRIPTION:Pe 15.3. klo 19 Nuortenilta Kotikirkolla
URL:https://kotikirkko.fi/ohjelma/pe-1-3-klo-19-nuortenilta-2-2/
END:VEVENT
BEGIN:VEVENT
DTSTART;TZID=Europe/Helsinki:20240313T180000
DTEND;TZID=Europe/Helsinki:20240313T193000
DTSTAMP:20260420T091514
CREATED:20240225T072207Z
LAST-MODIFIED:20240225T072207Z
UID:12580-1710352800-1710358200@kotikirkko.fi
SUMMARY:Ke 13.3. 18.00 Rukousilta
DESCRIPTION:Ke 13.3. 18.00 Rukousilta\, Salla Ylönen
URL:https://kotikirkko.fi/ohjelma/ke-13-3-18-00-rukousilta/
END:VEVENT
BEGIN:VEVENT
DTSTART;TZID=Europe/Helsinki:20240312T183000
DTEND;TZID=Europe/Helsinki:20240312T200000
DTSTAMP:20260420T091514
CREATED:20231219T062931Z
LAST-MODIFIED:20231219T062931Z
UID:12348-1710268200-1710273600@kotikirkko.fi
SUMMARY:Ti 12.3. klo 18.30 Varkkikerho
DESCRIPTION:Ti 12.3. klo 18.30 Varkkikerho 
URL:https://kotikirkko.fi/ohjelma/ti-9-1-klo-18-30-varkkikerho-2-2-2-2-2-2-2/
END:VEVENT
BEGIN:VEVENT
DTSTART;TZID=Europe/Helsinki:20240310T110000
DTEND;TZID=Europe/Helsinki:20240310T123000
DTSTAMP:20260420T091514
CREATED:20231219T074638Z
LAST-MODIFIED:20240222T135053Z
UID:12432-1710068400-1710073800@kotikirkko.fi
SUMMARY:Su 10.3. 11.00 Teemajumalanpalvelus
DESCRIPTION:Su 10.3. 11.00 Teemajumalanpalvelus\, Sukupolvien siunaus ja taakka\, Pirjo Alajoki\, Timo Mantila\, musiikki Satu Laine ja ystävät
URL:https://kotikirkko.fi/ohjelma/su-11-2-11-00-teemajumalanpalvelus/
END:VEVENT
BEGIN:VEVENT
DTSTART;TZID=Europe/Helsinki:20240308T190000
DTEND;TZID=Europe/Helsinki:20240308T230000
DTSTAMP:20260420T091514
CREATED:20231219T063425Z
LAST-MODIFIED:20231219T063425Z
UID:12360-1709924400-1709938800@kotikirkko.fi
SUMMARY:Pe 8.3. klo 19 Nuortenilta
DESCRIPTION:Pe 8.3. klo 19 Nuortenilta Kotikirkolla
URL:https://kotikirkko.fi/ohjelma/pe-1-3-klo-19-nuortenilta-2/
END:VEVENT
BEGIN:VEVENT
DTSTART;TZID=Europe/Helsinki:20240306T180000
DTEND;TZID=Europe/Helsinki:20240306T193000
DTSTAMP:20260420T091514
CREATED:20240225T071702Z
LAST-MODIFIED:20240225T071904Z
UID:12577-1709748000-1709753400@kotikirkko.fi
SUMMARY:Ke 6.3. 18.00 Rukousilta
DESCRIPTION:Ke 6.3. 18.00 Rukousilta\, Anja Kolehmainen ja Tiina Halme
URL:https://kotikirkko.fi/ohjelma/ke-6-3-18-00-rukousilta/
END:VEVENT
BEGIN:VEVENT
DTSTART;TZID=Europe/Helsinki:20240305T183000
DTEND;TZID=Europe/Helsinki:20240305T200000
DTSTAMP:20260420T091514
CREATED:20231219T062852Z
LAST-MODIFIED:20231219T062852Z
UID:12345-1709663400-1709668800@kotikirkko.fi
SUMMARY:Ti 5.3. klo 18.30 Varkkikerho
DESCRIPTION:Ti 5.3. klo 18.30 Varkkikerho 
URL:https://kotikirkko.fi/ohjelma/ti-9-1-klo-18-30-varkkikerho-2-2-2-2-2-2/
END:VEVENT
BEGIN:VEVENT
DTSTART;TZID=Europe/Helsinki:20240304T183000
DTEND;TZID=Europe/Helsinki:20240304T200000
DTSTAMP:20260420T091514
CREATED:20240223T081006Z
LAST-MODIFIED:20240223T082737Z
UID:12561-1709577000-1709582400@kotikirkko.fi
SUMMARY:Ma 4.3. 18.30 Riihimäki rukoilee-ilta Kotikirkolla
DESCRIPTION:Ma 4.3. 18.30 Riihimäki rukoilee-ilta Kotikirkolla\, Erick Kabongo\, Salima Mbakwe\, Robert Berg ja tiimi
URL:https://kotikirkko.fi/ohjelma/ma-4-3-18-30-riihimaki-rukoilee-ilta-kotikirkolla/
END:VEVENT
BEGIN:VEVENT
DTSTART;TZID=Europe/Helsinki:20240303T110000
DTEND;TZID=Europe/Helsinki:20240303T123000
DTSTAMP:20260420T091514
CREATED:20240123T095407Z
LAST-MODIFIED:20240123T095407Z
UID:12479-1709463600-1709469000@kotikirkko.fi
SUMMARY:Su 3.3. 11.00 Ehtoollisjuhla
DESCRIPTION:Su 3.3. 11.00 Ehtoollisjuhla\, Seppo Kaski\, Ari Juntunen\, Kotikirkon kuoro\, kahvitarjoilu\, seurakunnan jäsenasiat Timo Mantila
URL:https://kotikirkko.fi/ohjelma/su-3-3-11-00-ehtoollisjuhla/
END:VEVENT
BEGIN:VEVENT
DTSTART;TZID=Europe/Helsinki:20240301T190000
DTEND;TZID=Europe/Helsinki:20240301T230000
DTSTAMP:20260420T091514
CREATED:20231219T063353Z
LAST-MODIFIED:20231219T063353Z
UID:12357-1709319600-1709334000@kotikirkko.fi
SUMMARY:Pe 1.3. klo 19 Nuortenilta
DESCRIPTION:Pe 1.3. klo 19 Nuortenilta Kotikirkolla
URL:https://kotikirkko.fi/ohjelma/pe-1-3-klo-19-nuortenilta/
END:VEVENT
BEGIN:VEVENT
DTSTART;TZID=Europe/Helsinki:20240228T180000
DTEND;TZID=Europe/Helsinki:20240228T193000
DTSTAMP:20260420T091514
CREATED:20240124T083440Z
LAST-MODIFIED:20240124T083548Z
UID:12495-1709143200-1709148600@kotikirkko.fi
SUMMARY:Ke 28.2. 18.00 Rukousilta
DESCRIPTION:Ke 28.2. 18.00 Rukousilta\, Allani Rantasalo ja Risto Ropo
URL:https://kotikirkko.fi/ohjelma/ke-28-2-18-00-rukousilta/
END:VEVENT
BEGIN:VEVENT
DTSTART;TZID=Europe/Helsinki:20240227T183000
DTEND;TZID=Europe/Helsinki:20240227T200000
DTSTAMP:20260420T091514
CREATED:20231219T062805Z
LAST-MODIFIED:20231219T062805Z
UID:12342-1709058600-1709064000@kotikirkko.fi
SUMMARY:Ti 27.2. klo 18.30 Varkkikerho
DESCRIPTION:Ti 27.2. klo 18.30 Varkkikerho 
URL:https://kotikirkko.fi/ohjelma/ti-9-1-klo-18-30-varkkikerho-2-2-2-2-2/
END:VEVENT
BEGIN:VEVENT
DTSTART;TZID=Europe/Helsinki:20240225T160000
DTEND;TZID=Europe/Helsinki:20240225T173000
DTSTAMP:20260420T091514
CREATED:20240123T094349Z
LAST-MODIFIED:20240222T133531Z
UID:12472-1708876800-1708882200@kotikirkko.fi
SUMMARY:Su 25.2. 16.00 Yhteysilta
DESCRIPTION:Su 25.2. 16.00 Yhteysilta\, Leif ja Merita Åkerlund\, Henkka ja Hanna Nyman\, yhteysiltojen tiimi\, kahvitarjoilu \n 
URL:https://kotikirkko.fi/ohjelma/su-25-2-16-00-yhteysilta/
END:VEVENT
BEGIN:VEVENT
DTSTART;TZID=Europe/Helsinki:20240221T180000
DTEND;TZID=Europe/Helsinki:20240221T193000
DTSTAMP:20260420T091514
CREATED:20240123T133251Z
LAST-MODIFIED:20240123T133318Z
UID:12490-1708538400-1708543800@kotikirkko.fi
SUMMARY:Ke 21.2. 18.00 Rukousilta
DESCRIPTION:Ke 21.2.18.00 Rukousilta\, Seppo ja Anne Kaski
URL:https://kotikirkko.fi/ohjelma/ke-21-2-18-00-rukousilta/
END:VEVENT
BEGIN:VEVENT
DTSTART;TZID=Europe/Helsinki:20240218T110000
DTEND;TZID=Europe/Helsinki:20240218T123000
DTSTAMP:20260420T091514
CREATED:20240123T094058Z
LAST-MODIFIED:20240123T094205Z
UID:12469-1708254000-1708259400@kotikirkko.fi
SUMMARY:Su 18.2. 11.00 Lähetysjumalanpalvelus jesidi-teemalla
DESCRIPTION:Su 18.2. 11.00 Lähetysjumalanpalvelus jesidi-teemalla\, Jukka ja Pirjo Perttu\, musiikki Marika ja Anne
URL:https://kotikirkko.fi/ohjelma/su-18-2-11-00-lahetysjumalanpalvelus-jesidi-teemalla/
END:VEVENT
BEGIN:VEVENT
DTSTART;TZID=Europe/Helsinki:20240216T190000
DTEND;TZID=Europe/Helsinki:20240216T230000
DTSTAMP:20260420T091514
CREATED:20231219T062157Z
LAST-MODIFIED:20231219T062157Z
UID:12323-1708110000-1708124400@kotikirkko.fi
SUMMARY:Pe 16.2. klo 19 Nuortenilta
DESCRIPTION:Pe 16.2. klo 19 Nuortenilta Kotikirkolla
URL:https://kotikirkko.fi/ohjelma/pe-12-1-klo-19-nuortenilta-2-2-2-2-2/
END:VEVENT
BEGIN:VEVENT
DTSTART;TZID=Europe/Helsinki:20240214T180000
DTEND;TZID=Europe/Helsinki:20240214T193000
DTSTAMP:20260420T091514
CREATED:20240123T132443Z
LAST-MODIFIED:20240123T132513Z
UID:12485-1707933600-1707939000@kotikirkko.fi
SUMMARY:Ke 14.2. 18.00 Rukousilta
DESCRIPTION:Ke 14.2. 18.00 Rukousilta\, Suvi Hyytinen
URL:https://kotikirkko.fi/ohjelma/ke-14-2-18-00-rukousilta/
END:VEVENT
BEGIN:VEVENT
DTSTART;TZID=Europe/Helsinki:20240213T183000
DTEND;TZID=Europe/Helsinki:20240213T200000
DTSTAMP:20260420T091514
CREATED:20231219T062733Z
LAST-MODIFIED:20231219T062733Z
UID:12339-1707849000-1707854400@kotikirkko.fi
SUMMARY:Ti 13.2. klo 18.30 Varkkikerho
DESCRIPTION:Ti 13.2. klo 18.30 Varkkikerho 
URL:https://kotikirkko.fi/ohjelma/ti-9-1-klo-18-30-varkkikerho-2-2-2-2/
END:VEVENT
BEGIN:VEVENT
DTSTART;TZID=Europe/Helsinki:20240211T160000
DTEND;TZID=Europe/Helsinki:20240211T173000
DTSTAMP:20260420T091514
CREATED:20240123T093758Z
LAST-MODIFIED:20240123T093758Z
UID:12466-1707667200-1707672600@kotikirkko.fi
SUMMARY:Su 11.2. 16.00 #Reset-teemajumalanpalvelus
DESCRIPTION:Su 11.2. 16.00 #Reset-teemajumalanpalvelus\, Salla Ylönen\, Hanna Sipilä\, musiikissa nuoret ja Jippii-ryhmä
URL:https://kotikirkko.fi/ohjelma/su-11-2-16-00-reset-teemajumalanpalvelus/
END:VEVENT
BEGIN:VEVENT
DTSTART;TZID=Europe/Helsinki:20240209T190000
DTEND;TZID=Europe/Helsinki:20240209T230000
DTSTAMP:20260420T091514
CREATED:20231219T062108Z
LAST-MODIFIED:20231219T062108Z
UID:12320-1707505200-1707519600@kotikirkko.fi
SUMMARY:Pe 9.2. klo 19 Nuortenilta
DESCRIPTION:Pe 9.2. klo 19 Nuortenilta Kotikirkolla
URL:https://kotikirkko.fi/ohjelma/pe-12-1-klo-19-nuortenilta-2-2-2-2/
END:VEVENT
BEGIN:VEVENT
DTSTART;TZID=Europe/Helsinki:20240207T180000
DTEND;TZID=Europe/Helsinki:20240207T193000
DTSTAMP:20260420T091514
CREATED:20231219T071536Z
LAST-MODIFIED:20231219T071536Z
UID:12428-1707328800-1707334200@kotikirkko.fi
SUMMARY:Ke 7.2. 18.00 Rukousilta
DESCRIPTION:Ke 7.2. 18.00 Rukousilta\, Leo Saari
URL:https://kotikirkko.fi/ohjelma/ke-7-2-18-00-rukousilta/
END:VEVENT
END:VCALENDAR