BEGIN:VCALENDAR
VERSION:2.0
PRODID:-//Riihimäen Kotikirkko - ECPv6.15.20//NONSGML v1.0//EN
CALSCALE:GREGORIAN
METHOD:PUBLISH
X-WR-CALNAME:Riihimäen Kotikirkko
X-ORIGINAL-URL:https://kotikirkko.fi
X-WR-CALDESC:Tapahtumat Riihimäen Kotikirkko
REFRESH-INTERVAL;VALUE=DURATION:PT1H
X-Robots-Tag:noindex
X-PUBLISHED-TTL:PT1H
BEGIN:VTIMEZONE
TZID:Europe/Helsinki
BEGIN:DAYLIGHT
TZOFFSETFROM:+0200
TZOFFSETTO:+0300
TZNAME:EEST
DTSTART:20230326T010000
END:DAYLIGHT
BEGIN:STANDARD
TZOFFSETFROM:+0300
TZOFFSETTO:+0200
TZNAME:EET
DTSTART:20231029T010000
END:STANDARD
BEGIN:DAYLIGHT
TZOFFSETFROM:+0200
TZOFFSETTO:+0300
TZNAME:EEST
DTSTART:20240331T010000
END:DAYLIGHT
BEGIN:STANDARD
TZOFFSETFROM:+0300
TZOFFSETTO:+0200
TZNAME:EET
DTSTART:20241027T010000
END:STANDARD
BEGIN:DAYLIGHT
TZOFFSETFROM:+0200
TZOFFSETTO:+0300
TZNAME:EEST
DTSTART:20250330T010000
END:DAYLIGHT
BEGIN:STANDARD
TZOFFSETFROM:+0300
TZOFFSETTO:+0200
TZNAME:EET
DTSTART:20251026T010000
END:STANDARD
END:VTIMEZONE
BEGIN:VEVENT
DTSTART;TZID=Europe/Helsinki:20240521T183000
DTEND;TZID=Europe/Helsinki:20240521T200000
DTSTAMP:20260420T052716
CREATED:20240408T074149Z
LAST-MODIFIED:20240408T074149Z
UID:12708-1716316200-1716321600@kotikirkko.fi
SUMMARY:Ti 21.5. klo 18.30 Varkkikerho
DESCRIPTION:Ti 21.5. klo 18.30 Varkkikerho Kotikirkolla
URL:https://kotikirkko.fi/ohjelma/ti-7-5-klo-18-30-varkkikerho-2-2/
END:VEVENT
BEGIN:VEVENT
DTSTART;TZID=Europe/Helsinki:20240519T110000
DTEND;TZID=Europe/Helsinki:20240519T123000
DTSTAMP:20260420T052716
CREATED:20240423T054207Z
LAST-MODIFIED:20240423T054721Z
UID:12764-1716116400-1716121800@kotikirkko.fi
SUMMARY:Su 19.5. 11.00 Jumalanpalvelus\, teemana baluchit
DESCRIPTION:Su 19.5. 11.00 Jumalanpalvelus\, teemana baluchit\, Tomi Kuosmanen ja Jukka Perttu\, musiikissa nuorten bändi
URL:https://kotikirkko.fi/ohjelma/su-19-5-11-00-jumalanpalvelus-teemana-baluchit/
END:VEVENT
BEGIN:VEVENT
DTSTART;TZID=Europe/Helsinki:20240517T190000
DTEND;TZID=Europe/Helsinki:20240517T230000
DTSTAMP:20260420T052716
CREATED:20240408T074520Z
LAST-MODIFIED:20240408T074520Z
UID:12716-1715972400-1715986800@kotikirkko.fi
SUMMARY:Pe 17.5. klo 19.00 Nuortenilta
DESCRIPTION:Pe 17.5. klo 19.00 Nuortenilta
URL:https://kotikirkko.fi/ohjelma/pe-10-5-klo-19-00-nuortenilta-2/
END:VEVENT
BEGIN:VEVENT
DTSTART;TZID=Europe/Helsinki:20240515T180000
DTEND;TZID=Europe/Helsinki:20240515T193000
DTSTAMP:20260420T052716
CREATED:20240423T053959Z
LAST-MODIFIED:20240423T053959Z
UID:12761-1715796000-1715801400@kotikirkko.fi
SUMMARY:Ke 15.5. 18.00 Rukousilta\, Heidi ja Miku Antinsalo
DESCRIPTION:Ke 15.5. 18.00 Rukousilta\, Heidi ja Miku Antinsalo
URL:https://kotikirkko.fi/ohjelma/ke-15-5-18-00-rukousilta-heidi-ja-miku-antinsalo/
END:VEVENT
BEGIN:VEVENT
DTSTART;TZID=Europe/Helsinki:20240514T183000
DTEND;TZID=Europe/Helsinki:20240514T200000
DTSTAMP:20260420T052716
CREATED:20240408T074117Z
LAST-MODIFIED:20240408T074214Z
UID:12705-1715711400-1715716800@kotikirkko.fi
SUMMARY:Ti 14.5. klo 18.30 Varkkikerho
DESCRIPTION:Ti 14.5. klo 18.30 Varkkikerho Kotikirkolla
URL:https://kotikirkko.fi/ohjelma/ti-7-5-klo-18-30-varkkikerho-2/
END:VEVENT
BEGIN:VEVENT
DTSTART;TZID=Europe/Helsinki:20240512T110000
DTEND;TZID=Europe/Helsinki:20240512T123000
DTSTAMP:20260420T052716
CREATED:20240423T052954Z
LAST-MODIFIED:20240511T045710Z
UID:12758-1715511600-1715517000@kotikirkko.fi
SUMMARY:Su 12.5. 11.00 Teemajumalanpalvelus
DESCRIPTION:Su 12.5. 11.00	Teemajumalanpalvelus\, Pekka Tyni ja Kari Bergman Gideoneista\, Allani Rantasalo\, musiikki Henry Hedman\, rahalahja Gideonien raamattutyölle
URL:https://kotikirkko.fi/ohjelma/su-12-5-11-00-teemajumalanpalvelus/
END:VEVENT
BEGIN:VEVENT
DTSTART;TZID=Europe/Helsinki:20240510T190000
DTEND;TZID=Europe/Helsinki:20240510T230000
DTSTAMP:20260420T052716
CREATED:20240408T074441Z
LAST-MODIFIED:20240408T074441Z
UID:12713-1715367600-1715382000@kotikirkko.fi
SUMMARY:Pe 10.5. klo 19.00 Nuortenilta
DESCRIPTION:Pe 10.5. klo 19.00 Nuortenilta
URL:https://kotikirkko.fi/ohjelma/pe-10-5-klo-19-00-nuortenilta/
END:VEVENT
BEGIN:VEVENT
DTSTART;TZID=Europe/Helsinki:20240508T180000
DTEND;TZID=Europe/Helsinki:20240508T193000
DTSTAMP:20260420T052716
CREATED:20240423T052729Z
LAST-MODIFIED:20240423T052729Z
UID:12755-1715191200-1715196600@kotikirkko.fi
SUMMARY:Ke 8.5. 18.00 Rukousilta\, Risto Ropo
DESCRIPTION:Ke 8.5. 18.00 Rukousilta\, Risto Ropo
URL:https://kotikirkko.fi/ohjelma/ke-8-5-18-00-rukousilta-risto-ropo/
END:VEVENT
BEGIN:VEVENT
DTSTART;TZID=Europe/Helsinki:20240507T183000
DTEND;TZID=Europe/Helsinki:20240507T200000
DTSTAMP:20260420T052716
CREATED:20240408T074047Z
LAST-MODIFIED:20240408T074047Z
UID:12702-1715106600-1715112000@kotikirkko.fi
SUMMARY:Ti 7.5. klo 18.30 Varkkikerho
DESCRIPTION:Ti 7.5. klo 18.30 Varkkikerho Kotikirkolla
URL:https://kotikirkko.fi/ohjelma/ti-7-5-klo-18-30-varkkikerho/
END:VEVENT
BEGIN:VEVENT
DTSTART;TZID=Europe/Helsinki:20240505T110000
DTEND;TZID=Europe/Helsinki:20240505T123000
DTSTAMP:20260420T052716
CREATED:20240419T032158Z
LAST-MODIFIED:20240419T032408Z
UID:12724-1714906800-1714912200@kotikirkko.fi
SUMMARY:Su 5.5. 11.00 Ehtoollisjuhla\, Timo Mantila\, Seppo Kaski\, musiikki Yksi Sydän -yhtye\, kahvitarjoilu
DESCRIPTION:Su 5.5. 11.00 Ehtoollisjuhla\, Timo Mantila\, Seppo Kaski\, musiikki Yksi Sydän -yhtye\, kahvitarjoilu
URL:https://kotikirkko.fi/ohjelma/su-5-5-11-00-ehtoollisjuhla-timo-mantila-seppo-kaski-musiikki-yksi-sydan-yhtye-kahvitarjoilu/
END:VEVENT
BEGIN:VEVENT
DTSTART;TZID=Europe/Helsinki:20240503T190000
DTEND;TZID=Europe/Helsinki:20240503T230000
DTSTAMP:20260420T052716
CREATED:20231219T064046Z
LAST-MODIFIED:20231219T064046Z
UID:12384-1714762800-1714777200@kotikirkko.fi
SUMMARY:Pe 3.5. klo 19 Nuortenilta
DESCRIPTION:Pe 3.5. klo 19 Nuortenilta Kotikirkolla
URL:https://kotikirkko.fi/ohjelma/pe-1-3-klo-19-nuortenilta-2-2-2-2-2-2-2-2-2/
END:VEVENT
BEGIN:VEVENT
DTSTART;TZID=Europe/Helsinki:20240501T180000
DTEND;TZID=Europe/Helsinki:20240501T193000
DTSTAMP:20260420T052716
CREATED:20240423T052352Z
LAST-MODIFIED:20240423T052555Z
UID:12749-1714586400-1714591800@kotikirkko.fi
SUMMARY:Ke 1.5. 18.00	Vapunpäivän Sanan ja rukouksen ilta\, Seppo ja Anne Kaski
DESCRIPTION:Ke 1.5. 18.00 Vapunpäivän Sanan ja rukouksen ilta\, Seppo ja Anne Kaski
URL:https://kotikirkko.fi/ohjelma/ke-1-5-18-00vapunpaivan-sanan-ja-rukouksen-ilta-seppo-ja-anne-kaski/
END:VEVENT
BEGIN:VEVENT
DTSTART;TZID=Europe/Helsinki:20240428T160000
DTEND;TZID=Europe/Helsinki:20240428T173000
DTSTAMP:20260420T052716
CREATED:20240319T144047Z
LAST-MODIFIED:20240319T144637Z
UID:12654-1714320000-1714325400@kotikirkko.fi
SUMMARY:Su 28.4. 16.00 Matinsalin musiikki-ilta
DESCRIPTION:Su 28.4. 16.00 Matinsalin musiikki-ilta\, Onni Pyhälahti & Band\, evankelista Teemu Kaski
URL:https://kotikirkko.fi/ohjelma/su-28-4-16-00-matinsalin-musiikki-ilta/
END:VEVENT
BEGIN:VEVENT
DTSTART;TZID=Europe/Helsinki:20240426T190000
DTEND;TZID=Europe/Helsinki:20240426T230000
DTSTAMP:20260420T052716
CREATED:20231219T064009Z
LAST-MODIFIED:20231219T064009Z
UID:12381-1714158000-1714172400@kotikirkko.fi
SUMMARY:Pe 26.4. klo 19 Nuortenilta
DESCRIPTION:Pe 26.4. klo 19 Nuortenilta Kotikirkolla
URL:https://kotikirkko.fi/ohjelma/pe-1-3-klo-19-nuortenilta-2-2-2-2-2-2-2-2/
END:VEVENT
BEGIN:VEVENT
DTSTART;TZID=Europe/Helsinki:20240424T180000
DTEND;TZID=Europe/Helsinki:20240424T193000
DTSTAMP:20260420T052716
CREATED:20240319T145147Z
LAST-MODIFIED:20240319T145147Z
UID:12661-1713981600-1713987000@kotikirkko.fi
SUMMARY:Ke 24.4. 18.00 Rukousilta
DESCRIPTION:Ke 24.4. 18.00 Rukousilta\, Minna Mantila
URL:https://kotikirkko.fi/ohjelma/ke-24-4-18-00-rukousilta/
END:VEVENT
BEGIN:VEVENT
DTSTART;TZID=Europe/Helsinki:20240423T183000
DTEND;TZID=Europe/Helsinki:20240423T200000
DTSTAMP:20260420T052716
CREATED:20240408T073809Z
LAST-MODIFIED:20240408T073809Z
UID:12699-1713897000-1713902400@kotikirkko.fi
SUMMARY:Ti 23.4. klo 18.30 Varkkikerho
DESCRIPTION:Ti 23.4. klo 18.30 Varkkikerho Kotikirkolla
URL:https://kotikirkko.fi/ohjelma/ti-23-4-klo-18-30-varkkikerho/
END:VEVENT
BEGIN:VEVENT
DTSTART;TZID=Europe/Helsinki:20240421T110000
DTEND;TZID=Europe/Helsinki:20240421T123000
DTSTAMP:20260420T052716
CREATED:20240319T131535Z
LAST-MODIFIED:20240319T143856Z
UID:12648-1713697200-1713702600@kotikirkko.fi
SUMMARY:Su 21.4. 11.00 Raamattu- ja vuosijuhla
DESCRIPTION:Su 21.4. 11.00 Raamattu- ja vuosijuhla\, Matti Kuosmanen\, Seppo Kaski\, musiikki Kotikirkon kuoro\, pyhäkoulu\, Kotikirkko-yhdistys ry:n kevätkokous\, kahvitarjoilu
URL:https://kotikirkko.fi/ohjelma/su-21-4-11-00-raamattu-ja-vuosijuhla/
END:VEVENT
BEGIN:VEVENT
DTSTART;TZID=Europe/Helsinki:20240419T190000
DTEND;TZID=Europe/Helsinki:20240419T230000
DTSTAMP:20260420T052716
CREATED:20231219T063924Z
LAST-MODIFIED:20231219T063924Z
UID:12378-1713553200-1713567600@kotikirkko.fi
SUMMARY:Pe 19.4. klo 19 Nuortenilta
DESCRIPTION:Pe 19.4. klo 19 Nuortenilta Kotikirkolla
URL:https://kotikirkko.fi/ohjelma/pe-1-3-klo-19-nuortenilta-2-2-2-2-2-2-2/
END:VEVENT
BEGIN:VEVENT
DTSTART;TZID=Europe/Helsinki:20240417T180000
DTEND;TZID=Europe/Helsinki:20240417T193000
DTSTAMP:20260420T052716
CREATED:20240319T145036Z
LAST-MODIFIED:20240319T145100Z
UID:12658-1713376800-1713382200@kotikirkko.fi
SUMMARY:Ke 17.4. 18.00 Rukousilta
DESCRIPTION:Ke 17.4. 18.00 Rukousilta\, Anja Kolehmainen ja Tiina Halme
URL:https://kotikirkko.fi/ohjelma/ke-17-4-18-00-rukousilta/
END:VEVENT
BEGIN:VEVENT
DTSTART;TZID=Europe/Helsinki:20240416T180000
DTEND;TZID=Europe/Helsinki:20240416T193000
DTSTAMP:20260420T052716
CREATED:20231219T064431Z
LAST-MODIFIED:20231219T064431Z
UID:12398-1713290400-1713295800@kotikirkko.fi
SUMMARY:Ti 16.4. klo 18.30 Varkkikerho
DESCRIPTION:Ti 16.4. klo 18.30 Varkkikerho
URL:https://kotikirkko.fi/ohjelma/ti-9-4-klo-18-30-varkkikerho-2/
END:VEVENT
BEGIN:VEVENT
DTSTART;TZID=Europe/Helsinki:20240414T160000
DTEND;TZID=Europe/Helsinki:20240414T173000
DTSTAMP:20260420T052716
CREATED:20240407T070719Z
LAST-MODIFIED:20240407T070719Z
UID:12689-1713110400-1713115800@kotikirkko.fi
SUMMARY:Su 14.4. 16.00 Musiikkijuhla
DESCRIPTION:Su 14.4. 16.00 Musiikkijuhla\, Laulun Siivet -yhtye ja evankelista\nSeppo Lindeman\, pyhäkoulu
URL:https://kotikirkko.fi/ohjelma/su-7-4-16-00-perhe-ja-ehtoollisjuhla-2/
END:VEVENT
BEGIN:VEVENT
DTSTART;TZID=Europe/Helsinki:20240412T190000
DTEND;TZID=Europe/Helsinki:20240412T230000
DTSTAMP:20260420T052716
CREATED:20231219T063849Z
LAST-MODIFIED:20231219T063849Z
UID:12375-1712948400-1712962800@kotikirkko.fi
SUMMARY:Pe 12.4. klo 19 Nuortenilta
DESCRIPTION:Pe 12.4. klo 19 Nuortenilta Kotikirkolla
URL:https://kotikirkko.fi/ohjelma/pe-1-3-klo-19-nuortenilta-2-2-2-2-2-2/
END:VEVENT
BEGIN:VEVENT
DTSTART;TZID=Europe/Helsinki:20240410T180000
DTEND;TZID=Europe/Helsinki:20240410T193000
DTSTAMP:20260420T052716
CREATED:20240319T130906Z
LAST-MODIFIED:20240319T130906Z
UID:12643-1712772000-1712777400@kotikirkko.fi
SUMMARY:Ke 10.4. 18.00 Rukousilta
DESCRIPTION:Ke 10.4. 18.00 Rukousilta\, Allani Rantasalo ja Leif Palm
URL:https://kotikirkko.fi/ohjelma/ke-10-4-18-00-rukousilta/
END:VEVENT
BEGIN:VEVENT
DTSTART;TZID=Europe/Helsinki:20240409T183000
DTEND;TZID=Europe/Helsinki:20240409T200000
DTSTAMP:20260420T052716
CREATED:20231219T064344Z
LAST-MODIFIED:20231219T064548Z
UID:12390-1712687400-1712692800@kotikirkko.fi
SUMMARY:Ti 9.4. klo 18.30 Varkkikerho
DESCRIPTION:Ti 9.4. klo 18.30 Varkkikerho
URL:https://kotikirkko.fi/ohjelma/ti-9-4-klo-18-30-varkkikerho/
END:VEVENT
BEGIN:VEVENT
DTSTART;TZID=Europe/Helsinki:20240407T160000
DTEND;TZID=Europe/Helsinki:20240407T173000
DTSTAMP:20260420T052716
CREATED:20240225T074428Z
LAST-MODIFIED:20240319T130349Z
UID:12607-1712505600-1712511000@kotikirkko.fi
SUMMARY:Su 7.4. 16.00 Perhe- ja ehtoollisjuhla
DESCRIPTION:Su 7.4. 16.00  Perhe- ja ehtoollisjuhla\, Heidi Antinsalo\, Jarmo Korpilahti\, ylistysmusiikki #ResetBand\, Jippii-ryhmä ja Salla Ylönen\, pyhäkoulu\, kahvitarjoilu
URL:https://kotikirkko.fi/ohjelma/su-7-4-16-00-perhe-ja-ehtoollisjuhla/
END:VEVENT
BEGIN:VEVENT
DTSTART;TZID=Europe/Helsinki:20240406T150000
DTEND;TZID=Europe/Helsinki:20240406T170000
DTSTAMP:20260420T052716
CREATED:20240319T120150Z
LAST-MODIFIED:20240319T120332Z
UID:12630-1712415600-1712422800@kotikirkko.fi
SUMMARY:La 6.4. 15.00 Hengellisen romanimusiikin konsertti Hausjärven kirkossa
DESCRIPTION:La 6.4. 15.00 Hengellisen romanimusiikin konsertti Hausjärven kirkossa\, Henry ja Sanna Hedman\, \nTuula\, Anette ja Valfrid Åkerlund\, Piia ja Roobert Berg\, Hemmi Nyman\, Dimitri Isberg
URL:https://kotikirkko.fi/ohjelma/la-6-4-15-00-hengellisen-romanimusiikin-konsertti-hausjarven-kirkossa/
LOCATION:Hausjärven kirkko
END:VEVENT
BEGIN:VEVENT
DTSTART;TZID=Europe/Helsinki:20240405T190000
DTEND;TZID=Europe/Helsinki:20240405T230000
DTSTAMP:20260420T052716
CREATED:20231219T063720Z
LAST-MODIFIED:20231219T063720Z
UID:12372-1712343600-1712358000@kotikirkko.fi
SUMMARY:Pe 5.4. klo 19 Nuortenilta
DESCRIPTION:Pe 5.4. klo 19 Nuortenilta Kotikirkolla
URL:https://kotikirkko.fi/ohjelma/pe-1-3-klo-19-nuortenilta-2-2-2-2-2/
END:VEVENT
BEGIN:VEVENT
DTSTART;TZID=Europe/Helsinki:20240403T180000
DTEND;TZID=Europe/Helsinki:20240403T193000
DTSTAMP:20260420T052716
CREATED:20240225T074223Z
LAST-MODIFIED:20240319T115856Z
UID:12604-1712167200-1712172600@kotikirkko.fi
SUMMARY:Ke 3.4. 18.00 Rukousilta
DESCRIPTION:Ke 3.4. 18.00 Rukousilta\, Seppo Kaski ja Risto Ropo
URL:https://kotikirkko.fi/ohjelma/ke-3-4-18-00-rukousilta-2/
END:VEVENT
BEGIN:VEVENT
DTSTART;TZID=Europe/Helsinki:20240402T183000
DTEND;TZID=Europe/Helsinki:20240402T200000
DTSTAMP:20260420T052716
CREATED:20231219T063101Z
LAST-MODIFIED:20231219T063101Z
UID:12354-1712082600-1712088000@kotikirkko.fi
SUMMARY:Ti 2.4. klo 18.30 Varkkikerho
DESCRIPTION:Ti 2.4. klo 18.30 Varkkikerho 
URL:https://kotikirkko.fi/ohjelma/ti-9-1-klo-18-30-varkkikerho-2-2-2-2-2-2-2-2-2/
END:VEVENT
BEGIN:VEVENT
DTSTART;TZID=Europe/Helsinki:20240331T110000
DTEND;TZID=Europe/Helsinki:20240331T123000
DTSTAMP:20260420T052716
CREATED:20240225T074005Z
LAST-MODIFIED:20240225T074005Z
UID:12601-1711882800-1711888200@kotikirkko.fi
SUMMARY:Su 31.3. 11.00 Ylösnousemusjuhla
DESCRIPTION:Su 31.3. 11.00 Ylösnousemusjuhla\, Jukka Koski\, Sanna Hedman\, Kotikirkon kuoro
URL:https://kotikirkko.fi/ohjelma/su-31-3-11-00-ylosnousemusjuhla/
END:VEVENT
END:VCALENDAR