BEGIN:VCALENDAR
VERSION:2.0
PRODID:-//Riihimäen Kotikirkko - ECPv6.15.20//NONSGML v1.0//EN
CALSCALE:GREGORIAN
METHOD:PUBLISH
X-ORIGINAL-URL:https://kotikirkko.fi
X-WR-CALDESC:Tapahtumat Riihimäen Kotikirkko
REFRESH-INTERVAL;VALUE=DURATION:PT1H
X-Robots-Tag:noindex
X-PUBLISHED-TTL:PT1H
BEGIN:VTIMEZONE
TZID:Europe/Helsinki
BEGIN:DAYLIGHT
TZOFFSETFROM:+0200
TZOFFSETTO:+0300
TZNAME:EEST
DTSTART:20230326T010000
END:DAYLIGHT
BEGIN:STANDARD
TZOFFSETFROM:+0300
TZOFFSETTO:+0200
TZNAME:EET
DTSTART:20231029T010000
END:STANDARD
BEGIN:DAYLIGHT
TZOFFSETFROM:+0200
TZOFFSETTO:+0300
TZNAME:EEST
DTSTART:20240331T010000
END:DAYLIGHT
BEGIN:STANDARD
TZOFFSETFROM:+0300
TZOFFSETTO:+0200
TZNAME:EET
DTSTART:20241027T010000
END:STANDARD
BEGIN:DAYLIGHT
TZOFFSETFROM:+0200
TZOFFSETTO:+0300
TZNAME:EEST
DTSTART:20250330T010000
END:DAYLIGHT
BEGIN:STANDARD
TZOFFSETFROM:+0300
TZOFFSETTO:+0200
TZNAME:EET
DTSTART:20251026T010000
END:STANDARD
END:VTIMEZONE
BEGIN:VEVENT
DTSTART;TZID=Europe/Helsinki:20241001T183000
DTEND;TZID=Europe/Helsinki:20241001T200000
DTSTAMP:20260419T214727
CREATED:20240821T103710Z
LAST-MODIFIED:20240821T103710Z
UID:13100-1727807400-1727812800@kotikirkko.fi
SUMMARY:Ti 1.10. klo 18.30 Varkkikerho
DESCRIPTION:Ti 1.10. klo 18.30 Varkkikerho
URL:https://kotikirkko.fi/ohjelma/ti-1-10-klo-18-30-varkkikerho/
END:VEVENT
BEGIN:VEVENT
DTSTART;TZID=Europe/Helsinki:20241001T153000
DTEND;TZID=Europe/Helsinki:20241001T153000
DTSTAMP:20260419T214727
CREATED:20240924T060904Z
LAST-MODIFIED:20240924T062448Z
UID:13154-1727796600-1727796600@kotikirkko.fi
SUMMARY:Ti 1.10. 15.30 Israel -piiri.  Riihimäen kristittyjen avoin ryhmä tiistaisin
DESCRIPTION:Ti 1.10. 15.30 Israel -piiri. Riihimäen kristittyjen avoin ryhmä tiistaisin
URL:https://kotikirkko.fi/ohjelma/ti-1-10-15-30-israel-piiri-riihimaen-kristittyjen-avoin-ryhma/
END:VEVENT
BEGIN:VEVENT
DTSTART;TZID=Europe/Helsinki:20240929T110000
DTEND;TZID=Europe/Helsinki:20240929T123000
DTSTAMP:20260419T214727
CREATED:20240816T121540Z
LAST-MODIFIED:20240921T190002Z
UID:13071-1727607600-1727613000@kotikirkko.fi
SUMMARY:Su 29.9. 11.00 Teemajumalanpalvelus - Uskova ja riippuvuuksien voittaminen
DESCRIPTION:Su 29.9. 11.00 Teemajumalanpalvelus – Uskova ja riippuvuuksien voittaminen\, Ulf Krokfors\, Allani Rantasalo\, musiikki Markku Syrjälä & Co\, pyhäkoulu
URL:https://kotikirkko.fi/ohjelma/su-29-9-11-00-teemajumalanpalvelus-uskova-ja-riippuvuuksien-voittaminen/
END:VEVENT
BEGIN:VEVENT
DTSTART;TZID=Europe/Helsinki:20240927T190000
DTEND;TZID=Europe/Helsinki:20240927T230000
DTSTAMP:20260419T214727
CREATED:20240821T103409Z
LAST-MODIFIED:20240821T103409Z
UID:13094-1727463600-1727478000@kotikirkko.fi
SUMMARY:Pe 27.9. klo 19 Nuortenilta
DESCRIPTION:Pe 27.9. klo 19 Nuortenilta
URL:https://kotikirkko.fi/ohjelma/pe-6-9-klo-19-nuortenilta-2-2-2/
END:VEVENT
BEGIN:VEVENT
DTSTART;TZID=Europe/Helsinki:20240925T180000
DTEND;TZID=Europe/Helsinki:20240925T193000
DTSTAMP:20260419T214727
CREATED:20240816T121336Z
LAST-MODIFIED:20240816T121424Z
UID:13068-1727287200-1727292600@kotikirkko.fi
SUMMARY:Ke 25.9. 18.00 Rukousilta
DESCRIPTION:Ke 25.9. 18.00 Rukousilta\, Pirjo ja Jukka Perttu
URL:https://kotikirkko.fi/ohjelma/ke-25-9-18-00-rukousilta/
END:VEVENT
BEGIN:VEVENT
DTSTART;TZID=Europe/Helsinki:20240924T183000
DTEND;TZID=Europe/Helsinki:20240924T200000
DTSTAMP:20260419T214727
CREATED:20240821T103757Z
LAST-MODIFIED:20240821T103757Z
UID:13103-1727202600-1727208000@kotikirkko.fi
SUMMARY:Ti 24.9. klo 18.30 Varkkikerho
DESCRIPTION:Ti 24.9. klo 18.30 Varkkikerho
URL:https://kotikirkko.fi/ohjelma/ti-1-10-klo-18-30-varkkikerho-2/
END:VEVENT
BEGIN:VEVENT
DTSTART;TZID=Europe/Helsinki:20240922T110000
DTEND;TZID=Europe/Helsinki:20240922T123000
DTSTAMP:20260419T214727
CREATED:20240816T121233Z
LAST-MODIFIED:20240918T063044Z
UID:13065-1727002800-1727008200@kotikirkko.fi
SUMMARY:Su 22.9. 11.00 Musiikkijumalanpalvelus
DESCRIPTION:Su 22.9. 11.00 Musiikkijumalanpalvelus – Virpi Lyytikäinen laulaa ja kertoo laulujen merkityksistä\, Tommi Hintsanen ja Timo Mantila
URL:https://kotikirkko.fi/ohjelma/su-22-9-11-00-musiikkijumalanpalvelus/
END:VEVENT
BEGIN:VEVENT
DTSTART;TZID=Europe/Helsinki:20240920T190000
DTEND;TZID=Europe/Helsinki:20240920T230000
DTSTAMP:20260419T214727
CREATED:20240821T103212Z
LAST-MODIFIED:20240821T103212Z
UID:13091-1726858800-1726873200@kotikirkko.fi
SUMMARY:Pe 20.9. klo 19 Nuortenilta
DESCRIPTION:Pe 20.9. klo 19 Nuortenilta
URL:https://kotikirkko.fi/ohjelma/pe-6-9-klo-19-nuortenilta-2-2/
END:VEVENT
BEGIN:VEVENT
DTSTART;TZID=Europe/Helsinki:20240918T180000
DTEND;TZID=Europe/Helsinki:20240918T193000
DTSTAMP:20260419T214727
CREATED:20240816T121021Z
LAST-MODIFIED:20240816T121021Z
UID:13062-1726682400-1726687800@kotikirkko.fi
SUMMARY:Ke 18.9. 18.00 Rukousilta
DESCRIPTION:Ke 18.9. 18.00 Rukousilta\, Terttu Korsman ja ruokajakelun tiimi        
URL:https://kotikirkko.fi/ohjelma/ke-18-9-18-00-rukousilta/
END:VEVENT
BEGIN:VEVENT
DTSTART;TZID=Europe/Helsinki:20240915T110000
DTEND;TZID=Europe/Helsinki:20240915T123000
DTSTAMP:20260419T214727
CREATED:20240816T120320Z
LAST-MODIFIED:20240816T120913Z
UID:13059-1726398000-1726403400@kotikirkko.fi
SUMMARY:Su 15.9. 11.00 Teemajumalanpalvelus - Afrikan tähdet
DESCRIPTION:Su 15.9. 11.00 Teemajumalanpalvelus – Afrikan tähdet\, Mari Palomäki\, Jukka Perttu\, musiikki Kabongo Family\, pyhäkoulu
URL:https://kotikirkko.fi/ohjelma/su-15-9-11-00-teemajumalanpalvelus-afrikan-tahdet/
END:VEVENT
BEGIN:VEVENT
DTSTART;TZID=Europe/Helsinki:20240913T190000
DTEND;TZID=Europe/Helsinki:20240913T230000
DTSTAMP:20260419T214727
CREATED:20240821T103144Z
LAST-MODIFIED:20240821T103144Z
UID:13088-1726254000-1726268400@kotikirkko.fi
SUMMARY:Pe 13.9. klo 19 Nuortenilta
DESCRIPTION:Pe 13.9. klo 19 Nuortenilta
URL:https://kotikirkko.fi/ohjelma/pe-6-9-klo-19-nuortenilta-2/
END:VEVENT
BEGIN:VEVENT
DTSTART;TZID=Europe/Helsinki:20240911T180000
DTEND;TZID=Europe/Helsinki:20240911T193000
DTSTAMP:20260419T214727
CREATED:20240816T120129Z
LAST-MODIFIED:20240816T120129Z
UID:13056-1726077600-1726083000@kotikirkko.fi
SUMMARY:Ke 11.9. 18.00 The Send -tiimin vierailu rukousillassa
DESCRIPTION:Ke 11.9. 18.00 The Send -tiimin vierailu rukousillassa\, Heidi Antinsalo ja nuoret
URL:https://kotikirkko.fi/ohjelma/ke-11-9-18-00-the-send-tiimin-vierailu-rukousillassa/
END:VEVENT
BEGIN:VEVENT
DTSTART;TZID=Europe/Helsinki:20240910T183000
DTEND;TZID=Europe/Helsinki:20240910T200000
DTSTAMP:20260419T214727
CREATED:20240821T103821Z
LAST-MODIFIED:20240821T103821Z
UID:13106-1725993000-1725998400@kotikirkko.fi
SUMMARY:Ti 10.9. klo 18.30 Varkkikerho
DESCRIPTION:Ti 10.9. klo 18.30 Varkkikerho
URL:https://kotikirkko.fi/ohjelma/ti-1-10-klo-18-30-varkkikerho-2-2/
END:VEVENT
BEGIN:VEVENT
DTSTART;TZID=Europe/Helsinki:20240908T160000
DTEND;TZID=Europe/Helsinki:20240908T173000
DTSTAMP:20260419T214727
CREATED:20240816T115916Z
LAST-MODIFIED:20240816T115957Z
UID:13053-1725811200-1725816600@kotikirkko.fi
SUMMARY:Su 8.9. 16.00 Yhteysilta
DESCRIPTION:Su 8.9. 16.00 Yhteysilta\, Seppo Lindeman ja Laulun siivin -yhtye\, Henkka ja Hanna Nyman\, kahvitarjoilu Raamattukoulu seurakunnassa -työn hyväksi\, pyhäkoulu
URL:https://kotikirkko.fi/ohjelma/su-8-9-16-00-yhteysilta/
END:VEVENT
BEGIN:VEVENT
DTSTART;TZID=Europe/Helsinki:20240906T190000
DTEND;TZID=Europe/Helsinki:20240906T230000
DTSTAMP:20260419T214727
CREATED:20240821T103108Z
LAST-MODIFIED:20240821T103108Z
UID:13085-1725649200-1725663600@kotikirkko.fi
SUMMARY:Pe 6.9. klo 19 Nuortenilta
DESCRIPTION:Pe 6.9. klo 19 Nuortenilta
URL:https://kotikirkko.fi/ohjelma/pe-6-9-klo-19-nuortenilta/
END:VEVENT
BEGIN:VEVENT
DTSTART;TZID=Europe/Helsinki:20240904T180000
DTEND;TZID=Europe/Helsinki:20240904T193000
DTSTAMP:20260419T214727
CREATED:20240816T115047Z
LAST-MODIFIED:20240816T115742Z
UID:13050-1725472800-1725478200@kotikirkko.fi
SUMMARY:Ke 4.9. 18.00 Rukousilta
DESCRIPTION:Ke 4.9. 18.00 Rukousilta\, Suvi Hyytinen
URL:https://kotikirkko.fi/ohjelma/ke-4-9-18-00-rukousilta/
END:VEVENT
BEGIN:VEVENT
DTSTART;TZID=Europe/Helsinki:20240903T183000
DTEND;TZID=Europe/Helsinki:20240903T200000
DTSTAMP:20260419T214727
CREATED:20240821T103956Z
LAST-MODIFIED:20240821T103956Z
UID:13109-1725388200-1725393600@kotikirkko.fi
SUMMARY:Ti 3.9. klo 18.30 Varkkikerho
DESCRIPTION:Ti 3.9. klo 18.30 Varkkikerho
URL:https://kotikirkko.fi/ohjelma/ti-3-9-klo-18-30-varkkikerho/
END:VEVENT
BEGIN:VEVENT
DTSTART;TZID=Europe/Helsinki:20240903T153000
DTEND;TZID=Europe/Helsinki:20240903T170000
DTSTAMP:20260419T214727
CREATED:20240816T114658Z
LAST-MODIFIED:20240816T114658Z
UID:13047-1725377400-1725382800@kotikirkko.fi
SUMMARY:Ti 3.9. 15.30 Kristittyjen yhteinen Israel -piiri tiistaisin Kotikirkolla
DESCRIPTION:Ti 3.9. 15.30 Kristittyjen yhteinen Israel -piiri tiistaisin Kotikirkolla. Joka tiistai pääset kuulemaan ajankohtaista tietoa Israelista\, rukoillaan ja tutkitaan Raamattua yhdessä
URL:https://kotikirkko.fi/ohjelma/ti-3-9-15-30-kristittyjen-yhteinen-israel-piiri-tiistaisin-kotikirkolla/
END:VEVENT
BEGIN:VEVENT
DTSTART;TZID=Europe/Helsinki:20240902T183000
DTEND;TZID=Europe/Helsinki:20240902T200000
DTSTAMP:20260419T214727
CREATED:20240816T114352Z
LAST-MODIFIED:20240816T114442Z
UID:13042-1725301800-1725307200@kotikirkko.fi
SUMMARY:Ma 2.9. 18.30 Riihimäki rukoilee -ilta Kotikirkolla
DESCRIPTION:Ma 2.9. 18.30 Riihimäki rukoilee -ilta Kotikirkolla
URL:https://kotikirkko.fi/ohjelma/ma-2-9-18-30riihimaki-rukoilee-ilta-kotikirkolla/
END:VEVENT
BEGIN:VEVENT
DTSTART;TZID=Europe/Helsinki:20240901T160000
DTEND;TZID=Europe/Helsinki:20240901T173000
DTSTAMP:20260419T214727
CREATED:20240628T080853Z
LAST-MODIFIED:20240706T113348Z
UID:12934-1725206400-1725211800@kotikirkko.fi
SUMMARY:Su 1.9. 16.00 Perhe- ja ehtoollisjuhla
DESCRIPTION:Su 1.9. 16.00 Perhe- ja ehtoollisjuhla\, Heidi Antinsalo\, Tanja Lehtinen\, #ResetBand\, kahvitarjoilu\, pyhäkoulu
URL:https://kotikirkko.fi/ohjelma/su-1-9-16-00-perhe-ja-ehtoollisjuhla/
END:VEVENT
BEGIN:VEVENT
DTSTART;TZID=Europe/Helsinki:20240830T190000
DTEND;TZID=Europe/Helsinki:20240830T230000
DTSTAMP:20260419T214727
CREATED:20240821T102932Z
LAST-MODIFIED:20240821T102932Z
UID:13082-1725044400-1725058800@kotikirkko.fi
SUMMARY:Pe 30.8. Nuoret YC
DESCRIPTION:Pe 30.8. Nuorten retki YC\, Keuruulle. Lisätietoja Heidiltä.
URL:https://kotikirkko.fi/ohjelma/pe-30-8-nuoret-yc/
END:VEVENT
BEGIN:VEVENT
DTSTART;TZID=Europe/Helsinki:20240828T180000
DTEND;TZID=Europe/Helsinki:20240828T193000
DTSTAMP:20260419T214727
CREATED:20240706T102925Z
LAST-MODIFIED:20240706T102925Z
UID:12967-1724868000-1724873400@kotikirkko.fi
SUMMARY:Ke 28.8. klo 18.00 Rukousilta
DESCRIPTION:Ke 28.8. klo 18.00 Rukousilta\, Ulla Korpilahti
URL:https://kotikirkko.fi/ohjelma/ke-18-00-rukousilta-2-2-2-2/
END:VEVENT
BEGIN:VEVENT
DTSTART;TZID=Europe/Helsinki:20240827T183000
DTEND;TZID=Europe/Helsinki:20240827T200000
DTSTAMP:20260419T214727
CREATED:20240719T105436Z
LAST-MODIFIED:20240719T105436Z
UID:12994-1724783400-1724788800@kotikirkko.fi
SUMMARY:Ti 27.8. klo 18.30 Varkkikerho
DESCRIPTION:Ti 27.8. klo 18.30 Varkkikerho
URL:https://kotikirkko.fi/ohjelma/ti-27-8-klo-18-30-varkkikerho/
END:VEVENT
BEGIN:VEVENT
DTSTART;TZID=Europe/Helsinki:20240825T110000
DTEND;TZID=Europe/Helsinki:20240825T123000
DTSTAMP:20260419T214727
CREATED:20240628T080214Z
LAST-MODIFIED:20240628T080214Z
UID:12931-1724583600-1724589000@kotikirkko.fi
SUMMARY:Su 25.8. 11.00 Jumalanpalvelus
DESCRIPTION:Su 25.8. 11.00 Jumalanpalvelus\, Hanna Sipilä\, Heidi Antinsalo\, BaseBand & Mikael Antinsalo
URL:https://kotikirkko.fi/ohjelma/su-25-8-11-00-jumalanpalvelus-2/
END:VEVENT
BEGIN:VEVENT
DTSTART;TZID=Europe/Helsinki:20240823T190000
DTEND;TZID=Europe/Helsinki:20240823T230000
DTSTAMP:20260419T214727
CREATED:20240719T105753Z
LAST-MODIFIED:20240719T105753Z
UID:13000-1724439600-1724454000@kotikirkko.fi
SUMMARY:Pe 23.8. klo 19.00 Nuortenilta
DESCRIPTION:Pe 23.8. klo 19.00 Nuortenilta
URL:https://kotikirkko.fi/ohjelma/pe-16-8-nuortenleiri-2/
END:VEVENT
BEGIN:VEVENT
DTSTART;TZID=Europe/Helsinki:20240821T180000
DTEND;TZID=Europe/Helsinki:20240821T193000
DTSTAMP:20260419T214727
CREATED:20240706T102830Z
LAST-MODIFIED:20240706T102830Z
UID:12964-1724263200-1724268600@kotikirkko.fi
SUMMARY:Ke 21.8. klo 18.00 Rukousilta
DESCRIPTION:Ke 21.8. klo 18.00 Rukousilta\, Iida Kivimäki
URL:https://kotikirkko.fi/ohjelma/ke-18-00-rukousilta-2-2-2/
END:VEVENT
BEGIN:VEVENT
DTSTART;TZID=Europe/Helsinki:20240820T180000
DTEND;TZID=Europe/Helsinki:20240820T190000
DTSTAMP:20260419T214727
CREATED:20240719T105228Z
LAST-MODIFIED:20240719T105228Z
UID:12991-1724176800-1724180400@kotikirkko.fi
SUMMARY:Ti 20.8. klo 18.00 Lapsityön palaveri
DESCRIPTION:Ti 20.8. klo 18.00 Lapsityön palaveri kaikille pyhäkoulu- ja varkkityöntekijöille. Tervetuloa mukaan myös uudet.
URL:https://kotikirkko.fi/ohjelma/ti-20-8-klo-18-00-lapsityon-palaveri/
END:VEVENT
BEGIN:VEVENT
DTSTART;TZID=Europe/Helsinki:20240818T110000
DTEND;TZID=Europe/Helsinki:20240818T123000
DTSTAMP:20260419T214727
CREATED:20240628T075700Z
LAST-MODIFIED:20240816T101022Z
UID:12928-1723978800-1723984200@kotikirkko.fi
SUMMARY:Su 18.8. 11.00 Teemajumalanpalvelus\, Japani -suurin saavuttamaton kansa
DESCRIPTION:Su 18.8. 11.00 Teemajumalanpalvelus\, Japani -suurin saavuttamaton kansa\, Josefina Syrjä-Sano ja Risto Ropo
URL:https://kotikirkko.fi/ohjelma/su-18-8-11-00-uskova-ja-riippuvuksien-voittaminen-teematilaisuus/
END:VEVENT
BEGIN:VEVENT
DTSTART;TZID=Europe/Helsinki:20240816T190000
DTEND;TZID=Europe/Helsinki:20240816T230000
DTSTAMP:20260419T214727
CREATED:20240719T105648Z
LAST-MODIFIED:20240719T105648Z
UID:12997-1723834800-1723849200@kotikirkko.fi
SUMMARY:Pe 16.8. Nuortenleiri
DESCRIPTION:Pe 16.8. Nuoret leirillä Mallinkaisissa
URL:https://kotikirkko.fi/ohjelma/pe-16-8-nuortenleiri/
END:VEVENT
BEGIN:VEVENT
DTSTART;TZID=Europe/Helsinki:20240814T180000
DTEND;TZID=Europe/Helsinki:20240814T193000
DTSTAMP:20260419T214727
CREATED:20240706T102605Z
LAST-MODIFIED:20240706T102605Z
UID:12961-1723658400-1723663800@kotikirkko.fi
SUMMARY:Ke 14.8. klo 18.00 Rukousilta
DESCRIPTION:Ke 14.8. klo 18.00 Rukousilta\, Seppo Kaski
URL:https://kotikirkko.fi/ohjelma/ke-18-00-rukousilta-2-2/
END:VEVENT
END:VCALENDAR