BEGIN:VCALENDAR
VERSION:2.0
PRODID:-//Riihimäen Kotikirkko - ECPv6.15.20//NONSGML v1.0//EN
CALSCALE:GREGORIAN
METHOD:PUBLISH
X-ORIGINAL-URL:https://kotikirkko.fi
X-WR-CALDESC:Tapahtumat Riihimäen Kotikirkko
REFRESH-INTERVAL;VALUE=DURATION:PT1H
X-Robots-Tag:noindex
X-PUBLISHED-TTL:PT1H
BEGIN:VTIMEZONE
TZID:Europe/Helsinki
BEGIN:DAYLIGHT
TZOFFSETFROM:+0200
TZOFFSETTO:+0300
TZNAME:EEST
DTSTART:20230326T010000
END:DAYLIGHT
BEGIN:STANDARD
TZOFFSETFROM:+0300
TZOFFSETTO:+0200
TZNAME:EET
DTSTART:20231029T010000
END:STANDARD
BEGIN:DAYLIGHT
TZOFFSETFROM:+0200
TZOFFSETTO:+0300
TZNAME:EEST
DTSTART:20240331T010000
END:DAYLIGHT
BEGIN:STANDARD
TZOFFSETFROM:+0300
TZOFFSETTO:+0200
TZNAME:EET
DTSTART:20241027T010000
END:STANDARD
BEGIN:DAYLIGHT
TZOFFSETFROM:+0200
TZOFFSETTO:+0300
TZNAME:EEST
DTSTART:20250330T010000
END:DAYLIGHT
BEGIN:STANDARD
TZOFFSETFROM:+0300
TZOFFSETTO:+0200
TZNAME:EET
DTSTART:20251026T010000
END:STANDARD
END:VTIMEZONE
BEGIN:VEVENT
DTSTART;TZID=Europe/Helsinki:20241120T180000
DTEND;TZID=Europe/Helsinki:20241120T193000
DTSTAMP:20260419T175519
CREATED:20241023T064917Z
LAST-MODIFIED:20241023T064917Z
UID:13259-1732125600-1732131000@kotikirkko.fi
SUMMARY:Ke 20.11. 18.00 Rukousilta
DESCRIPTION:Ke 20.11. 18.00	Rukousilta\, Tiina Halme ja Anja Kolehmainen
URL:https://kotikirkko.fi/ohjelma/ke-20-11-18-00-rukousilta/
END:VEVENT
BEGIN:VEVENT
DTSTART;TZID=Europe/Helsinki:20241119T183000
DTEND;TZID=Europe/Helsinki:20241119T200000
DTSTAMP:20260419T175519
CREATED:20241009T111739Z
LAST-MODIFIED:20241009T111739Z
UID:13221-1732041000-1732046400@kotikirkko.fi
SUMMARY:Ti 19.11. klo 18.30 Varkkikerho
DESCRIPTION:Ti 19.11. klo 18.30 Varkkikerho
URL:https://kotikirkko.fi/ohjelma/ti-19-11-klo-18-30-varkkikerho/
END:VEVENT
BEGIN:VEVENT
DTSTART;TZID=Europe/Helsinki:20241117T110000
DTEND;TZID=Europe/Helsinki:20241117T123000
DTSTAMP:20260419T175519
CREATED:20241023T063635Z
LAST-MODIFIED:20241023T064813Z
UID:13255-1731841200-1731846600@kotikirkko.fi
SUMMARY:Su 17.11. 11.00 Toivon kipinä 10 vuotta
DESCRIPTION:Su 17.11. 11.00 Toivon kipinä 10 vuotta\, Anna-Liisa Liljefors\, Ronny Rantasalo\, musiikki Toivon kipinä -orkesteri\, pyhäkoulu\, tilaisuuden jälkeen Kotikirkko -yhdistys ry:n syyskokous
URL:https://kotikirkko.fi/ohjelma/su-17-11-11-00-toivon-kipina-10-vuotta/
END:VEVENT
BEGIN:VEVENT
DTSTART;TZID=Europe/Helsinki:20241115T190000
DTEND;TZID=Europe/Helsinki:20241115T230000
DTSTAMP:20260419T175519
CREATED:20241009T111021Z
LAST-MODIFIED:20241009T111021Z
UID:13211-1731697200-1731711600@kotikirkko.fi
SUMMARY:Pe 15.11. klo 19.00 Nuortenilta
DESCRIPTION:Pe 15.11. klo 19.00 Nuortenilta
URL:https://kotikirkko.fi/ohjelma/pe-8-11-klo-19-00-nuortenilta-2/
END:VEVENT
BEGIN:VEVENT
DTSTART;TZID=Europe/Helsinki:20241113T180000
DTEND;TZID=Europe/Helsinki:20241113T193000
DTSTAMP:20260419T175519
CREATED:20241023T063331Z
LAST-MODIFIED:20241023T063416Z
UID:13252-1731520800-1731526200@kotikirkko.fi
SUMMARY:Ke 13.11. 18.00 Rukousilta
DESCRIPTION:Ke 13.11. 18.00	Rukousilta\, Robert. Berg\, Markku Syrjälä ja ystävät
URL:https://kotikirkko.fi/ohjelma/ke-13-11-18-00-rukousilta-2/
END:VEVENT
BEGIN:VEVENT
DTSTART;TZID=Europe/Helsinki:20241112T180000
DTEND;TZID=Europe/Helsinki:20241112T190000
DTSTAMP:20260419T175519
CREATED:20241111T123214Z
LAST-MODIFIED:20241111T123214Z
UID:13329-1731434400-1731438000@kotikirkko.fi
SUMMARY:Ti 12.11. klo 18.00 Jippii-kerho
DESCRIPTION:Ti 12.11. klo 18-19 lasten Jippii-kerho
URL:https://kotikirkko.fi/ohjelma/ti-12-11-klo-18-00-jippii-kerho/
END:VEVENT
BEGIN:VEVENT
DTSTART;TZID=Europe/Helsinki:20241110T160000
DTEND;TZID=Europe/Helsinki:20241110T173000
DTSTAMP:20260419T175519
CREATED:20241023T062807Z
LAST-MODIFIED:20241023T063237Z
UID:13248-1731254400-1731259800@kotikirkko.fi
SUMMARY:Su 10.11. 16.00 Elämäntarinoita ja musiikkia Punaisella talolla
DESCRIPTION:Su 10.11. 16.00	Elämäntarinoita ja musiikkia Punaisella talolla\, Yksi Sydän -yhtye\, yhteysiltojen tiimi\, isänpäivän kahvitarjoilu
URL:https://kotikirkko.fi/ohjelma/su-10-11-16-00-elamantarinoita-ja-musiikkia-punaisella-talolla/
END:VEVENT
BEGIN:VEVENT
DTSTART;TZID=Europe/Helsinki:20241108T190000
DTEND;TZID=Europe/Helsinki:20241108T230000
DTSTAMP:20260419T175519
CREATED:20241009T110951Z
LAST-MODIFIED:20241009T110951Z
UID:13208-1731092400-1731106800@kotikirkko.fi
SUMMARY:Pe 8.11. klo 19.00 Nuortenilta
DESCRIPTION:Pe 8.11. klo 19.00 Nuortenilta
URL:https://kotikirkko.fi/ohjelma/pe-8-11-klo-19-00-nuortenilta/
END:VEVENT
BEGIN:VEVENT
DTSTART;TZID=Europe/Helsinki:20241106T180000
DTEND;TZID=Europe/Helsinki:20241106T193000
DTSTAMP:20260419T175519
CREATED:20241023T062443Z
LAST-MODIFIED:20241023T062601Z
UID:13244-1730916000-1730921400@kotikirkko.fi
SUMMARY:Ke 6.11. 18.00 Rukousilta
DESCRIPTION:Ke 6.11. 18.00 Rukousilta\, Seppo ja Anne Kaski
URL:https://kotikirkko.fi/ohjelma/ke-6-11-18-00-rukousilta/
END:VEVENT
BEGIN:VEVENT
DTSTART;TZID=Europe/Helsinki:20241105T183000
DTEND;TZID=Europe/Helsinki:20241105T200000
DTSTAMP:20260419T175519
CREATED:20240918T065530Z
LAST-MODIFIED:20240918T065530Z
UID:13128-1730831400-1730836800@kotikirkko.fi
SUMMARY:Ti 5.11 klo 18.30 Varkkikerho
DESCRIPTION:Ti 5.11 klo 18.30 Varkkikerho
URL:https://kotikirkko.fi/ohjelma/ti-22-10-klo-18-30-varkkikerho-2/
END:VEVENT
BEGIN:VEVENT
DTSTART;TZID=Europe/Helsinki:20241105T153000
DTEND;TZID=Europe/Helsinki:20241105T170000
DTSTAMP:20260419T175519
CREATED:20241023T062139Z
LAST-MODIFIED:20241023T062139Z
UID:13241-1730820600-1730826000@kotikirkko.fi
SUMMARY:Ti 5.11. 15.30 Israel -piiri tiistaisin
DESCRIPTION:Ti 5.11. 15.30 Israel -piiri tiistaisin
URL:https://kotikirkko.fi/ohjelma/ti-5-11-15-30-israel-piiri-tiistaisin/
LOCATION:Kotikirkko Koivistonkatu 5
ORGANIZER;CN="Riihim%C3%A4en Kotikirkko":MAILTO:toimisto@kotikirkko.fi
END:VEVENT
BEGIN:VEVENT
DTSTART;TZID=Europe/Helsinki:20241103T160000
DTEND;TZID=Europe/Helsinki:20241103T173000
DTSTAMP:20260419T175519
CREATED:20240924T071737Z
LAST-MODIFIED:20240924T072054Z
UID:13195-1730649600-1730655000@kotikirkko.fi
SUMMARY:Su 3.11. 16.00 Perhe- ja ehtoollisjuhla
DESCRIPTION:Su 3.11. 16.00 	Perhe- ja ehtoollisjuhla\, Minna Mantila\, Heidi Antinsalo\, #ResetBand\, pyhäkoulu\, kahvitarjoilu
URL:https://kotikirkko.fi/ohjelma/su-3-11-16-00-perhe-ja-ehtoollisjuhla/
END:VEVENT
BEGIN:VEVENT
DTSTART;TZID=Europe/Helsinki:20241101T190000
DTEND;TZID=Europe/Helsinki:20241101T230000
DTSTAMP:20260419T175519
CREATED:20240918T072159Z
LAST-MODIFIED:20240918T072159Z
UID:13139-1730487600-1730502000@kotikirkko.fi
SUMMARY:Pe1.11 klo 19.00 Nuortenilta
DESCRIPTION:Pe 1.11 klo 19.00 Nuortenilta
URL:https://kotikirkko.fi/ohjelma/pe-11-10-klo-19-00-nuortenilta-2-2/
END:VEVENT
BEGIN:VEVENT
DTSTART;TZID=Europe/Helsinki:20241030T180000
DTEND;TZID=Europe/Helsinki:20241030T193000
DTSTAMP:20260419T175519
CREATED:20240924T070754Z
LAST-MODIFIED:20240924T071456Z
UID:13191-1730311200-1730316600@kotikirkko.fi
SUMMARY:Ke 30.10. 18.00 Rukousilta
DESCRIPTION:Ke 30.10. 18.00 Rukousilta\, Leo Saari
URL:https://kotikirkko.fi/ohjelma/ke-30-10-18-00-rukousilta/
END:VEVENT
BEGIN:VEVENT
DTSTART;TZID=Europe/Helsinki:20241029T183000
DTEND;TZID=Europe/Helsinki:20241029T200000
DTSTAMP:20260419T175519
CREATED:20240918T065230Z
LAST-MODIFIED:20240918T065318Z
UID:13121-1730226600-1730232000@kotikirkko.fi
SUMMARY:Ti 29.10 klo 18.30 Varkkikerho
DESCRIPTION:Ti 29.10 klo 18.30 Varkkikerho
URL:https://kotikirkko.fi/ohjelma/ti-8-10-klo-18-30-varkkikerho-2/
END:VEVENT
BEGIN:VEVENT
DTSTART;TZID=Europe/Helsinki:20241027T160000
DTEND;TZID=Europe/Helsinki:20241027T173000
DTSTAMP:20260419T175519
CREATED:20240924T070017Z
LAST-MODIFIED:20240924T070517Z
UID:13187-1730044800-1730050200@kotikirkko.fi
SUMMARY:Su 27.10. 16.00 Musiikkijumalanpalvelus - Hannah & Co
DESCRIPTION:Su 27.10. 16.00 Musiikkijumalanpalvelus – Hannah & Co\, Heidi ja Mikko Korpiaho\, pyhäkoulu
URL:https://kotikirkko.fi/ohjelma/su-27-10-16-00-musiikkijumalanpalvelus-hannah-co/
END:VEVENT
BEGIN:VEVENT
DTSTART;TZID=Europe/Helsinki:20241025T190000
DTEND;TZID=Europe/Helsinki:20241025T230000
DTSTAMP:20260419T175519
CREATED:20240918T072103Z
LAST-MODIFIED:20240918T072103Z
UID:13136-1729882800-1729897200@kotikirkko.fi
SUMMARY:Pe 25.10 klo 19.00 Nuortenilta
DESCRIPTION:Pe 25.10 klo 19.00 Nuortenilta
URL:https://kotikirkko.fi/ohjelma/pe-11-10-klo-19-00-nuortenilta-2/
END:VEVENT
BEGIN:VEVENT
DTSTART;TZID=Europe/Helsinki:20241023T180000
DTEND;TZID=Europe/Helsinki:20241023T193000
DTSTAMP:20260419T175519
CREATED:20240924T065228Z
LAST-MODIFIED:20240924T065636Z
UID:13182-1729706400-1729711800@kotikirkko.fi
SUMMARY:Ke 23.10. 18.00 Rukousilta
DESCRIPTION:Ke 23.10. 18.00 Rukousilta\, Jasmin ja Harri Nyman\, Roobert Berg\, Henkka Nyman
URL:https://kotikirkko.fi/ohjelma/ke-23-10-18-00-rukousilta/
END:VEVENT
BEGIN:VEVENT
DTSTART;TZID=Europe/Helsinki:20241022T183000
DTEND;TZID=Europe/Helsinki:20241022T200000
DTSTAMP:20260419T175519
CREATED:20240918T065447Z
LAST-MODIFIED:20240918T065447Z
UID:13125-1729621800-1729627200@kotikirkko.fi
SUMMARY:Ti 22.10 klo 18.30 Varkkikerho
DESCRIPTION:Ti 22.10 klo 18.30 Varkkikerho
URL:https://kotikirkko.fi/ohjelma/ti-22-10-klo-18-30-varkkikerho/
END:VEVENT
BEGIN:VEVENT
DTSTART;TZID=Europe/Helsinki:20241020T110000
DTEND;TZID=Europe/Helsinki:20241020T123000
DTSTAMP:20260419T175519
CREATED:20240924T064622Z
LAST-MODIFIED:20240924T064700Z
UID:13179-1729422000-1729427400@kotikirkko.fi
SUMMARY:Su 20.10. 11.00 Teemajumalanpalvelus - Luotan\, en pelkää!
DESCRIPTION:Su 20.10. 11.00 Teemajumalanpalvelus – Luotan\, en pelkää! Jorma Kuitunen\, Heini Sirén\, Jukka ja Pirjo Perttu\, musiikki Lotta Mäkinen
URL:https://kotikirkko.fi/ohjelma/su-20-10-11-00-teemajumalanpalvelus-luotan-en-pelkaa/
END:VEVENT
BEGIN:VEVENT
DTSTART;TZID=Europe/Helsinki:20241016T180000
DTEND;TZID=Europe/Helsinki:20241016T193000
DTSTAMP:20260419T175519
CREATED:20240924T064229Z
LAST-MODIFIED:20240924T064406Z
UID:13175-1729101600-1729107000@kotikirkko.fi
SUMMARY:Ke 16.10. 18.00 Rukousilta
DESCRIPTION:Ke 16.10. 18.00	Rukousilta\, Jukka Koski
URL:https://kotikirkko.fi/ohjelma/ke-16-10-18-00-rukousilta/
END:VEVENT
BEGIN:VEVENT
DTSTART;TZID=Europe/Helsinki:20241014T183000
DTEND;TZID=Europe/Helsinki:20241014T200000
DTSTAMP:20260419T175519
CREATED:20240924T063930Z
LAST-MODIFIED:20240924T064001Z
UID:13171-1728930600-1728936000@kotikirkko.fi
SUMMARY:Ma 14.10. 18.30 Sanan ja rukouksen ilta Kotikirkolla\, Open Doors vierailijat
DESCRIPTION:Ma 14.10.18.30 Sanan ja rukouksen ilta Kotikirkolla\, puhujavieraina Kyung-Soo Pohjois-Koreasta ja Miika Auvinen Open Doors -järjestöstä\, musiikki Ylistystiimi
URL:https://kotikirkko.fi/ohjelma/ma-14-10-18-30-sanan-ja-rukouksen-ilta-kotikirkolla/
END:VEVENT
BEGIN:VEVENT
DTSTART;TZID=Europe/Helsinki:20241013T160000
DTEND;TZID=Europe/Helsinki:20241013T173000
DTSTAMP:20260419T175519
CREATED:20240924T063535Z
LAST-MODIFIED:20240924T063616Z
UID:13168-1728835200-1728840600@kotikirkko.fi
SUMMARY:Su 13.10. 16.00 Hyvän sanoman ilta Kotikirkolla
DESCRIPTION:Su 13.10. 16.00	Hyvän sanoman ilta Kotikirkolla\, Henry ja Sanna Hedman\, Kotikirkon kuoro
URL:https://kotikirkko.fi/ohjelma/su-13-10-16-00-hyvan-sanoman-ilta-kotikirkolla/
END:VEVENT
BEGIN:VEVENT
DTSTART;TZID=Europe/Helsinki:20241011T190000
DTEND;TZID=Europe/Helsinki:20241011T230000
DTSTAMP:20260419T175519
CREATED:20240918T071925Z
LAST-MODIFIED:20241009T110627Z
UID:13133-1728673200-1728687600@kotikirkko.fi
SUMMARY:Pe 11.10 klo 19.00 Nuortenilta
DESCRIPTION:Pe 11.10 klo 19.00 Nuortenilta Hyvinkäällä. Yhteislähtö\, kysele Heidiltä kyytiä.
URL:https://kotikirkko.fi/ohjelma/pe-11-10-klo-19-00-nuortenilta/
END:VEVENT
BEGIN:VEVENT
DTSTART;TZID=Europe/Helsinki:20241010T180000
DTEND;TZID=Europe/Helsinki:20241010T193000
DTSTAMP:20260419T175519
CREATED:20240924T063127Z
LAST-MODIFIED:20240924T063341Z
UID:13164-1728583200-1728588600@kotikirkko.fi
SUMMARY:To 10.10. 18.00 Israel -ilta
DESCRIPTION:To 10.10. 18.00 Israel -ilta\, José ja Paula Oviedo\, Maarit Kattilakoski\, Raamattukodin ystävät
URL:https://kotikirkko.fi/ohjelma/to-10-10-18-00-israel-ilta/
END:VEVENT
BEGIN:VEVENT
DTSTART;TZID=Europe/Helsinki:20241009T180000
DTEND;TZID=Europe/Helsinki:20241009T193000
DTSTAMP:20260419T175519
CREATED:20240924T062919Z
LAST-MODIFIED:20240924T063003Z
UID:13161-1728496800-1728502200@kotikirkko.fi
SUMMARY:Ke 9.10. 18.00 Rukousilta
DESCRIPTION:Ke 9.10. 18.00 Rukousilta\, Tiina Halme ja Anja Kolehmainen
URL:https://kotikirkko.fi/ohjelma/ke-9-10-18-00-rukousilta/
END:VEVENT
BEGIN:VEVENT
DTSTART;TZID=Europe/Helsinki:20241008T183000
DTEND;TZID=Europe/Helsinki:20241008T200000
DTSTAMP:20260419T175519
CREATED:20240918T065143Z
LAST-MODIFIED:20240918T065143Z
UID:13118-1728412200-1728417600@kotikirkko.fi
SUMMARY:Ti 8.10 klo 18.30 Varkkikerho
DESCRIPTION:Ti 8.10 klo 18.30 Varkkikerho
URL:https://kotikirkko.fi/ohjelma/ti-8-10-klo-18-30-varkkikerho/
END:VEVENT
BEGIN:VEVENT
DTSTART;TZID=Europe/Helsinki:20241006T110000
DTEND;TZID=Europe/Helsinki:20241006T123000
DTSTAMP:20260419T175519
CREATED:20240816T121703Z
LAST-MODIFIED:20240816T121703Z
UID:13074-1728212400-1728217800@kotikirkko.fi
SUMMARY:Su 6.10. 11.00 Ehtoollisjuhla
DESCRIPTION:Su 6.10. 11.00 Ehtoollisjuhla\, Seppo Kaski\, Jukka Nummikoski\, musiikki Hanna Sipilä ja Anne Kaski\,         pyhäkoulu ja kahvitarjoilu
URL:https://kotikirkko.fi/ohjelma/su-6-10-11-00-ehtoollisjuhla/
END:VEVENT
BEGIN:VEVENT
DTSTART;TZID=Europe/Helsinki:20241004T190000
DTEND;TZID=Europe/Helsinki:20241004T230000
DTSTAMP:20260419T175519
CREATED:20240821T103448Z
LAST-MODIFIED:20240821T103448Z
UID:13097-1728068400-1728082800@kotikirkko.fi
SUMMARY:Pe 4.10. klo 19 Nuortenilta
DESCRIPTION:Pe 4.10. klo 19 Nuortenilta
URL:https://kotikirkko.fi/ohjelma/pe-6-9-klo-19-nuortenilta-2-2-2-2/
END:VEVENT
BEGIN:VEVENT
DTSTART;TZID=Europe/Helsinki:20241002T180000
DTEND;TZID=Europe/Helsinki:20241002T193000
DTSTAMP:20260419T175519
CREATED:20240924T054628Z
LAST-MODIFIED:20240924T055226Z
UID:13151-1727892000-1727897400@kotikirkko.fi
SUMMARY:Ke 2.10. 18.00 Rukousilta
DESCRIPTION:Ke 2.10. 18.00 Rukousilta\, Allani Rantasalo ja Risto Ropo
URL:https://kotikirkko.fi/ohjelma/ke-2-10-18-00-rukousilta/
END:VEVENT
END:VCALENDAR