BEGIN:VCALENDAR
VERSION:2.0
PRODID:-//Riihimäen Kotikirkko - ECPv6.15.20//NONSGML v1.0//EN
CALSCALE:GREGORIAN
METHOD:PUBLISH
X-ORIGINAL-URL:https://kotikirkko.fi
X-WR-CALDESC:Tapahtumat Riihimäen Kotikirkko
REFRESH-INTERVAL;VALUE=DURATION:PT1H
X-Robots-Tag:noindex
X-PUBLISHED-TTL:PT1H
BEGIN:VTIMEZONE
TZID:Europe/Helsinki
BEGIN:DAYLIGHT
TZOFFSETFROM:+0200
TZOFFSETTO:+0300
TZNAME:EEST
DTSTART:20210328T010000
END:DAYLIGHT
BEGIN:STANDARD
TZOFFSETFROM:+0300
TZOFFSETTO:+0200
TZNAME:EET
DTSTART:20211031T010000
END:STANDARD
BEGIN:DAYLIGHT
TZOFFSETFROM:+0200
TZOFFSETTO:+0300
TZNAME:EEST
DTSTART:20220327T010000
END:DAYLIGHT
BEGIN:STANDARD
TZOFFSETFROM:+0300
TZOFFSETTO:+0200
TZNAME:EET
DTSTART:20221030T010000
END:STANDARD
BEGIN:DAYLIGHT
TZOFFSETFROM:+0200
TZOFFSETTO:+0300
TZNAME:EEST
DTSTART:20230326T010000
END:DAYLIGHT
BEGIN:STANDARD
TZOFFSETFROM:+0300
TZOFFSETTO:+0200
TZNAME:EET
DTSTART:20231029T010000
END:STANDARD
END:VTIMEZONE
BEGIN:VTIMEZONE
TZID:Europe/Helsinki
BEGIN:DAYLIGHT
TZOFFSETFROM:+0200
TZOFFSETTO:+0300
TZNAME:EEST
DTSTART:20210328T010000
END:DAYLIGHT
BEGIN:STANDARD
TZOFFSETFROM:+0300
TZOFFSETTO:+0200
TZNAME:EET
DTSTART:20211031T010000
END:STANDARD
BEGIN:DAYLIGHT
TZOFFSETFROM:+0200
TZOFFSETTO:+0300
TZNAME:EEST
DTSTART:20220327T010000
END:DAYLIGHT
BEGIN:STANDARD
TZOFFSETFROM:+0300
TZOFFSETTO:+0200
TZNAME:EET
DTSTART:20221030T010000
END:STANDARD
BEGIN:DAYLIGHT
TZOFFSETFROM:+0200
TZOFFSETTO:+0300
TZNAME:EEST
DTSTART:20230326T010000
END:DAYLIGHT
BEGIN:STANDARD
TZOFFSETFROM:+0300
TZOFFSETTO:+0200
TZNAME:EET
DTSTART:20231029T010000
END:STANDARD
END:VTIMEZONE
BEGIN:VEVENT
DTSTART;TZID=Europe/Helsinki:20220501T160000
DTEND;TZID=Europe/Helsinki:20220501T173000
DTSTAMP:20260420T131015
CREATED:20220407T073316Z
LAST-MODIFIED:20220427T044300Z
UID:9739-1651420800-1651426200@kotikirkko.fi
SUMMARY:Su 1.5. 16.00 Perhejumalanpalvelus ja ehtoollinen
DESCRIPTION:Su 1.5. 16.00 Perhejumalanpalvelus ja ehtoollinen\, Timo Mantila\, Heidi Antinsalo\, Seppo Kaski\, Rebekka Antinsalo\, Kotikirkon Jippii-ryhmä\, pyhäkoulu\, kahvitarjoilu
URL:https://kotikirkko.fi/ohjelma/su-1-5-16-00-perhejumalanpalvelus-ja-ehtoollinen/
END:VEVENT
BEGIN:VEVENT
DTSTART;TZID=Europe/Helsinki:20220503T180000
DTEND;TZID=Europe/Helsinki:20220503T193000
DTSTAMP:20260420T131015
CREATED:20220420T160826Z
LAST-MODIFIED:20220420T160826Z
UID:9868-1651600800-1651606200@kotikirkko.fi
SUMMARY:Ti 3.5. klo 18.00 Varkkikerho
DESCRIPTION:Ti 3.5. klo 18.00 Varkkikerho
URL:https://kotikirkko.fi/ohjelma/ti-3-5-klo-18-00-varkkikerho/
END:VEVENT
BEGIN:VEVENT
DTSTART;TZID=Europe/Helsinki:20220504T080000
DTEND;TZID=Europe/Helsinki:20220504T170000
DTSTAMP:20260420T131015
CREATED:20220407T073654Z
LAST-MODIFIED:20220407T073654Z
UID:9745-1651651200-1651683600@kotikirkko.fi
SUMMARY:Ke 4.5. 18.00 Rukousilta
DESCRIPTION:Ke 4.5. 18.00 Rukousilta\, Minna ja Mikko Ilomäki
URL:https://kotikirkko.fi/ohjelma/ke-4-5-18-00-rukousilta/
END:VEVENT
BEGIN:VEVENT
DTSTART;TZID=Europe/Helsinki:20220506T190000
DTEND;TZID=Europe/Helsinki:20220506T230000
DTSTAMP:20260420T131015
CREATED:20220420T161018Z
LAST-MODIFIED:20220420T161018Z
UID:9871-1651863600-1651878000@kotikirkko.fi
SUMMARY:Pe 6.5. klo 19.00 Nuortenilta
DESCRIPTION:Pe 6.5. klo 19.00 Nuortenilta
URL:https://kotikirkko.fi/ohjelma/pe-6-5-klo-19-00-nuortenilta/
END:VEVENT
BEGIN:VEVENT
DTSTART;TZID=Europe/Helsinki:20220508T110000
DTEND;TZID=Europe/Helsinki:20220508T123000
DTSTAMP:20260420T131015
CREATED:20220411T071339Z
LAST-MODIFIED:20220507T122726Z
UID:9813-1652007600-1652013000@kotikirkko.fi
SUMMARY:Su 8.5. 11.00 Toivon kipinä-teemajumalanpalvelus
DESCRIPTION:Su 8.5. 11.00 Toivon kipinä-teemajumalanpalvelus\, Anna-Liisa Liljefors\, Sanna Hedman\, Kotikirkon Kuoro\, Nikolas ja Henry Hedman
URL:https://kotikirkko.fi/ohjelma/su-8-5-11-00toivon-kipina-teemajumalanpalvelus-anna-liisa-liljefors-kotikirkon-kuoro/
END:VEVENT
BEGIN:VEVENT
DTSTART;TZID=Europe/Helsinki:20220509T183000
DTEND;TZID=Europe/Helsinki:20220509T200000
DTSTAMP:20260420T131015
CREATED:20220420T161300Z
LAST-MODIFIED:20220420T161300Z
UID:9874-1652121000-1652126400@kotikirkko.fi
SUMMARY:Ma 9.5. klo 18.30 Jippii-kerho
DESCRIPTION:Ma 9.5. klo 18.30 Jippii-kerho
URL:https://kotikirkko.fi/ohjelma/ma-9-5-klo-18-30-jippii-kerho/
END:VEVENT
BEGIN:VEVENT
DTSTART;TZID=Europe/Helsinki:20220510T180000
DTEND;TZID=Europe/Helsinki:20220510T193000
DTSTAMP:20260420T131015
CREATED:20220420T161454Z
LAST-MODIFIED:20220420T161454Z
UID:9877-1652205600-1652211000@kotikirkko.fi
SUMMARY:Ti 10.5 klo 18.00 Varkkikerho
DESCRIPTION:Ti 10.5. klo 18.00 Varkkikerho\, kevätkauden päätöskerta
URL:https://kotikirkko.fi/ohjelma/ti-10-5-klo-18-00-varkkikerho/
END:VEVENT
BEGIN:VEVENT
DTSTART;TZID=Europe/Helsinki:20220511T180000
DTEND;TZID=Europe/Helsinki:20220511T193000
DTSTAMP:20260420T131015
CREATED:20220409T123231Z
LAST-MODIFIED:20220409T123231Z
UID:9777-1652292000-1652297400@kotikirkko.fi
SUMMARY:Ke 11.5. 18.00 Rukousilta
DESCRIPTION:Ke 11.5. 18.00 Rukousilta\, Rauno Juntunen
URL:https://kotikirkko.fi/ohjelma/ke-11-5-18-00-rukousilta-2/
END:VEVENT
BEGIN:VEVENT
DTSTART;TZID=Europe/Helsinki:20220511T180000
DTEND;TZID=Europe/Helsinki:20220614T193000
DTSTAMP:20260420T131015
CREATED:20220407T073951Z
LAST-MODIFIED:20220407T073951Z
UID:9748-1652292000-1655235000@kotikirkko.fi
SUMMARY:Ke 11.5. 18.00 Rukousilta
DESCRIPTION:Ke 11.5. 18.00 Rukousilta\, Rauno Juntunen
URL:https://kotikirkko.fi/ohjelma/ke-11-5-18-00-rukousilta/
END:VEVENT
BEGIN:VEVENT
DTSTART;TZID=Europe/Helsinki:20220513T190000
DTEND;TZID=Europe/Helsinki:20220513T230000
DTSTAMP:20260420T131015
CREATED:20220420T161640Z
LAST-MODIFIED:20220420T161640Z
UID:9880-1652468400-1652482800@kotikirkko.fi
SUMMARY:Pe 13.5. klo 19.00 Nuortenilta
DESCRIPTION:Pe 13.5. klo 19.00 Nuortenilta
URL:https://kotikirkko.fi/ohjelma/pe-13-5-klo-19-00-nuortenilta/
END:VEVENT
BEGIN:VEVENT
DTSTART;TZID=Europe/Helsinki:20220515T160000
DTEND;TZID=Europe/Helsinki:20220515T173000
DTSTAMP:20260420T131015
CREATED:20220411T071659Z
LAST-MODIFIED:20220513T045908Z
UID:9818-1652630400-1652635800@kotikirkko.fi
SUMMARY:Su 15.5. 16.00 #Reset-teemajumalanpalvelus
DESCRIPTION:Su 15.5. 16.00 #Reset-teemajumalanpalvelus\, Heidi Antinsalo\, Heidi ja Mikko Korpiaho\, Anette ja Markku Syrjälä & Co\, pyhäkoulu ja lapsille puuhastelua alakerrassa \n \n 
URL:https://kotikirkko.fi/ohjelma/su-15-5-16-00-reset-teemajumalanpalvelus/
END:VEVENT
BEGIN:VEVENT
DTSTART;TZID=Europe/Helsinki:20220517T180000
DTEND;TZID=Europe/Helsinki:20220517T200000
DTSTAMP:20260420T131015
CREATED:20220411T072643Z
LAST-MODIFIED:20220411T072643Z
UID:9830-1652810400-1652817600@kotikirkko.fi
SUMMARY:Ti 17.5. 18.00 Yhteisöilta
DESCRIPTION:Ti 17.5. 18.00 Yhteisöilta\, Henkka ja Hanna Nyman\, Allani Rantasalo ja tiimi
URL:https://kotikirkko.fi/ohjelma/ti-17-5-18-00-yhteisoilta/
END:VEVENT
BEGIN:VEVENT
DTSTART;TZID=Europe/Helsinki:20220518T180000
DTEND;TZID=Europe/Helsinki:20220518T193000
DTSTAMP:20260420T131015
CREATED:20220407T074301Z
LAST-MODIFIED:20220505T064408Z
UID:9751-1652896800-1652902200@kotikirkko.fi
SUMMARY:Ke 18.5. 18.00 Rukousilta
DESCRIPTION:Ke 18.5. 18.00 Rukousilta\, Seppo Kaski
URL:https://kotikirkko.fi/ohjelma/ke-18-5-18-00-rukousilta/
END:VEVENT
BEGIN:VEVENT
DTSTART;TZID=Europe/Helsinki:20220522T160000
DTEND;TZID=Europe/Helsinki:20220522T173000
DTSTAMP:20260420T131015
CREATED:20220411T072220Z
LAST-MODIFIED:20220411T072220Z
UID:9825-1653235200-1653240600@kotikirkko.fi
SUMMARY:Su 22.5. 16.00 Jippii-konsertti
DESCRIPTION:Su 22.5. 16.00 Jippii-konsertti ”Raamatun punainen lanka” Matinsalissa
URL:https://kotikirkko.fi/ohjelma/su-22-5-16-00-jippii-konsertti/
END:VEVENT
BEGIN:VEVENT
DTSTART;TZID=Europe/Helsinki:20220525T180000
DTEND;TZID=Europe/Helsinki:20220525T193000
DTSTAMP:20260420T131015
CREATED:20220407T074445Z
LAST-MODIFIED:20220407T074445Z
UID:9754-1653501600-1653507000@kotikirkko.fi
SUMMARY:Ke 25.5. 18.00 Rukousilta
DESCRIPTION:Ke 25.5. 18.00 Rukousilta\, lähetystiimiläiset
URL:https://kotikirkko.fi/ohjelma/ke-25-5-18-00-rukousilta/
END:VEVENT
BEGIN:VEVENT
DTSTART;TZID=Europe/Helsinki:20220528T180000
DTEND;TZID=Europe/Helsinki:20220528T230000
DTSTAMP:20260420T131015
CREATED:20220420T162543Z
LAST-MODIFIED:20220525T123355Z
UID:9883-1653760800-1653778800@kotikirkko.fi
SUMMARY:La 28.5. klo 18.00 Nuorten retkipäivä
DESCRIPTION:La 28.5. klo 12.00-24.00 Nuorten retkipäivä Valkjärvellä. \nLisätietoja Heidiltä 050 4709970
URL:https://kotikirkko.fi/ohjelma/la-28-5-klo-18-00-nuorten-retkipaiva/
END:VEVENT
BEGIN:VEVENT
DTSTART;TZID=Europe/Helsinki:20220529T110000
DTEND;TZID=Europe/Helsinki:20220529T123000
DTSTAMP:20260420T131015
CREATED:20220411T071815Z
LAST-MODIFIED:20220411T074040Z
UID:9821-1653822000-1653827400@kotikirkko.fi
SUMMARY:Su 29.5. 11.00 Musiikijumalanpalvelus
DESCRIPTION:Su 29.5. 11.00 Musiikijumalanpalvelus\, Rukouslauluja on musiikillinen kokonaisuus ”valtavirran” hengellisestä musiikista poikkeavaa; omaperäistä\, koskettavaa ja rauhoittavaa. Moniäänistä laulua\, perinteisten soittimien lisäksi orkesterisoittimia.
URL:https://kotikirkko.fi/ohjelma/su-22-5-16-00jippii-konsertti-raamatun-punainen-lanka-matinsalissa/
END:VEVENT
BEGIN:VEVENT
DTSTART;TZID=Europe/Helsinki:20220531T180000
DTEND;TZID=Europe/Helsinki:20220531T200000
DTSTAMP:20260420T131015
CREATED:20220411T072758Z
LAST-MODIFIED:20220411T072758Z
UID:9833-1654020000-1654027200@kotikirkko.fi
SUMMARY:Ti 31.5. 18.00 Yhteisöilta
DESCRIPTION:Ti 31.5. 18.00 Yhteisöilta\, Henkka ja Hanna Nyman\, Allani Rantasalo ja tiimi
URL:https://kotikirkko.fi/ohjelma/ti-31-5-18-00-yhteisoilta/
END:VEVENT
BEGIN:VEVENT
DTSTART;TZID=Europe/Helsinki:20220601T180000
DTEND;TZID=Europe/Helsinki:20220601T193000
DTSTAMP:20260420T131015
CREATED:20220502T071804Z
LAST-MODIFIED:20220520T083106Z
UID:9935-1654106400-1654111800@kotikirkko.fi
SUMMARY:Ke 1.6. 18.00 Rukousilta
DESCRIPTION:Ke 1.6. 18.00 Rukousilta\, Ulf Krokfors
URL:https://kotikirkko.fi/ohjelma/ke-1-6-klo-11-rukousilta/
END:VEVENT
BEGIN:VEVENT
DTSTART;TZID=Europe/Helsinki:20220603T190000
DTEND;TZID=Europe/Helsinki:20220603T230000
DTSTAMP:20260420T131015
CREATED:20220525T123642Z
LAST-MODIFIED:20220525T123642Z
UID:10055-1654282800-1654297200@kotikirkko.fi
SUMMARY:Pe 3.6. klo 19.00 Nuortenilta
DESCRIPTION:Pe 3.6. klo 19.00 Nuortenilta
URL:https://kotikirkko.fi/ohjelma/pe-3-6-klo-19-00-nuortenilta/
END:VEVENT
BEGIN:VEVENT
DTSTART;TZID=Europe/Helsinki:20220605T110000
DTEND;TZID=Europe/Helsinki:20220605T130000
DTSTAMP:20260420T131015
CREATED:20220411T073138Z
LAST-MODIFIED:20220513T045600Z
UID:9836-1654426800-1654434000@kotikirkko.fi
SUMMARY:Su 5.6. 11.00 Ehtoollisjuhla
DESCRIPTION:Su 5.6.  11.00 Ehtoollisjuhla\, Jukka Perttu\, Jukka Nummikoski\, Kotikirkon Kuoro\, kahvitarjoilu
URL:https://kotikirkko.fi/ohjelma/su-5-6-11-00-ehtoollisjuhla/
END:VEVENT
BEGIN:VEVENT
DTSTART;TZID=Europe/Helsinki:20220606T180000
DTEND;TZID=Europe/Helsinki:20220606T200000
DTSTAMP:20260420T131015
CREATED:20220525T123801Z
LAST-MODIFIED:20220525T123801Z
UID:10058-1654538400-1654545600@kotikirkko.fi
SUMMARY:Ma 6.6. klo 18.00 Ukraina-kahvila
DESCRIPTION:Ma 6.6. klo 18.00 Ukraina-kahvila Kotikirkon alakerrassa
URL:https://kotikirkko.fi/ohjelma/ma-6-6-klo-18-00-ukraina-kahvila/
END:VEVENT
BEGIN:VEVENT
DTSTART;TZID=Europe/Helsinki:20220608T180000
DTEND;TZID=Europe/Helsinki:20220608T193000
DTSTAMP:20260420T131015
CREATED:20220502T072120Z
LAST-MODIFIED:20220520T083151Z
UID:9939-1654711200-1654716600@kotikirkko.fi
SUMMARY:Ke 8.6. 18.00 Rukousilta
DESCRIPTION:Ke 8.6. 18.00 Rukousilta\, Allani Rantasalo
URL:https://kotikirkko.fi/ohjelma/ke-8-6-klo-11-rukousilta/
END:VEVENT
BEGIN:VEVENT
DTSTART;TZID=Europe/Helsinki:20220610T190000
DTEND;TZID=Europe/Helsinki:20220610T230000
DTSTAMP:20260420T131015
CREATED:20220525T123913Z
LAST-MODIFIED:20220525T123913Z
UID:10061-1654887600-1654902000@kotikirkko.fi
SUMMARY:Pe 10.6. klo 19.00 Nuortenilta
DESCRIPTION:Pe 10.6. klo 19.00 Nuortenilta
URL:https://kotikirkko.fi/ohjelma/pe-10-6-klo-19-00-nuortenilta/
END:VEVENT
BEGIN:VEVENT
DTSTART;TZID=Europe/Helsinki:20220612T110000
DTEND;TZID=Europe/Helsinki:20220612T123000
DTSTAMP:20260420T131015
CREATED:20220502T065819Z
LAST-MODIFIED:20220602T041800Z
UID:9919-1655031600-1655037000@kotikirkko.fi
SUMMARY:Su 12.6. 11.00 Palaan Jerusalemiin! - Miksi Israel puhututtaa?
DESCRIPTION:Su 12.6. 11.00 Palaan Jerusalemiin! – Miksi Israel puhututtaa? Musiikki\, kuvat ja tekstit Pentti Oikarinen\, solistina tenori Perttu Mathlin
URL:https://kotikirkko.fi/ohjelma/su-12-6-klo-11-lahetysjumalanpalvelus/
END:VEVENT
BEGIN:VEVENT
DTSTART;TZID=Europe/Helsinki:20220615T180000
DTEND;TZID=Europe/Helsinki:20220615T193000
DTSTAMP:20260420T131015
CREATED:20220502T072256Z
LAST-MODIFIED:20220520T083318Z
UID:9942-1655316000-1655321400@kotikirkko.fi
SUMMARY:Ke 15.6. 18.00 Rukousilta
DESCRIPTION:Ke 15.6. 18.00 Rukousilta\, Risto Ropo
URL:https://kotikirkko.fi/ohjelma/ke-15-6-klo-11-rukousilta/
END:VEVENT
BEGIN:VEVENT
DTSTART;TZID=Europe/Helsinki:20220617T190000
DTEND;TZID=Europe/Helsinki:20220617T230000
DTSTAMP:20260420T131015
CREATED:20220525T124014Z
LAST-MODIFIED:20220525T124014Z
UID:10064-1655492400-1655506800@kotikirkko.fi
SUMMARY:Pe 17.6. klo 19.00 Nuortenilta
DESCRIPTION:Pe 17.6. klo 19.00 Nuortenilta
URL:https://kotikirkko.fi/ohjelma/pe-17-6-klo-19-00-nuortenilta/
END:VEVENT
BEGIN:VEVENT
DTSTART;TZID=Europe/Helsinki:20220618T160000
DTEND;TZID=Europe/Helsinki:20220618T180000
DTSTAMP:20260420T131015
CREATED:20220525T124351Z
LAST-MODIFIED:20220525T124351Z
UID:10068-1655568000-1655575200@kotikirkko.fi
SUMMARY:La 18.6. klo 16.00 #Reset grillausilta
DESCRIPTION:La 18.6. klo 16.00 grillausilta Kotikirkon alapihalla. \nMakkaraa\, salaattia\, kahvia ja mehua. Säävaraus.
URL:https://kotikirkko.fi/ohjelma/la-18-6-klo-16-00-reset-grillausilta/
END:VEVENT
BEGIN:VEVENT
DTSTART;TZID=Europe/Helsinki:20220619T110000
DTEND;TZID=Europe/Helsinki:20220619T123000
DTSTAMP:20260420T131015
CREATED:20220502T070207Z
LAST-MODIFIED:20220520T082235Z
UID:9922-1655636400-1655641800@kotikirkko.fi
SUMMARY:Su 19.6. 11.00 Teemajumalanpalvelus\, opetuslapseuskoulun tiimi
DESCRIPTION:Su 19.6. 11.00 Teemajumalanpalvelus\, opetuslapseuskoulun tiimi
URL:https://kotikirkko.fi/ohjelma/su-12-6-klo-11-teemajumalanpalvelus-opetuslapseuskoulun-tiimi/
END:VEVENT
BEGIN:VEVENT
DTSTART;TZID=Europe/Helsinki:20220622T180000
DTEND;TZID=Europe/Helsinki:20220622T193000
DTSTAMP:20260420T131015
CREATED:20220502T072404Z
LAST-MODIFIED:20220520T083412Z
UID:9945-1655920800-1655926200@kotikirkko.fi
SUMMARY:Ke 22.6. 18.00 Rukousilta
DESCRIPTION:Ke 22.6. 18.00 Rukousilta\, Anja Kolehmainen ja rukouskävelijät
URL:https://kotikirkko.fi/ohjelma/ke-22-6-klo-11-rukousilta/
END:VEVENT
END:VCALENDAR