BEGIN:VCALENDAR
VERSION:2.0
PRODID:-//Riihimäen Kotikirkko - ECPv6.15.20//NONSGML v1.0//EN
CALSCALE:GREGORIAN
METHOD:PUBLISH
X-ORIGINAL-URL:https://kotikirkko.fi
X-WR-CALDESC:Tapahtumat Riihimäen Kotikirkko
REFRESH-INTERVAL;VALUE=DURATION:PT1H
X-Robots-Tag:noindex
X-PUBLISHED-TTL:PT1H
BEGIN:VTIMEZONE
TZID:Europe/Helsinki
BEGIN:DAYLIGHT
TZOFFSETFROM:+0200
TZOFFSETTO:+0300
TZNAME:EEST
DTSTART:20200329T010000
END:DAYLIGHT
BEGIN:STANDARD
TZOFFSETFROM:+0300
TZOFFSETTO:+0200
TZNAME:EET
DTSTART:20201025T010000
END:STANDARD
BEGIN:DAYLIGHT
TZOFFSETFROM:+0200
TZOFFSETTO:+0300
TZNAME:EEST
DTSTART:20210328T010000
END:DAYLIGHT
BEGIN:STANDARD
TZOFFSETFROM:+0300
TZOFFSETTO:+0200
TZNAME:EET
DTSTART:20211031T010000
END:STANDARD
BEGIN:DAYLIGHT
TZOFFSETFROM:+0200
TZOFFSETTO:+0300
TZNAME:EEST
DTSTART:20220327T010000
END:DAYLIGHT
BEGIN:STANDARD
TZOFFSETFROM:+0300
TZOFFSETTO:+0200
TZNAME:EET
DTSTART:20221030T010000
END:STANDARD
END:VTIMEZONE
BEGIN:VEVENT
DTSTART;TZID=Europe/Helsinki:20210604T190000
DTEND;TZID=Europe/Helsinki:20210604T230000
DTSTAMP:20260421T095145
CREATED:20210531T171538Z
LAST-MODIFIED:20210531T171538Z
UID:8050-1622833200-1622847600@kotikirkko.fi
SUMMARY:Pe 4.6. klo 19.00 Nuorten pienryhmät
DESCRIPTION:Pe 4.6. klo 19.00 Nuorten pienryhmät. Ilmoittaudu mukaan Heidille 050 4709970
URL:https://kotikirkko.fi/ohjelma/pe-4-6-klo-19-00-nuorten-pienryhmat/
END:VEVENT
BEGIN:VEVENT
DTSTART;TZID=Europe/Helsinki:20210606T110000
DTEND;TZID=Europe/Helsinki:20210606T121500
DTSTAMP:20260421T095145
CREATED:20210503T061920Z
LAST-MODIFIED:20210529T104326Z
UID:8021-1622977200-1622981700@kotikirkko.fi
SUMMARY:Su 6.6. klo 11.00 Jumalanpalvelus ja ehtoollinen
DESCRIPTION:Su 6.6. klo 11.00 Jumalanpalvelus ja ehtoollinen\, Jukka Perttu\, Jukka Nummikoski\, Paula & Anne
URL:https://kotikirkko.fi/ohjelma/su-6-6-klo-11-00-jumalanpalvelus-ja-ehtoollinen/
END:VEVENT
BEGIN:VEVENT
DTSTART;TZID=Europe/Helsinki:20210609T183000
DTEND;TZID=Europe/Helsinki:20210609T190000
DTSTAMP:20260421T095145
CREATED:20210603T111553Z
LAST-MODIFIED:20210603T111553Z
UID:8060-1623263400-1623265200@kotikirkko.fi
SUMMARY:Ke 9.6. 18.00 Rukousilta
DESCRIPTION:Ke 9.6. 18.00 Rukousilta
URL:https://kotikirkko.fi/ohjelma/ke-9-6-18-00-rukousilta/
END:VEVENT
BEGIN:VEVENT
DTSTART;TZID=Europe/Helsinki:20210613T110000
DTEND;TZID=Europe/Helsinki:20210613T120000
DTSTAMP:20260421T095145
CREATED:20210603T111313Z
LAST-MODIFIED:20210611T120402Z
UID:8054-1623582000-1623585600@kotikirkko.fi
SUMMARY:Su 13.6. 11.00	Lähetysjumalanpalvelus
DESCRIPTION:13.6. 11.00 Lähetysjumalanpalvelus\, Minna ja Timo Mantila\, Anna-Liisa Liljefors\, musiikki Henry Hedman
URL:https://kotikirkko.fi/ohjelma/su-13-6-11-00lahetysjumalanpalvelus/
END:VEVENT
BEGIN:VEVENT
DTSTART;TZID=Europe/Helsinki:20210616T180000
DTEND;TZID=Europe/Helsinki:20210616T190000
DTSTAMP:20260421T095145
CREATED:20210603T111428Z
LAST-MODIFIED:20210603T111428Z
UID:8057-1623866400-1623870000@kotikirkko.fi
SUMMARY:Ke 16.6. 18.00	Rukousilta
DESCRIPTION:Ke 16.6. 18.00	Rukousilta
URL:https://kotikirkko.fi/ohjelma/ke-16-6-18-00rukousilta/
END:VEVENT
BEGIN:VEVENT
DTSTART;TZID=Europe/Helsinki:20210620T110000
DTEND;TZID=Europe/Helsinki:20210620T120000
DTSTAMP:20260421T095145
CREATED:20210603T111716Z
LAST-MODIFIED:20210608T091837Z
UID:8063-1624186800-1624190400@kotikirkko.fi
SUMMARY:Su 20.6. 11.00	Jumalanpalvelus\, teemana pienryhmät
DESCRIPTION:Su 20.6. 11.00	Jumalanpalvelus\, teemana pienryhmät\, Leena Pihlainen\, Hanna Prinkkilä\, Seppo Kaski\, musiikki Mikko ja Minna Ilomäki
URL:https://kotikirkko.fi/ohjelma/su-20-6-11-00jumalanpalvelus-teemana-pienryhmat/
END:VEVENT
BEGIN:VEVENT
DTSTART;TZID=Europe/Helsinki:20210623T180000
DTEND;TZID=Europe/Helsinki:20210623T190000
DTSTAMP:20260421T095145
CREATED:20210603T111852Z
LAST-MODIFIED:20210603T111852Z
UID:8066-1624471200-1624474800@kotikirkko.fi
SUMMARY:Ke 23.6. 18.00	Rukousilta
DESCRIPTION:Ke 23.6. 18.00	Rukousilta
URL:https://kotikirkko.fi/ohjelma/ke-23-6-18-00rukousilta/
END:VEVENT
BEGIN:VEVENT
DTSTART;TZID=Europe/Helsinki:20210627T110000
DTEND;TZID=Europe/Helsinki:20210627T123000
DTSTAMP:20260421T095145
CREATED:20210603T112204Z
LAST-MODIFIED:20210603T112204Z
UID:8070-1624791600-1624797000@kotikirkko.fi
SUMMARY:Su 27.6. 11.00	USKO-TV:n lähetys Keuruun juhannuskonferenssista Kotikirkolla
DESCRIPTION:Su 27.6. 11.00	USKO-TV:n lähetys Keuruun juhannuskonferenssista Kotikirkolla
URL:https://kotikirkko.fi/ohjelma/su-27-6-11-00usko-tvn-lahetys-keuruun-juhannuskonferenssista-kotikirkolla/
END:VEVENT
BEGIN:VEVENT
DTSTART;TZID=Europe/Helsinki:20210630T180000
DTEND;TZID=Europe/Helsinki:20210630T190000
DTSTAMP:20260421T095145
CREATED:20210603T112318Z
LAST-MODIFIED:20210603T112318Z
UID:8073-1625076000-1625079600@kotikirkko.fi
SUMMARY:Ke 30.6. 18.00 Rukousilta
DESCRIPTION:Ke 30.6. 18.00	Rukousilta
URL:https://kotikirkko.fi/ohjelma/ke-30-6-18-00-rukousilta/
END:VEVENT
BEGIN:VEVENT
DTSTART;TZID=Europe/Helsinki:20210702T190000
DTEND;TZID=Europe/Helsinki:20210702T230000
DTSTAMP:20260421T095145
CREATED:20210702T094134Z
LAST-MODIFIED:20210702T094434Z
UID:8192-1625252400-1625266800@kotikirkko.fi
SUMMARY:Pe 2.7. klo 19.00 Nuortenilta
DESCRIPTION:Pe 2.7. klo 19.00 Nuorten kesäkokoontuminen. \nLisätiedot Heidi 050 4709970
URL:https://kotikirkko.fi/ohjelma/nuortenilta/
END:VEVENT
BEGIN:VEVENT
DTSTART;TZID=Europe/Helsinki:20210704T110000
DTEND;TZID=Europe/Helsinki:20210704T121500
DTSTAMP:20260421T095145
CREATED:20210608T091510Z
LAST-MODIFIED:20210629T050015Z
UID:8077-1625396400-1625400900@kotikirkko.fi
SUMMARY:Su 4.7. 11.00 Jumalanpalvelus ja ehtoollinen
DESCRIPTION:Su 4.7. 11.00 Jumalanpalvelus ja ehtoollinen\, Erkki Karvanen\, Seppo Kaski\, musiikki Maritta ja Mika
URL:https://kotikirkko.fi/ohjelma/su-4-7-11-00-jumalanpalvelus-ja-ehtoollinen/
END:VEVENT
BEGIN:VEVENT
DTSTART;TZID=Europe/Helsinki:20210707T180000
DTEND;TZID=Europe/Helsinki:20210707T193000
DTSTAMP:20260421T095145
CREATED:20210629T050119Z
LAST-MODIFIED:20210629T050119Z
UID:8148-1625680800-1625686200@kotikirkko.fi
SUMMARY:7.7. klo 18.00 Rukousilta
DESCRIPTION:7.7. klo 18.00 Rukousilta
URL:https://kotikirkko.fi/ohjelma/7-7-klo-18-00-rukousilta/
END:VEVENT
BEGIN:VEVENT
DTSTART;TZID=Europe/Helsinki:20210709T190000
DTEND;TZID=Europe/Helsinki:20210709T230000
DTSTAMP:20260421T095145
CREATED:20210702T094533Z
LAST-MODIFIED:20210702T094533Z
UID:8199-1625857200-1625871600@kotikirkko.fi
SUMMARY:Pe 9.7. klo 19.00 Nuortenilta
DESCRIPTION:Pe 9.7. klo 19.00 Nuorten kesäkokoontuminen. \nLisätiedot Heidi 050 4709970
URL:https://kotikirkko.fi/ohjelma/pe-9-7-klo-19-00-nuortenilta/
END:VEVENT
BEGIN:VEVENT
DTSTART;TZID=Europe/Helsinki:20210711T110000
DTEND;TZID=Europe/Helsinki:20210711T123000
DTSTAMP:20260421T095145
CREATED:20210629T050602Z
LAST-MODIFIED:20210629T050611Z
UID:8157-1626001200-1626006600@kotikirkko.fi
SUMMARY:Su 11.7. 11.00 Jumalanpalvelus
DESCRIPTION:Su 11.7. 11.00 Jumalanpalvelus\, Riitta Kansanen\, Risto Ropo
URL:https://kotikirkko.fi/ohjelma/su-11-7-11-00-jumalanpalvelus/
END:VEVENT
BEGIN:VEVENT
DTSTART;TZID=Europe/Helsinki:20210714T180000
DTEND;TZID=Europe/Helsinki:20210714T193000
DTSTAMP:20260421T095145
CREATED:20210629T051718Z
LAST-MODIFIED:20210629T051718Z
UID:8169-1626285600-1626291000@kotikirkko.fi
SUMMARY:Ke 14.7. 18.00 Rukousilta
DESCRIPTION:Ke 14.7. 18.00 Rukousilta
URL:https://kotikirkko.fi/ohjelma/ke-14-7-18-00-rukousilta/
END:VEVENT
BEGIN:VEVENT
DTSTART;TZID=Europe/Helsinki:20210718T110000
DTEND;TZID=Europe/Helsinki:20210718T123000
DTSTAMP:20260421T095145
CREATED:20210629T050825Z
LAST-MODIFIED:20210629T050838Z
UID:8160-1626606000-1626611400@kotikirkko.fi
SUMMARY:Su 18.7. 11.00 Jumalanpalvelus
DESCRIPTION:Su 18.7. 11.00	Jumalanpalvelus\, Harri Grönstrand ja yhteisöillan ystävät
URL:https://kotikirkko.fi/ohjelma/su-18-7-11-00-jumalanpalvelus/
END:VEVENT
BEGIN:VEVENT
DTSTART;TZID=Europe/Helsinki:20210721T180000
DTEND;TZID=Europe/Helsinki:20210721T193000
DTSTAMP:20260421T095145
CREATED:20210629T051822Z
LAST-MODIFIED:20210629T051822Z
UID:8172-1626890400-1626895800@kotikirkko.fi
SUMMARY:Ke 21.7. 18.00 Rukousilta
DESCRIPTION:Ke 21.7. 18.00 Rukousilta
URL:https://kotikirkko.fi/ohjelma/ke-21-7-18-00-rukousilta/
END:VEVENT
BEGIN:VEVENT
DTSTART;TZID=Europe/Helsinki:20210723T190000
DTEND;TZID=Europe/Helsinki:20210723T230000
DTSTAMP:20260421T095145
CREATED:20210702T094820Z
LAST-MODIFIED:20210702T094820Z
UID:8202-1627066800-1627081200@kotikirkko.fi
SUMMARY:Pe 23.7. klo 19.00 Nuortenilta
DESCRIPTION:Pe 23.7. klo 19.00 Nuorten kesäkokoontuminen. \nLisätiedot Heidi 050 4709970
URL:https://kotikirkko.fi/ohjelma/pe-23-7-klo-19-00-nuortenilta/
END:VEVENT
BEGIN:VEVENT
DTSTART;TZID=Europe/Helsinki:20210725T110000
DTEND;TZID=Europe/Helsinki:20210725T123000
DTSTAMP:20260421T095145
CREATED:20210629T051007Z
LAST-MODIFIED:20210629T051007Z
UID:8163-1627210800-1627216200@kotikirkko.fi
SUMMARY:Su 25.7. 11.00 Jumalanpalvelus nuorten johdolla
DESCRIPTION:Su 25.7. 11.00 Jumalanpalvelus nuorten johdolla\, Heidi Antinsalo\, kesäleiriterveiset
URL:https://kotikirkko.fi/ohjelma/su-25-7-11-00-jumalanpalvelus-nuorten-johdolla/
END:VEVENT
BEGIN:VEVENT
DTSTART;TZID=Europe/Helsinki:20210728T180000
DTEND;TZID=Europe/Helsinki:20210728T193000
DTSTAMP:20260421T095145
CREATED:20210629T051919Z
LAST-MODIFIED:20210629T051919Z
UID:8175-1627495200-1627500600@kotikirkko.fi
SUMMARY:Ke 28.7. 18.00 Rukousilta
DESCRIPTION:Ke 28.7. 18.00 Rukousilta
URL:https://kotikirkko.fi/ohjelma/ke-28-7-18-00-rukousilta/
END:VEVENT
BEGIN:VEVENT
DTSTART;TZID=Europe/Helsinki:20210730T190000
DTEND;TZID=Europe/Helsinki:20210730T230000
DTSTAMP:20260421T095145
CREATED:20210702T094935Z
LAST-MODIFIED:20210702T094935Z
UID:8205-1627671600-1627686000@kotikirkko.fi
SUMMARY:Pe 30.7. klo 19.00 Nuortenilta
DESCRIPTION:Pe 30.7. klo 19.00 Nuorten kesäkokoontuminen. \nLisätiedot Heidi 050 4709970
URL:https://kotikirkko.fi/ohjelma/pe-30-7-klo-19-00-nuortenilta/
END:VEVENT
BEGIN:VEVENT
DTSTART;TZID=Europe/Helsinki:20210801T110000
DTEND;TZID=Europe/Helsinki:20210801T123000
DTSTAMP:20260421T095145
CREATED:20210629T051553Z
LAST-MODIFIED:20210731T074523Z
UID:8166-1627815600-1627821000@kotikirkko.fi
SUMMARY:Su 1.8. 11.00 Jumalanpalvelus ja ehtoollinen
DESCRIPTION:Su 1.8. 11.00 Jumalanpalvelus ja ehtoollinen\, Seppo Kaski\, Ari Juntunen\, musiikki Henry Hedman\, Reijo Korhonen ja Pentti Oikarinen\, Vamos-lähetyskoulutukseen ja -harjoitteluun lähtevien siunaus. Lähetyslettukahvit matkan hyväksi.
URL:https://kotikirkko.fi/ohjelma/su-1-8-11-00-jumalanpalvelus-ja-ehtoollinen/
END:VEVENT
BEGIN:VEVENT
DTSTART;TZID=Europe/Helsinki:20210804T180000
DTEND;TZID=Europe/Helsinki:20210804T193000
DTSTAMP:20260421T095145
CREATED:20210629T052107Z
LAST-MODIFIED:20210724T065442Z
UID:8178-1628100000-1628105400@kotikirkko.fi
SUMMARY:Ke 4.8. 18.00 Rukousilta
DESCRIPTION:Ke 4.8. 18.00 Rukousilta\, Seppo Kaski
URL:https://kotikirkko.fi/ohjelma/ke-4-8-18-00-rukousilta/
END:VEVENT
BEGIN:VEVENT
DTSTART;TZID=Europe/Helsinki:20210806T190000
DTEND;TZID=Europe/Helsinki:20210806T230000
DTSTAMP:20260421T095145
CREATED:20210702T095053Z
LAST-MODIFIED:20210702T095053Z
UID:8208-1628276400-1628290800@kotikirkko.fi
SUMMARY:Pe 6.8. klo 19.00 Nuortenilta
DESCRIPTION:Pe 6.8. klo 19.00 Nuorten kesäkokoontuminen. \nLisätiedot Heidi 050 4709970
URL:https://kotikirkko.fi/ohjelma/pe-6-8-klo-19-00-nuortenilta/
END:VEVENT
BEGIN:VEVENT
DTSTART;TZID=Europe/Helsinki:20210808T110000
DTEND;TZID=Europe/Helsinki:20210808T123000
DTSTAMP:20260421T095145
CREATED:20210629T052249Z
LAST-MODIFIED:20210724T065653Z
UID:8181-1628420400-1628425800@kotikirkko.fi
SUMMARY:Su 8.8. 11.00 Lähetysjumalanpalvelus\, koululaisten siunaus
DESCRIPTION:Su 8.8. 11.00 Lähetysjumalanpalvelus\, koululaisten siunaus\, Pirjo Perttu\, musiikki Ulla & Hannele\, pyhäkoulu
URL:https://kotikirkko.fi/ohjelma/su-8-8-11-00-lahetysjumalanpalvelus/
END:VEVENT
BEGIN:VEVENT
DTSTART;TZID=Europe/Helsinki:20210811T180000
DTEND;TZID=Europe/Helsinki:20210811T193000
DTSTAMP:20260421T095145
CREATED:20210805T075958Z
LAST-MODIFIED:20210805T075958Z
UID:8475-1628704800-1628710200@kotikirkko.fi
SUMMARY:Ke 11.8. 18.00 Raamattu- ja rukousilta
DESCRIPTION:Ke 11.8. 18.00 Raamattu- ja rukousilta\, 1. Kor. luku 9\, Erkki Karvanen
URL:https://kotikirkko.fi/ohjelma/ke-11-8-18-00-raamattu-ja-rukousilta/
END:VEVENT
BEGIN:VEVENT
DTSTART;TZID=Europe/Helsinki:20210813T190000
DTEND;TZID=Europe/Helsinki:20210813T230000
DTSTAMP:20260421T095145
CREATED:20210702T095247Z
LAST-MODIFIED:20210702T095247Z
UID:8211-1628881200-1628895600@kotikirkko.fi
SUMMARY:Pe 13.8. klo 19.00 Nuortenleiri
DESCRIPTION:Pe 13.8.- 15.8. Nuorten leiri \nLisätiedot Heidi 050 4709970
URL:https://kotikirkko.fi/ohjelma/pe-13-8-klo-19-00-nuortenleiri/
END:VEVENT
BEGIN:VEVENT
DTSTART;TZID=Europe/Helsinki:20210815T110000
DTEND;TZID=Europe/Helsinki:20210815T123000
DTSTAMP:20260421T095145
CREATED:20210805T075752Z
LAST-MODIFIED:20210815T032616Z
UID:8472-1629025200-1629030600@kotikirkko.fi
SUMMARY:Su 15.8. 11.00 Jumalanpalvelus
DESCRIPTION:Su 15.8. 11.00 Jumalanpalvelus\, Risto Ropo\, Allani Rantasalo ja Hemmi Nyman
URL:https://kotikirkko.fi/ohjelma/su-15-8-11-00-jumalanpalvelus/
END:VEVENT
BEGIN:VEVENT
DTSTART;TZID=Europe/Helsinki:20210818T180000
DTEND;TZID=Europe/Helsinki:20210818T190000
DTSTAMP:20260421T095145
CREATED:20210805T081239Z
LAST-MODIFIED:20210805T081239Z
UID:8494-1629309600-1629313200@kotikirkko.fi
SUMMARY:Ke 18.8. 18.00 Riihimäen Kotikirkko-yhdistys ry:n vuosikokous
DESCRIPTION:Ke 18.8. 18.00 Riihimäen Kotikirkko-yhdistys ry:n vuosikokous\, Timo Mantila
URL:https://kotikirkko.fi/ohjelma/ke-18-8-18-00-riihimaen-kotikirkko-yhdistys-ryn-vuosikokous/
END:VEVENT
BEGIN:VEVENT
DTSTART;TZID=Europe/Helsinki:20210820T190000
DTEND;TZID=Europe/Helsinki:20210820T230000
DTSTAMP:20260421T095145
CREATED:20210702T095636Z
LAST-MODIFIED:20210702T095636Z
UID:8214-1629486000-1629500400@kotikirkko.fi
SUMMARY:Pe 20.8. klo 19.00 Nuortenilta
DESCRIPTION:Pe 20.8. klo 19.00 Nuorten kesäkokoontuminen. \nLisätiedot Heidi 050 4709970
URL:https://kotikirkko.fi/ohjelma/pe-20-8-klo-19-00-nuortenilta/
END:VEVENT
END:VCALENDAR