BEGIN:VCALENDAR
VERSION:2.0
PRODID:-//Riihimäen Kotikirkko - ECPv6.15.20//NONSGML v1.0//EN
CALSCALE:GREGORIAN
METHOD:PUBLISH
X-ORIGINAL-URL:https://kotikirkko.fi
X-WR-CALDESC:Tapahtumat Riihimäen Kotikirkko
REFRESH-INTERVAL;VALUE=DURATION:PT1H
X-Robots-Tag:noindex
X-PUBLISHED-TTL:PT1H
BEGIN:VTIMEZONE
TZID:Europe/Helsinki
BEGIN:DAYLIGHT
TZOFFSETFROM:+0200
TZOFFSETTO:+0300
TZNAME:EEST
DTSTART:20190331T010000
END:DAYLIGHT
BEGIN:STANDARD
TZOFFSETFROM:+0300
TZOFFSETTO:+0200
TZNAME:EET
DTSTART:20191027T010000
END:STANDARD
BEGIN:DAYLIGHT
TZOFFSETFROM:+0200
TZOFFSETTO:+0300
TZNAME:EEST
DTSTART:20200329T010000
END:DAYLIGHT
BEGIN:STANDARD
TZOFFSETFROM:+0300
TZOFFSETTO:+0200
TZNAME:EET
DTSTART:20201025T010000
END:STANDARD
BEGIN:DAYLIGHT
TZOFFSETFROM:+0200
TZOFFSETTO:+0300
TZNAME:EEST
DTSTART:20210328T010000
END:DAYLIGHT
BEGIN:STANDARD
TZOFFSETFROM:+0300
TZOFFSETTO:+0200
TZNAME:EET
DTSTART:20211031T010000
END:STANDARD
END:VTIMEZONE
BEGIN:VEVENT
DTSTART;TZID=Europe/Helsinki:20201001T180000
DTEND;TZID=Europe/Helsinki:20201001T200000
DTSTAMP:20260422T003640
CREATED:20200927T150042Z
LAST-MODIFIED:20200927T150449Z
UID:7200-1601575200-1601582400@kotikirkko.fi
SUMMARY:To 1.10. klo 18.00 Yhteisöillan nuorisokahvila
DESCRIPTION:To 1.10. klo 18.00 Yhteisöillan nuorisokahvila
URL:https://kotikirkko.fi/ohjelma/1-10-klo-18-yhteisoillan-nuorisokahvila/
END:VEVENT
BEGIN:VEVENT
DTSTART;TZID=Europe/Helsinki:20201002T190000
DTEND;TZID=Europe/Helsinki:20201002T230000
DTSTAMP:20260422T003640
CREATED:20200919T091903Z
LAST-MODIFIED:20200919T091903Z
UID:7167-1601665200-1601679600@kotikirkko.fi
SUMMARY:Pe 2.10. klo 19.00 Nuortenilta
DESCRIPTION:Pe 2.10. klo 19.00 Nuortenilta
URL:https://kotikirkko.fi/ohjelma/pe-2-10-klo-19-00-nuortenilta/
END:VEVENT
BEGIN:VEVENT
DTSTART;TZID=Europe/Helsinki:20201004T110000
DTEND;TZID=Europe/Helsinki:20201004T123000
DTSTAMP:20260422T003640
CREATED:20200828T073305Z
LAST-MODIFIED:20200927T145805Z
UID:7134-1601809200-1601814600@kotikirkko.fi
SUMMARY:Su 4.10. 11.00 Jumalanpalvelus\, ehtoollinen
DESCRIPTION:Su 4.10. 11.00 Jumalanpalvelus\, ehtoollinen\, Seppo Kaski\, Jarmo Korpilahti\, Mikko ja Minna Ilomäki
URL:https://kotikirkko.fi/ohjelma/su-4-10-11-00-jumalanpalvelus-ehtoollinen/
END:VEVENT
BEGIN:VEVENT
DTSTART;TZID=Europe/Helsinki:20201006T180000
DTEND;TZID=Europe/Helsinki:20201006T193000
DTSTAMP:20260422T003640
CREATED:20200919T115122Z
LAST-MODIFIED:20200919T115122Z
UID:7170-1602007200-1602012600@kotikirkko.fi
SUMMARY:Ti 6.10. klo 18.00 Varkkikerho
DESCRIPTION:Ti 6.10. klo 18.00 Varkkikerho
URL:https://kotikirkko.fi/ohjelma/ti-6-10-klo-18-00-varkkikerho/
END:VEVENT
BEGIN:VEVENT
DTSTART;TZID=Europe/Helsinki:20201007T180000
DTEND;TZID=Europe/Helsinki:20201007T193000
DTSTAMP:20260422T003640
CREATED:20200930T053507Z
LAST-MODIFIED:20200930T053507Z
UID:7222-1602093600-1602099000@kotikirkko.fi
SUMMARY:Ke 7.10. 18.00 Rukousilta
DESCRIPTION:Ke 7.10. 18.00 Rukousilta\, Raija Laitajoki
URL:https://kotikirkko.fi/ohjelma/ke-7-10-18-00-rukousilta-2/
END:VEVENT
BEGIN:VEVENT
DTSTART;TZID=Europe/Helsinki:20201008T180000
DTEND;TZID=Europe/Helsinki:20201008T193000
DTSTAMP:20260422T003640
CREATED:20200930T055023Z
LAST-MODIFIED:20200930T055023Z
UID:7238-1602180000-1602185400@kotikirkko.fi
SUMMARY:To 8.10. klo 18.00 Yhteisöillan nuorisokahvila
DESCRIPTION:To 8.10. klo 18.00 Yhteisöillan nuorisokahvila
URL:https://kotikirkko.fi/ohjelma/to-8-10-klo-18-00-yhteisoillan-nuorisokahvila/
END:VEVENT
BEGIN:VEVENT
DTSTART;TZID=Europe/Helsinki:20201009T190000
DTEND;TZID=Europe/Helsinki:20201009T230000
DTSTAMP:20260422T003640
CREATED:20200919T115300Z
LAST-MODIFIED:20200919T115300Z
UID:7173-1602270000-1602284400@kotikirkko.fi
SUMMARY:Pe 9.10. klo 19.00 Nuortenilta
DESCRIPTION:Pe 9.10. klo 19.00 Nuortenilta
URL:https://kotikirkko.fi/ohjelma/pe-9-10-klo-19-00-nuortenilta/
END:VEVENT
BEGIN:VEVENT
DTSTART;TZID=Europe/Helsinki:20201011T110000
DTEND;TZID=Europe/Helsinki:20201011T123000
DTSTAMP:20260422T003640
CREATED:20200930T054745Z
LAST-MODIFIED:20200930T054745Z
UID:7235-1602414000-1602419400@kotikirkko.fi
SUMMARY:11.10. klo 11 Lähetysjumalanpalvelus
DESCRIPTION:11.10. klo 11 Lähetysjumalanpalvelus\, musiikki Jukka ja Hanna-Mari Putkonen
URL:https://kotikirkko.fi/ohjelma/11-10-klo-11-lahetysjumalanpalvelus/
END:VEVENT
BEGIN:VEVENT
DTSTART;TZID=Europe/Helsinki:20201014T180000
DTEND;TZID=Europe/Helsinki:20201014T193000
DTSTAMP:20260422T003640
CREATED:20200930T053637Z
LAST-MODIFIED:20200930T053637Z
UID:7225-1602698400-1602703800@kotikirkko.fi
SUMMARY:Ke 14.10. 18.00 Rukousilta
DESCRIPTION:Ke 14.10. 18.00 Rukousilta\, Seppo Kaski
URL:https://kotikirkko.fi/ohjelma/ke-14-10-18-00-rukousilta/
END:VEVENT
BEGIN:VEVENT
DTSTART;TZID=Europe/Helsinki:20201015T180000
DTEND;TZID=Europe/Helsinki:20201015T193000
DTSTAMP:20260422T003640
CREATED:20200930T055106Z
LAST-MODIFIED:20200930T055106Z
UID:7241-1602784800-1602790200@kotikirkko.fi
SUMMARY:To 15.10. klo 18.00 Yhteisöillan nuorisokahvila
DESCRIPTION:To 15.10. klo 18.00 Yhteisöillan nuorisokahvila
URL:https://kotikirkko.fi/ohjelma/to-15-10-klo-18-00-yhteisoillan-nuorisokahvila/
END:VEVENT
BEGIN:VEVENT
DTSTART;TZID=Europe/Helsinki:20201016T190000
DTEND;TZID=Europe/Helsinki:20201016T230000
DTSTAMP:20260422T003640
CREATED:20200919T115840Z
LAST-MODIFIED:20200919T115840Z
UID:7182-1602874800-1602889200@kotikirkko.fi
SUMMARY:Pe 16.10. klo 19.00 Nuortenilta
DESCRIPTION:Pe 16.10. klo 19.00 Nuortenilta
URL:https://kotikirkko.fi/ohjelma/pe-16-10-klo-19-00-nuortenilta/
END:VEVENT
BEGIN:VEVENT
DTSTART;TZID=Europe/Helsinki:20201018T110000
DTEND;TZID=Europe/Helsinki:20201018T123000
DTSTAMP:20260422T003640
CREATED:20200930T054002Z
LAST-MODIFIED:20201008T054503Z
UID:7228-1603018800-1603024200@kotikirkko.fi
SUMMARY:Su 18.10. klo 11.00 Gideon-teemajumalanpalvelus
DESCRIPTION:Su 18.10. klo 11.00 Gideon-teemajumalanpalvelus\, Vesa Kunnas\, Kari Bergman\, musiikki Janne Ahonen\, Hilkka ja Tenho Göös
URL:https://kotikirkko.fi/ohjelma/su-18-10-klo-11-00-gideon-teemajumalanpalvelus/
END:VEVENT
BEGIN:VEVENT
DTSTART;TZID=Europe/Helsinki:20201020T180000
DTEND;TZID=Europe/Helsinki:20201020T193000
DTSTAMP:20260422T003640
CREATED:20200919T120326Z
LAST-MODIFIED:20200919T120326Z
UID:7185-1603216800-1603222200@kotikirkko.fi
SUMMARY:Ti 20.10. klo 18.00 Varkkikerho
DESCRIPTION:Ti 20.10. klo 18.00 Varkkikerho
URL:https://kotikirkko.fi/ohjelma/ti-20-10-klo-18-00-varkkikerho/
END:VEVENT
BEGIN:VEVENT
DTSTART;TZID=Europe/Helsinki:20201021T180000
DTEND;TZID=Europe/Helsinki:20201021T193000
DTSTAMP:20260422T003640
CREATED:20200930T053132Z
LAST-MODIFIED:20200930T053306Z
UID:7216-1603303200-1603308600@kotikirkko.fi
SUMMARY:Ke 21.10. 18.00 Rukousilta
DESCRIPTION:Ke 21.10. 18.00 Rukousilta\, Mikko ja Minna Ilomäki
URL:https://kotikirkko.fi/ohjelma/ke-7-10-18-00-rukousilta/
END:VEVENT
BEGIN:VEVENT
DTSTART;TZID=Europe/Helsinki:20201022T180000
DTEND;TZID=Europe/Helsinki:20201022T193000
DTSTAMP:20260422T003640
CREATED:20200930T055202Z
LAST-MODIFIED:20200930T055202Z
UID:7244-1603389600-1603395000@kotikirkko.fi
SUMMARY:To 22.10. klo 18.00 Yhteisöillan nuorisokahvila
DESCRIPTION:To 22.10. klo 18.00 Yhteisöillan nuorisokahvila
URL:https://kotikirkko.fi/ohjelma/to-22-10-klo-18-00-yhteisoillan-nuorisokahvila/
END:VEVENT
BEGIN:VEVENT
DTSTART;TZID=Europe/Helsinki:20201023T190000
DTEND;TZID=Europe/Helsinki:20201023T230000
DTSTAMP:20260422T003640
CREATED:20200919T120425Z
LAST-MODIFIED:20200919T120425Z
UID:7188-1603479600-1603494000@kotikirkko.fi
SUMMARY:Pe 23.10. klo 19.00 Nuortenilta
DESCRIPTION:Pe 23.10. klo 19.00 Nuortenilta
URL:https://kotikirkko.fi/ohjelma/pe-23-10-klo-19-00-nuortenilta/
END:VEVENT
BEGIN:VEVENT
DTSTART;TZID=Europe/Helsinki:20201024T180000
DTEND;TZID=Europe/Helsinki:20201024T210000
DTSTAMP:20260422T003640
CREATED:20200919T115619Z
LAST-MODIFIED:20200919T115619Z
UID:7176-1603562400-1603573200@kotikirkko.fi
SUMMARY:La 24.10. klo 18.00 #Reset-olkkari
DESCRIPTION:La 24.10. klo 18.00 #Reset-olkkari. \nRentoa yhdessäoloa kahvikupin äärellä\, pientä ohjelmaa ja lapsille pyhäkoulu.
URL:https://kotikirkko.fi/ohjelma/la-24-10-klo-18-00-reset-olkkari/
END:VEVENT
BEGIN:VEVENT
DTSTART;TZID=Europe/Helsinki:20201025T160000
DTEND;TZID=Europe/Helsinki:20201025T173000
DTSTAMP:20260422T003640
CREATED:20200930T054219Z
LAST-MODIFIED:20200930T054219Z
UID:7232-1603641600-1603647000@kotikirkko.fi
SUMMARY:25.10. klo 16 Matinsalin musiikki-ilta
DESCRIPTION:25.10. klo 16 Matinsalin musiikki-ilta\, Furaha-band
URL:https://kotikirkko.fi/ohjelma/25-10-klo-16-matinsalin-musiikki-ilta/
END:VEVENT
BEGIN:VEVENT
DTSTART;TZID=Europe/Helsinki:20201027T180000
DTEND;TZID=Europe/Helsinki:20201027T193000
DTSTAMP:20260422T003640
CREATED:20200919T120523Z
LAST-MODIFIED:20200919T120523Z
UID:7191-1603821600-1603827000@kotikirkko.fi
SUMMARY:Ti 27.10. klo 18.00 Varkkikerho
DESCRIPTION:Ti 27.10. klo 18.00 Varkkikerho
URL:https://kotikirkko.fi/ohjelma/ti-27-10-klo-18-00-varkkikerho/
END:VEVENT
BEGIN:VEVENT
DTSTART;TZID=Europe/Helsinki:20201028T180000
DTEND;TZID=Europe/Helsinki:20201028T193000
DTSTAMP:20260422T003640
CREATED:20200930T052504Z
LAST-MODIFIED:20200930T052813Z
UID:7208-1603908000-1603913400@kotikirkko.fi
SUMMARY:Ke 28.10. klo 18.00 Lähetysrukousilta
DESCRIPTION:Ke 28.10. klo 18.00 Lähetysrukousilta\, Anna-Liisa Liljefors
URL:https://kotikirkko.fi/ohjelma/ke-7-10-klo-18-00-rukousilta/
END:VEVENT
BEGIN:VEVENT
DTSTART;TZID=Europe/Helsinki:20201029T180000
DTEND;TZID=Europe/Helsinki:20201029T193000
DTSTAMP:20260422T003640
CREATED:20200930T055248Z
LAST-MODIFIED:20200930T055248Z
UID:7247-1603994400-1603999800@kotikirkko.fi
SUMMARY:To 29.10. klo 18.00 Yhteisöillan nuorisokahvila
DESCRIPTION:To 29.10. klo 18.00 Yhteisöillan nuorisokahvila
URL:https://kotikirkko.fi/ohjelma/to-29-10-klo-18-00-yhteisoillan-nuorisokahvila/
END:VEVENT
BEGIN:VEVENT
DTSTART;TZID=Europe/Helsinki:20201030T190000
DTEND;TZID=Europe/Helsinki:20201030T230000
DTSTAMP:20260422T003640
CREATED:20200919T120620Z
LAST-MODIFIED:20200919T120620Z
UID:7194-1604084400-1604098800@kotikirkko.fi
SUMMARY:Pe 30.10. klo 19.00 Nuortenilta
DESCRIPTION:Pe 30.10. klo 19.00 Nuortenilta
URL:https://kotikirkko.fi/ohjelma/pe-30-10-klo-19-00-nuortenilta/
END:VEVENT
BEGIN:VEVENT
DTSTART;TZID=Europe/Helsinki:20201101T110000
DTEND;TZID=Europe/Helsinki:20201101T123000
DTSTAMP:20260422T003640
CREATED:20200930T055515Z
LAST-MODIFIED:20201029T084302Z
UID:7250-1604228400-1604233800@kotikirkko.fi
SUMMARY:Su 1.11. 11.00 Jumalanpalvelus ja ehtoollinen nuorten johdolla
DESCRIPTION:Su 1.11. 11.00 Jumalanpalvelus ja ehtoollinen nuorten johdolla\, Heidi Antinsalo\, Ari Juntunen\, BaseBand
URL:https://kotikirkko.fi/ohjelma/su-6-11-11-00-jumalanpalvelus-ja-ehtoollinen-nuorten-johdolla/
END:VEVENT
BEGIN:VEVENT
DTSTART;TZID=Europe/Helsinki:20201102T183000
DTEND;TZID=Europe/Helsinki:20201102T200000
DTSTAMP:20260422T003640
CREATED:20201029T090015Z
LAST-MODIFIED:20201029T090631Z
UID:7312-1604341800-1604347200@kotikirkko.fi
SUMMARY:Ma 2.11. 18.30	Riihimäki -rukoilee ilta Kotikirkolla
DESCRIPTION:Ma 2.11. 18.30    Riihimäki -rukoilee ilta Kotikirkolla\, Seppo Kaski\, Heidi Antinsalo
URL:https://kotikirkko.fi/ohjelma/ma-2-11-18-30riihimaki-rukoilee-ilta-kotikirkolla/
END:VEVENT
BEGIN:VEVENT
DTSTART;TZID=Europe/Helsinki:20201103T180000
DTEND;TZID=Europe/Helsinki:20201103T193000
DTSTAMP:20260422T003640
CREATED:20201031T101535Z
LAST-MODIFIED:20201031T101535Z
UID:7476-1604426400-1604431800@kotikirkko.fi
SUMMARY:Ti 3.11. klo 18.00 Varkkikerho
DESCRIPTION:Ti 3.11. klo 18.00 Varkkikerho
URL:https://kotikirkko.fi/ohjelma/ti-3-11-klo-18-00-varkkikerho/
END:VEVENT
BEGIN:VEVENT
DTSTART;TZID=Europe/Helsinki:20201104T180000
DTEND;TZID=Europe/Helsinki:20201104T193000
DTSTAMP:20260422T003640
CREATED:20201029T084839Z
LAST-MODIFIED:20201101T142951Z
UID:7304-1604512800-1604518200@kotikirkko.fi
SUMMARY:Ke 4.11. 18.00 Raamattu- ja rukousilta\, aiheena profetoiminen
DESCRIPTION:Ke 4.11. 18.00 Raamattu- ja rukousilta\, aiheena profetoiminen\, Seppo Kaski\, Risto Ropo
URL:https://kotikirkko.fi/ohjelma/ke-4-11-18-00-raamattu-ja-rukousilta-aiheena-profetoiminen/
LOCATION:Riihimäen Kotikirkko\, Koivistonkatu 5\, Koivistonkatu 5\, Riihimäki\, NJ
ORGANIZER;CN="Riihim%C3%A4en Kotikirkko":MAILTO:toimisto@kotikirkko.fi
END:VEVENT
BEGIN:VEVENT
DTSTART;TZID=Europe/Helsinki:20201105T180000
DTEND;TZID=Europe/Helsinki:20201105T193000
DTSTAMP:20260422T003640
CREATED:20201029T090826Z
LAST-MODIFIED:20201029T090826Z
UID:7316-1604599200-1604604600@kotikirkko.fi
SUMMARY:To 5.11. 18.00	Yhteisöillan nuorisokahvila alakerrassa
DESCRIPTION:To 5.11. 18.00    Yhteisöillan nuorisokahvila alakerrassa
URL:https://kotikirkko.fi/ohjelma/to-5-11-18-00yhteisoillan-nuorisokahvila-alakerrassa/
END:VEVENT
BEGIN:VEVENT
DTSTART;TZID=Europe/Helsinki:20201106T190000
DTEND;TZID=Europe/Helsinki:20201106T230000
DTSTAMP:20260422T003640
CREATED:20201031T101040Z
LAST-MODIFIED:20201031T101040Z
UID:7463-1604689200-1604703600@kotikirkko.fi
SUMMARY:Pe 6.11. klo 19.00 Nuortenilta
DESCRIPTION:Pe 6.11. klo 19.00 Nuortenilta
URL:https://kotikirkko.fi/ohjelma/pe-6-11-klo-19-00-nuortenilta/
END:VEVENT
BEGIN:VEVENT
DTSTART;TZID=Europe/Helsinki:20201108T110000
DTEND;TZID=Europe/Helsinki:20201108T123000
DTSTAMP:20260422T003640
CREATED:20201029T085738Z
LAST-MODIFIED:20201101T134411Z
UID:7309-1604833200-1604838600@kotikirkko.fi
SUMMARY:Su 8.11. 11.00 Lähetysjumalanpalvelus
DESCRIPTION:Su 8.11. 11.00    Lähetysjumalanpalvelus\, Saara Tikkakoski\, Raili Väisänen ja Mirjami Ylenius-Kuosmanen\, musiikki Virpi ja Hannele
URL:https://kotikirkko.fi/ohjelma/su-8-11-11-00-lahetysjumalanpalvelus/
END:VEVENT
BEGIN:VEVENT
DTSTART;TZID=Europe/Helsinki:20201110T180000
DTEND;TZID=Europe/Helsinki:20201110T193000
DTSTAMP:20260422T003640
CREATED:20201031T101631Z
LAST-MODIFIED:20201031T101631Z
UID:7479-1605031200-1605036600@kotikirkko.fi
SUMMARY:Ti 10.11. klo 18.00 Varkkikerho
DESCRIPTION:Ti 10.11. klo 18.00 Varkkikerho
URL:https://kotikirkko.fi/ohjelma/ti-10-11-klo-18-00-varkkikerho/
END:VEVENT
END:VCALENDAR