BEGIN:VCALENDAR
VERSION:2.0
PRODID:-//Riihimäen Kotikirkko - ECPv6.15.20//NONSGML v1.0//EN
CALSCALE:GREGORIAN
METHOD:PUBLISH
X-WR-CALNAME:Riihimäen Kotikirkko
X-ORIGINAL-URL:https://kotikirkko.fi
X-WR-CALDESC:Tapahtumat Riihimäen Kotikirkko
REFRESH-INTERVAL;VALUE=DURATION:PT1H
X-Robots-Tag:noindex
X-PUBLISHED-TTL:PT1H
BEGIN:VTIMEZONE
TZID:Europe/Helsinki
BEGIN:DAYLIGHT
TZOFFSETFROM:+0200
TZOFFSETTO:+0300
TZNAME:EEST
DTSTART:20220327T010000
END:DAYLIGHT
BEGIN:STANDARD
TZOFFSETFROM:+0300
TZOFFSETTO:+0200
TZNAME:EET
DTSTART:20221030T010000
END:STANDARD
BEGIN:DAYLIGHT
TZOFFSETFROM:+0200
TZOFFSETTO:+0300
TZNAME:EEST
DTSTART:20230326T010000
END:DAYLIGHT
BEGIN:STANDARD
TZOFFSETFROM:+0300
TZOFFSETTO:+0200
TZNAME:EET
DTSTART:20231029T010000
END:STANDARD
BEGIN:DAYLIGHT
TZOFFSETFROM:+0200
TZOFFSETTO:+0300
TZNAME:EEST
DTSTART:20240331T010000
END:DAYLIGHT
BEGIN:STANDARD
TZOFFSETFROM:+0300
TZOFFSETTO:+0200
TZNAME:EET
DTSTART:20241027T010000
END:STANDARD
END:VTIMEZONE
BEGIN:VEVENT
DTSTART;TZID=Europe/Helsinki:20230201T180000
DTEND;TZID=Europe/Helsinki:20230201T193000
DTSTAMP:20260419T190853
CREATED:20221227T103413Z
LAST-MODIFIED:20221227T103628Z
UID:11032-1675274400-1675279800@kotikirkko.fi
SUMMARY:Ke 1.2. klo 18 Rukousilta
DESCRIPTION:Ke 1.2. klo 18 Rukousilta\, Allani Rantasalo
URL:https://kotikirkko.fi/ohjelma/ke-1-2-klo-18-rukousilta-2/
END:VEVENT
BEGIN:VEVENT
DTSTART;TZID=Europe/Helsinki:20230203T190000
DTEND;TZID=Europe/Helsinki:20230203T230000
DTSTAMP:20260419T190853
CREATED:20230123T111956Z
LAST-MODIFIED:20230123T111956Z
UID:11162-1675450800-1675465200@kotikirkko.fi
SUMMARY:Pe 3.2. klo 19.00 Nuortenilta
DESCRIPTION:Pe 3.2. klo 19.00 Nuortenilta
URL:https://kotikirkko.fi/ohjelma/pe-3-2-klo-19-00-nuortenilta/
END:VEVENT
BEGIN:VEVENT
DTSTART;TZID=Europe/Helsinki:20230205T110000
DTEND;TZID=Europe/Helsinki:20230205T123000
DTSTAMP:20260419T190853
CREATED:20221221T082753Z
LAST-MODIFIED:20221227T104516Z
UID:11008-1675594800-1675600200@kotikirkko.fi
SUMMARY:Su 5.2. 11.00 Ehtoollisjuhla
DESCRIPTION:Su 5.2. 11.00 Ehtoollisjuhla\, Seppo Kaski\, Kotikirkon kuoro\, Nikolas ja Henry Hedman\, kahvitarjoilu
URL:https://kotikirkko.fi/ohjelma/su-4-2-11-00-ehtoollisjuhla/
END:VEVENT
BEGIN:VEVENT
DTSTART;TZID=Europe/Helsinki:20230206T180000
DTEND;TZID=Europe/Helsinki:20230206T193000
DTSTAMP:20260419T190853
CREATED:20230120T122422Z
LAST-MODIFIED:20230120T122422Z
UID:11109-1675706400-1675711800@kotikirkko.fi
SUMMARY:Ma 6.2. 18.00  Raamattukoulu
DESCRIPTION:Ma 6.2. 18.00  Raamattukoulu\, Henry Hedman
URL:https://kotikirkko.fi/ohjelma/ma-6-2-18-00-raamattukoulu/
END:VEVENT
BEGIN:VEVENT
DTSTART;TZID=Europe/Helsinki:20230207T180000
DTEND;TZID=Europe/Helsinki:20230207T193000
DTSTAMP:20260419T190853
CREATED:20230123T111216Z
LAST-MODIFIED:20230123T111216Z
UID:11135-1675792800-1675798200@kotikirkko.fi
SUMMARY:Ti 7.2. klo 18.00 Varkkikerho
DESCRIPTION:Ti 7.2. klo 18.00 varkkikerho
URL:https://kotikirkko.fi/ohjelma/ti-7-2-klo-18-00-varkkikerho/
END:VEVENT
BEGIN:VEVENT
DTSTART;TZID=Europe/Helsinki:20230208T180000
DTEND;TZID=Europe/Helsinki:20230208T193000
DTSTAMP:20260419T190853
CREATED:20221126T172019Z
LAST-MODIFIED:20221126T172446Z
UID:10929-1675879200-1675884600@kotikirkko.fi
SUMMARY:8.2. klo 18.00 Israel-ilta
DESCRIPTION:8.2. klo 18.00 Israel-ilta\, Ronit Maoz\, Maarit Kattilakoski \nJuutalainen  toimi vuosia biologian opettajana ja opetti hepreaa maahanmuuttajille Israelissa. Tämän jälkeen hän on toiminut Israelin virallisena oppaana turisteille ja opiskelijoille sekä yhtenä Raamattukodin pääluennotsijoista. Hän toimi useita vuosia Neot Kedumim raamatullisen puutarhan turistiosaston johtajana ja kehitti erikoisia opetusohjelmia korostaen Raamatun tekstiä sen kontekstissa ja visualisoiden syvää yhteyttä Raamattuun\, Jumalan kansan ja Israelin maan välillä. Ronitin intohimona on luonto ja hän on hyvin innostava ja eloisa puhuja. Hän avaa uusia näkökulmia Raamatun tekstiin Raamatun maan luonnon ja maanviljelystapojen kautta. 
URL:https://kotikirkko.fi/ohjelma/8-2-klo-18-00-israel-ilta/
END:VEVENT
BEGIN:VEVENT
DTSTART;TZID=Europe/Helsinki:20230210T190000
DTEND;TZID=Europe/Helsinki:20230210T230000
DTSTAMP:20260419T190853
CREATED:20230123T112045Z
LAST-MODIFIED:20230123T112045Z
UID:11165-1676055600-1676070000@kotikirkko.fi
SUMMARY:Pe 10.2. klo 19.00 Nuortenilta
DESCRIPTION:Pe 10.2. klo 19.00 Nuortenilta
URL:https://kotikirkko.fi/ohjelma/pe-3-2-klo-19-00-nuortenilta-2/
END:VEVENT
BEGIN:VEVENT
DTSTART;TZID=Europe/Helsinki:20230212T160000
DTEND;TZID=Europe/Helsinki:20230212T173000
DTSTAMP:20260419T190853
CREATED:20230120T121242Z
LAST-MODIFIED:20230120T121242Z
UID:11093-1676217600-1676223000@kotikirkko.fi
SUMMARY:Su 12.2. 16.00 Elämäntarinoita ja musiikkia Punaisella talolla
DESCRIPTION:Su 12.2. 16.00 Elämäntarinoita ja musiikkia Punaisella talolla\, Allani Rantasalo ja tiimi\,  Kotikirkon orkesteri ja solistit
URL:https://kotikirkko.fi/ohjelma/su-12-2-16-00-elamantarinoita-ja-musiikkia-punaisella-talolla/
LOCATION:Punainen talo
END:VEVENT
BEGIN:VEVENT
DTSTART;TZID=Europe/Helsinki:20230214T180000
DTEND;TZID=Europe/Helsinki:20230214T193000
DTSTAMP:20260419T190853
CREATED:20230123T111308Z
LAST-MODIFIED:20230123T111308Z
UID:11138-1676397600-1676403000@kotikirkko.fi
SUMMARY:Ti 14.2. klo 18.00 Varkkikerho
DESCRIPTION:Ti 14.2. klo 18.00 varkkikerho
URL:https://kotikirkko.fi/ohjelma/ti-7-2-klo-18-00-varkkikerho-2/
END:VEVENT
BEGIN:VEVENT
DTSTART;TZID=Europe/Helsinki:20230215T180000
DTEND;TZID=Europe/Helsinki:20230215T193000
DTSTAMP:20260419T190853
CREATED:20230120T121415Z
LAST-MODIFIED:20230120T121415Z
UID:11097-1676484000-1676489400@kotikirkko.fi
SUMMARY:Ke 15.2. 18.00 Rukousilta
DESCRIPTION:Ke 15.2. 18.00 Rukousilta\, Seppo Kaski
URL:https://kotikirkko.fi/ohjelma/ke-15-2-18-00-rukousilta/
END:VEVENT
BEGIN:VEVENT
DTSTART;TZID=Europe/Helsinki:20230217T190000
DTEND;TZID=Europe/Helsinki:20230217T230000
DTSTAMP:20260419T190853
CREATED:20230123T112134Z
LAST-MODIFIED:20230123T112134Z
UID:11168-1676660400-1676674800@kotikirkko.fi
SUMMARY:Pe 17.2. klo 19.00 Nuortenilta
DESCRIPTION:Pe 17.2. klo 19.00 Nuortenilta
URL:https://kotikirkko.fi/ohjelma/pe-3-2-klo-19-00-nuortenilta-2-2/
END:VEVENT
BEGIN:VEVENT
DTSTART;TZID=Europe/Helsinki:20230219T110000
DTEND;TZID=Europe/Helsinki:20230219T123000
DTSTAMP:20260419T190853
CREATED:20230120T121906Z
LAST-MODIFIED:20230216T171058Z
UID:11101-1676804400-1676809800@kotikirkko.fi
SUMMARY:Su 19.2. 11.00  Teemajumalanpalvelus
DESCRIPTION:Su 19.2. 11.00 Teemajumalanpalvelus\, Vesa Kunnas\, Kari Bergman ja tiimi\, Gideonien vierailu
URL:https://kotikirkko.fi/ohjelma/su-19-2-11-00-jumalanpalvelus-riihimaen-ukrainalaiset/
END:VEVENT
BEGIN:VEVENT
DTSTART;TZID=Europe/Helsinki:20230220T180000
DTEND;TZID=Europe/Helsinki:20230220T193000
DTSTAMP:20260419T190853
CREATED:20230120T122600Z
LAST-MODIFIED:20230120T122600Z
UID:11112-1676916000-1676921400@kotikirkko.fi
SUMMARY:Ma 20.2. 18.00 Raamattukoulu
DESCRIPTION:Ma 20.2. 18.00 Raamattukoulu\, Henry Hedman
URL:https://kotikirkko.fi/ohjelma/ma-20-2-18-00-raamattukoulu/
END:VEVENT
BEGIN:VEVENT
DTSTART;TZID=Europe/Helsinki:20230222T180000
DTEND;TZID=Europe/Helsinki:20230222T193000
DTSTAMP:20260419T190853
CREATED:20230120T122231Z
LAST-MODIFIED:20230120T122231Z
UID:11106-1677088800-1677094200@kotikirkko.fi
SUMMARY:Ke 22.2. 18.00 Rukousilta
DESCRIPTION:Ke 22.2. 18.00 Rukousilta\, Jukka Nummikoski
URL:https://kotikirkko.fi/ohjelma/ke-22-2-18-00-rukousilta/
END:VEVENT
BEGIN:VEVENT
DTSTART;TZID=Europe/Helsinki:20230226T110000
DTEND;TZID=Europe/Helsinki:20230226T123000
DTSTAMP:20260419T190853
CREATED:20230120T122112Z
LAST-MODIFIED:20230222T161455Z
UID:11103-1677409200-1677414600@kotikirkko.fi
SUMMARY:Su 26.2. 11.00 Musiikki- ja kastejuhla
DESCRIPTION:Su 26.2. 11.00 Musiikki- ja kastejuhla\, Valomerkki-yhtye\, Outi Lyytikäinen\, Seppo Kaski
URL:https://kotikirkko.fi/ohjelma/su-26-2-11-00-musiikki-ja-kastejuhla/
END:VEVENT
BEGIN:VEVENT
DTSTART;TZID=Europe/Helsinki:20230228T180000
DTEND;TZID=Europe/Helsinki:20230228T193000
DTSTAMP:20260419T190853
CREATED:20230123T111405Z
LAST-MODIFIED:20230123T111405Z
UID:11141-1677607200-1677612600@kotikirkko.fi
SUMMARY:Ti 28.2. klo 18.00 Varkkikerho
DESCRIPTION:Ti 28.2. klo 18.00 varkkikerho
URL:https://kotikirkko.fi/ohjelma/ti-7-2-klo-18-00-varkkikerho-2-2/
END:VEVENT
BEGIN:VEVENT
DTSTART;TZID=Europe/Helsinki:20230301T180000
DTEND;TZID=Europe/Helsinki:20230301T193000
DTSTAMP:20260419T190853
CREATED:20230226T072955Z
LAST-MODIFIED:20230226T072955Z
UID:11262-1677693600-1677699000@kotikirkko.fi
SUMMARY:Ke 1.3. 18.00 Rukousilta
DESCRIPTION:Ke 1.3. 18.00 Rukousilta\, Suvi Helinä
URL:https://kotikirkko.fi/ohjelma/ke-1-3-18-00-rukousilta-2/
END:VEVENT
BEGIN:VEVENT
DTSTART;TZID=Europe/Helsinki:20230303T190000
DTEND;TZID=Europe/Helsinki:20230303T230000
DTSTAMP:20260419T190853
CREATED:20230123T112223Z
LAST-MODIFIED:20230123T112223Z
UID:11171-1677870000-1677884400@kotikirkko.fi
SUMMARY:Pe 3.3. klo 19.00 Nuortenilta
DESCRIPTION:Pe 3.3. klo 19.00 Nuortenilta
URL:https://kotikirkko.fi/ohjelma/pe-3-2-klo-19-00-nuortenilta-2-2-2/
END:VEVENT
BEGIN:VEVENT
DTSTART;TZID=Europe/Helsinki:20230305T160000
DTEND;TZID=Europe/Helsinki:20230305T173000
DTSTAMP:20260419T190853
CREATED:20230121T111705Z
LAST-MODIFIED:20230121T111723Z
UID:11124-1678032000-1678037400@kotikirkko.fi
SUMMARY:Su 5.3. 16.00 Perhe- ja ehtoollisjuhla
DESCRIPTION:Su 5.3. 16.00 Perhe- ja ehtoollisjuhla\, Heidi Antinsalo\, Jippii-ryhmä\, #ResetBand\, kahvitarjoilu
URL:https://kotikirkko.fi/ohjelma/su-5-3-16-00-perhe-ja-ehtoollisjuhla-2/
END:VEVENT
BEGIN:VEVENT
DTSTART;TZID=Europe/Helsinki:20230306T183000
DTEND;TZID=Europe/Helsinki:20230306T200000
DTSTAMP:20260419T190853
CREATED:20230226T073247Z
LAST-MODIFIED:20230226T073247Z
UID:11266-1678127400-1678132800@kotikirkko.fi
SUMMARY:Ma 6.3. 18.30 Riihimäki rukoilee-ilta Kotikirkolla
DESCRIPTION:Ma 6.3. 18.30 Riihimäki rukoilee-ilta\, Erkki Karvanen ja tiimi
URL:https://kotikirkko.fi/ohjelma/ma-6-3-18-30-riihimaki-rukoilee-ilta-kotikirkolla/
END:VEVENT
BEGIN:VEVENT
DTSTART;TZID=Europe/Helsinki:20230307T180000
DTEND;TZID=Europe/Helsinki:20230307T193000
DTSTAMP:20260419T190853
CREATED:20230123T111442Z
LAST-MODIFIED:20230123T111442Z
UID:11144-1678212000-1678217400@kotikirkko.fi
SUMMARY:Ti 7.3. klo 18.00 Varkkikerho
DESCRIPTION:Ti 7.3. klo 18.00 varkkikerho
URL:https://kotikirkko.fi/ohjelma/ti-7-2-klo-18-00-varkkikerho-2-2-2/
END:VEVENT
BEGIN:VEVENT
DTSTART;TZID=Europe/Helsinki:20230308T180000
DTEND;TZID=Europe/Helsinki:20230308T193000
DTSTAMP:20260419T190853
CREATED:20230125T160316Z
LAST-MODIFIED:20230226T074038Z
UID:11207-1678298400-1678303800@kotikirkko.fi
SUMMARY:Ke 8.3. 18.00 Rukousilta
DESCRIPTION:Ke 8.3. 18.00 Rukousilta\, Allani Rantasalo
URL:https://kotikirkko.fi/ohjelma/ke-8-3-18-00-rukousilta/
END:VEVENT
BEGIN:VEVENT
DTSTART;TZID=Europe/Helsinki:20230310T190000
DTEND;TZID=Europe/Helsinki:20230310T230000
DTSTAMP:20260419T190853
CREATED:20230123T112253Z
LAST-MODIFIED:20230123T112253Z
UID:11174-1678474800-1678489200@kotikirkko.fi
SUMMARY:Pe 10.3. klo 19.00 Nuortenilta
DESCRIPTION:Pe 10.3. klo 19.00 Nuortenilta
URL:https://kotikirkko.fi/ohjelma/pe-3-2-klo-19-00-nuortenilta-2-2-2-2/
END:VEVENT
BEGIN:VEVENT
DTSTART;TZID=Europe/Helsinki:20230312T110000
DTEND;TZID=Europe/Helsinki:20230312T123000
DTSTAMP:20260419T190853
CREATED:20230226T073453Z
LAST-MODIFIED:20230226T073453Z
UID:11269-1678618800-1678624200@kotikirkko.fi
SUMMARY:Su 12.3. 11.00 Ukraina-teemajumalanpalvelus
DESCRIPTION:Su 12.3. 11.00	Ukraina-teemajumalanpalvelus\, Aleksandr Turoskii\, Petri Nurminen\, Riihimäen ukrainalaiset\, keittolounas soppatykistä\, pyhäkoulu
URL:https://kotikirkko.fi/ohjelma/su-12-3-11-00-ukraina-teemajumalanpalvelus/
END:VEVENT
BEGIN:VEVENT
DTSTART;TZID=Europe/Helsinki:20230313T180000
DTEND;TZID=Europe/Helsinki:20230313T193000
DTSTAMP:20260419T190853
CREATED:20230226T073624Z
LAST-MODIFIED:20230226T073727Z
UID:11272-1678730400-1678735800@kotikirkko.fi
SUMMARY:Ma 13.3. 18.00 Raamattukoulu
DESCRIPTION:Ma 13.3. 18.00 Raamattukoulu\, Henry Hedman
URL:https://kotikirkko.fi/ohjelma/ma-13-3-18-00-raamattukoulu/
END:VEVENT
BEGIN:VEVENT
DTSTART;TZID=Europe/Helsinki:20230314T180000
DTEND;TZID=Europe/Helsinki:20230314T193000
DTSTAMP:20260419T190853
CREATED:20230123T111514Z
LAST-MODIFIED:20230123T111514Z
UID:11147-1678816800-1678822200@kotikirkko.fi
SUMMARY:Ti 14.3. klo 18.00 Varkkikerho
DESCRIPTION:Ti 14.3. klo 18.00 varkkikerho
URL:https://kotikirkko.fi/ohjelma/ti-7-2-klo-18-00-varkkikerho-2-2-2-2/
END:VEVENT
BEGIN:VEVENT
DTSTART;TZID=Europe/Helsinki:20230315T180000
DTEND;TZID=Europe/Helsinki:20230315T193000
DTSTAMP:20260419T190853
CREATED:20230125T160430Z
LAST-MODIFIED:20230226T074156Z
UID:11211-1678903200-1678908600@kotikirkko.fi
SUMMARY:Ke 15.3. 18.00 Rukousilta
DESCRIPTION:Ke 15.3. 18.00 Rukousilta\, Pirjo ja Jukka Perttu
URL:https://kotikirkko.fi/ohjelma/ke-15-3-18-00-rukousilta/
END:VEVENT
BEGIN:VEVENT
DTSTART;TZID=Europe/Helsinki:20230318T180000
DTEND;TZID=Europe/Helsinki:20230318T220000
DTSTAMP:20260419T190853
CREATED:20230207T192514Z
LAST-MODIFIED:20230207T192514Z
UID:11226-1679162400-1679176800@kotikirkko.fi
SUMMARY:La 18.3. klo 18.00 Nuorten tapahtuma
DESCRIPTION:La 18.3. klo 18.00 Nuorten tapahtuma Stay Alive Kotikirkolla. \nLisätietoja Heidiltä 050 4709970
URL:https://kotikirkko.fi/ohjelma/la-18-3-klo-18-00-nuorten-tapahtuma/
END:VEVENT
BEGIN:VEVENT
DTSTART;TZID=Europe/Helsinki:20230319T160000
DTEND;TZID=Europe/Helsinki:20230319T173000
DTSTAMP:20260419T190853
CREATED:20230226T073849Z
LAST-MODIFIED:20230226T073849Z
UID:11275-1679241600-1679247000@kotikirkko.fi
SUMMARY:Su 19.3. 16.00 Yhteisöilta
DESCRIPTION:Su 19.3. 16.00 Yhteisöilta\, Henkka Nyman\, Robert Berg\, Allani Rantasalo ja tiimi\, kahvitarjoilu\, pyhäkoulu
URL:https://kotikirkko.fi/ohjelma/su-19-3-16-00-yhteisoilta/
END:VEVENT
BEGIN:VEVENT
DTSTART;TZID=Europe/Helsinki:20230321T180000
DTEND;TZID=Europe/Helsinki:20230321T193000
DTSTAMP:20260419T190853
CREATED:20230123T111542Z
LAST-MODIFIED:20230123T111542Z
UID:11150-1679421600-1679427000@kotikirkko.fi
SUMMARY:Ti 21.3. klo 18.00 Varkkikerho
DESCRIPTION:Ti 21.3. klo 18.00 varkkikerho
URL:https://kotikirkko.fi/ohjelma/ti-7-2-klo-18-00-varkkikerho-2-2-2-2-2/
END:VEVENT
END:VCALENDAR