BEGIN:VCALENDAR
VERSION:2.0
PRODID:-//Riihimäen Kotikirkko - ECPv6.15.20//NONSGML v1.0//EN
CALSCALE:GREGORIAN
METHOD:PUBLISH
X-WR-CALNAME:Riihimäen Kotikirkko
X-ORIGINAL-URL:https://kotikirkko.fi
X-WR-CALDESC:Tapahtumat Riihimäen Kotikirkko
REFRESH-INTERVAL;VALUE=DURATION:PT1H
X-Robots-Tag:noindex
X-PUBLISHED-TTL:PT1H
BEGIN:VTIMEZONE
TZID:Europe/Helsinki
BEGIN:DAYLIGHT
TZOFFSETFROM:+0200
TZOFFSETTO:+0300
TZNAME:EEST
DTSTART:20210328T010000
END:DAYLIGHT
BEGIN:STANDARD
TZOFFSETFROM:+0300
TZOFFSETTO:+0200
TZNAME:EET
DTSTART:20211031T010000
END:STANDARD
BEGIN:DAYLIGHT
TZOFFSETFROM:+0200
TZOFFSETTO:+0300
TZNAME:EEST
DTSTART:20220327T010000
END:DAYLIGHT
BEGIN:STANDARD
TZOFFSETFROM:+0300
TZOFFSETTO:+0200
TZNAME:EET
DTSTART:20221030T010000
END:STANDARD
BEGIN:DAYLIGHT
TZOFFSETFROM:+0200
TZOFFSETTO:+0300
TZNAME:EEST
DTSTART:20230326T010000
END:DAYLIGHT
BEGIN:STANDARD
TZOFFSETFROM:+0300
TZOFFSETTO:+0200
TZNAME:EET
DTSTART:20231029T010000
END:STANDARD
END:VTIMEZONE
BEGIN:VEVENT
DTSTART;TZID=Europe/Helsinki:20220901T180000
DTEND;TZID=Europe/Helsinki:20220901T200000
DTSTAMP:20260420T051957
CREATED:20220816T092201Z
LAST-MODIFIED:20220816T092201Z
UID:10321-1662055200-1662062400@kotikirkko.fi
SUMMARY:To 1.9. 18.00 Opetuslapseuskoulun uusi kausi alkaa
DESCRIPTION:To 1.9. 18.00 Opetuslapseuskoulun uusi kausi alkaa. Uudet osallistujat tervetuloa mukaan!
URL:https://kotikirkko.fi/ohjelma/to-1-9-18-00-opetuslapseuskoulun-uusi-kausi-alkaa/
END:VEVENT
BEGIN:VEVENT
DTSTART;TZID=Europe/Helsinki:20220903T090000
DTEND;TZID=Europe/Helsinki:20220903T150000
DTSTAMP:20260420T051957
CREATED:20220731T073108Z
LAST-MODIFIED:20220731T073124Z
UID:10269-1662195600-1662217200@kotikirkko.fi
SUMMARY:La 3.9. 9.00 Miten kerron uskostani\, Missio2022-koulutus
DESCRIPTION:La 3.9. 9.00 Miten kerron uskostani – Kaikille avoin koulutus
URL:https://kotikirkko.fi/ohjelma/la-3-9-9-00-miten-kerron-uskostani-missio2022-koulutus/
END:VEVENT
BEGIN:VEVENT
DTSTART;TZID=Europe/Helsinki:20220904T160000
DTEND;TZID=Europe/Helsinki:20220904T173000
DTSTAMP:20260420T051957
CREATED:20220816T092531Z
LAST-MODIFIED:20220816T092608Z
UID:10327-1662307200-1662312600@kotikirkko.fi
SUMMARY:Su 4.9. 16.00 Perhejumalanpalvelus ja ehtoollinen
DESCRIPTION:Su 4.9. 16.00 Perhejumalanpalvelus ja ehtoollinen\, Jukka Perttu\, Heidi Antisalo\, Nikolas Hedman ja Jippii-ryhmä\, kahvitarjoilu
URL:https://kotikirkko.fi/ohjelma/su-4-9-16-00-perhejumalanpalvelus-ja-ehtoollinen/
END:VEVENT
BEGIN:VEVENT
DTSTART;TZID=Europe/Helsinki:20220905T183000
DTEND;TZID=Europe/Helsinki:20220905T200000
DTSTAMP:20260420T051957
CREATED:20220816T121112Z
LAST-MODIFIED:20220903T070136Z
UID:10361-1662402600-1662408000@kotikirkko.fi
SUMMARY:Ma 5.9. 18.30 Riihimäki rukoilee-ilta Kotikirkolla
DESCRIPTION:Ma 5.9. 18.30 Riihimäki rukoilee-ilta Kotikirkolla\, Rukouskävelijät\, musiikki Suvi Helinä ja Hanna\, Missio-info Erkki Karvanen
URL:https://kotikirkko.fi/ohjelma/ma-5-9-18-30-riihimaki-rukoilee-ilta-kotikirkolla/
END:VEVENT
BEGIN:VEVENT
DTSTART;TZID=Europe/Helsinki:20220906T180000
DTEND;TZID=Europe/Helsinki:20220906T193000
DTSTAMP:20260420T051957
CREATED:20220822T080321Z
LAST-MODIFIED:20220822T080321Z
UID:10448-1662487200-1662492600@kotikirkko.fi
SUMMARY:Ti 6.9. klo 18.00 Varkkikerho
DESCRIPTION:Ti 6.9. klo 18 Varkki/ Jippii-kerho Kotikirkolla
URL:https://kotikirkko.fi/ohjelma/ti-6-9-klo-18-00-varkkikerho/
END:VEVENT
BEGIN:VEVENT
DTSTART;TZID=Europe/Helsinki:20220907T180000
DTEND;TZID=Europe/Helsinki:20220907T193000
DTSTAMP:20260420T051957
CREATED:20220816T113549Z
LAST-MODIFIED:20220816T113549Z
UID:10333-1662573600-1662579000@kotikirkko.fi
SUMMARY:Ke 7.9. 18.00 Rukousilta
DESCRIPTION:Ke 7.9. 18.00 Rukousilta\, Allani Rantasalo
URL:https://kotikirkko.fi/ohjelma/ke-7-9-18-00-rukousilta/
END:VEVENT
BEGIN:VEVENT
DTSTART;TZID=Europe/Helsinki:20220909T180000
DTEND;TZID=Europe/Helsinki:20220909T230000
DTSTAMP:20260420T051957
CREATED:20220822T075314Z
LAST-MODIFIED:20220909T090404Z
UID:10433-1662746400-1662764400@kotikirkko.fi
SUMMARY:Pe 9.9. klo 20 Taiteiden yö\, avoimet ovet
DESCRIPTION:Pe 9.9. klo 19-23 Avoimet ovet Kotikirkon alakerrassa\, taidenäyttelyn avajaiset\, tarjoilua\, pelejä.
URL:https://kotikirkko.fi/ohjelma/pe-9-9-klo-20-taiteiden-yo-avoimet-ovet/
END:VEVENT
BEGIN:VEVENT
DTSTART;TZID=Europe/Helsinki:20220911T110000
DTEND;TZID=Europe/Helsinki:20220911T123000
DTSTAMP:20260420T051957
CREATED:20220816T114008Z
LAST-MODIFIED:20220903T082033Z
UID:10336-1662894000-1662899400@kotikirkko.fi
SUMMARY:Su 11.9. 11.00 Jumalanpalvelus
DESCRIPTION:Su 11.9. 11.00 Jumalanpalvelus\, Sanna Hedman\, Anna-Liisa Liljefors\, Kotikirkon kuoro
URL:https://kotikirkko.fi/ohjelma/su-11-9-11-00-jumalanpalvelus/
END:VEVENT
BEGIN:VEVENT
DTSTART;TZID=Europe/Helsinki:20220913T180000
DTEND;TZID=Europe/Helsinki:20220913T193000
DTSTAMP:20260420T051957
CREATED:20220822T080411Z
LAST-MODIFIED:20220822T080411Z
UID:10451-1663092000-1663097400@kotikirkko.fi
SUMMARY:Ti 13.9. klo 18.00 Varkkikerho
DESCRIPTION:Ti 13.9. klo 18 Varkkikerho Kotikirkolla
URL:https://kotikirkko.fi/ohjelma/ti-6-9-klo-18-00-varkkikerho-2/
END:VEVENT
BEGIN:VEVENT
DTSTART;TZID=Europe/Helsinki:20220914T180000
DTEND;TZID=Europe/Helsinki:20220914T193000
DTSTAMP:20260420T051957
CREATED:20220816T114557Z
LAST-MODIFIED:20220816T114741Z
UID:10340-1663178400-1663183800@kotikirkko.fi
SUMMARY:Ke 14.9. 18.00 Rukousilta
DESCRIPTION:Ke 14.9. 18.00 Rukousilta\, Asta Prencipe\, lopussa info paastosta ja rukouksesta
URL:https://kotikirkko.fi/ohjelma/ke-14-9-18-00-rukousilta/
END:VEVENT
BEGIN:VEVENT
DTSTART;TZID=Europe/Helsinki:20220916T190000
DTEND;TZID=Europe/Helsinki:20220916T230000
DTSTAMP:20260420T051957
CREATED:20220822T075501Z
LAST-MODIFIED:20220822T075501Z
UID:10436-1663354800-1663369200@kotikirkko.fi
SUMMARY:Pe 16.9. klo 19 Nuortenilta
DESCRIPTION:Pe 16.9. klo 19 Nuortenilta Kotikirkolla
URL:https://kotikirkko.fi/ohjelma/pe-16-9-klo-19-nuortenilta/
END:VEVENT
BEGIN:VEVENT
DTSTART;TZID=Europe/Helsinki:20220918T110000
DTEND;TZID=Europe/Helsinki:20220918T123000
DTSTAMP:20260420T051957
CREATED:20220816T114928Z
LAST-MODIFIED:20220816T115528Z
UID:10343-1663498800-1663504200@kotikirkko.fi
SUMMARY:Su 18.9. 11.00 Jumalanpalvelus\, teemana Venäjän vähemmistökansat
DESCRIPTION:Su 18.9. 11.00 Jumalanpalvelus\, teemana Venäjän vähemmistökansat\, Petri Nurminen\, Pirjo ja Jukka Perttu\, musiikki Veijo Heikkinen
URL:https://kotikirkko.fi/ohjelma/su-18-9-11-00-jumalanpalvelus-teemana-venajan-vahemmistokansat/
END:VEVENT
BEGIN:VEVENT
DTSTART;TZID=Europe/Helsinki:20220921T180000
DTEND;TZID=Europe/Helsinki:20220921T193000
DTSTAMP:20260420T051957
CREATED:20220816T115659Z
LAST-MODIFIED:20220906T025353Z
UID:10346-1663783200-1663788600@kotikirkko.fi
SUMMARY:Ke 21.9. 18.00 Löysin vapauden - Missio- ja rukousilta
DESCRIPTION:Ke 21.9. 18.00 Löysin vapauden – Missio- ja rukousilta\, Ulf Krokfors
URL:https://kotikirkko.fi/ohjelma/ke-21-9-18-00-rukousilta/
END:VEVENT
BEGIN:VEVENT
DTSTART;TZID=Europe/Helsinki:20220923T190000
DTEND;TZID=Europe/Helsinki:20220923T230000
DTSTAMP:20260420T051957
CREATED:20220822T075700Z
LAST-MODIFIED:20220822T075700Z
UID:10439-1663959600-1663974000@kotikirkko.fi
SUMMARY:Pe 23.9. klo 19 Nuortenilta
DESCRIPTION:Pe 23.9. klo 19 Nuortenilta Kotikirkolla
URL:https://kotikirkko.fi/ohjelma/pe-23-9-klo-19-nuortenilta/
END:VEVENT
BEGIN:VEVENT
DTSTART;TZID=Europe/Helsinki:20220925T160000
DTEND;TZID=Europe/Helsinki:20220925T173000
DTSTAMP:20260420T051957
CREATED:20220816T120127Z
LAST-MODIFIED:20220816T120133Z
UID:10349-1664121600-1664127000@kotikirkko.fi
SUMMARY:Su 25.9. 16.00 Se löytyi – Löysin rauhan\, elämäntarinoita ja musiikkia\, Punaisella talolla
DESCRIPTION:Su 25.9. 16.00 Se löytyi – Löysin rauhan\, elämäntarinoita ja musiikkia\, Punaisella talolla
URL:https://kotikirkko.fi/ohjelma/su-25-9-16-00-se-loytyi-loysin-rauhan-elamantarinoita-ja-musiikkia-punaisella-talolla/
END:VEVENT
BEGIN:VEVENT
DTSTART;TZID=Europe/Helsinki:20220927T180000
DTEND;TZID=Europe/Helsinki:20220927T193000
DTSTAMP:20260420T051957
CREATED:20220822T080531Z
LAST-MODIFIED:20220822T080531Z
UID:10454-1664301600-1664307000@kotikirkko.fi
SUMMARY:Ti 27.9. klo 18.00 Varkkikerho
DESCRIPTION:Ti 27.9. klo 18 Varkkikerho Kotikirkolla
URL:https://kotikirkko.fi/ohjelma/ti-6-9-klo-18-00-varkkikerho-2-2/
END:VEVENT
BEGIN:VEVENT
DTSTART;TZID=Europe/Helsinki:20220928T180000
DTEND;TZID=Europe/Helsinki:20220928T193000
DTSTAMP:20260420T051957
CREATED:20220816T120254Z
LAST-MODIFIED:20220906T045655Z
UID:10352-1664388000-1664393400@kotikirkko.fi
SUMMARY:Ke 28.9. 18.00   Löysin rauhan - Missio- ja rukousilta
DESCRIPTION:Ke 28.9. 18.00 Löysin rauhan – Missio- ja rukousilta\, Pirjo ja Jukka Perttu \n \n \n 
URL:https://kotikirkko.fi/ohjelma/ke-28-8-18-00-rukousilta/
END:VEVENT
BEGIN:VEVENT
DTSTART;TZID=Europe/Helsinki:20220930T190000
DTEND;TZID=Europe/Helsinki:20220930T230000
DTSTAMP:20260420T051957
CREATED:20220822T075816Z
LAST-MODIFIED:20220923T070610Z
UID:10442-1664564400-1664578800@kotikirkko.fi
SUMMARY:Pe 30.9. klo 18 Nuorten retki
DESCRIPTION:Pe 30.9. klo 18 Nuorten retki Lammille yhteiskyydeillä\, ilmoittaudu mukaan Heidille.
URL:https://kotikirkko.fi/ohjelma/pe-23-9-klo-19-nuortenilta-2/
END:VEVENT
BEGIN:VEVENT
DTSTART;TZID=Europe/Helsinki:20221002T110000
DTEND;TZID=Europe/Helsinki:20221002T123000
DTSTAMP:20260420T051957
CREATED:20220816T121858Z
LAST-MODIFIED:20220903T112209Z
UID:10367-1664708400-1664713800@kotikirkko.fi
SUMMARY:Su 2.10. 11.00 Ehtoollinen ja kastejuhla
DESCRIPTION:Su 2.10. 11.00 Ehtoollinen ja kastejuhla\, Timo Mantila\, Seppo Kaski\, Kotikirkon kuoro\, kahvitarjoilu
URL:https://kotikirkko.fi/ohjelma/su-2-10-11-00-ehtoollisjuhla/
END:VEVENT
BEGIN:VEVENT
DTSTART;TZID=Europe/Helsinki:20221004T180000
DTEND;TZID=Europe/Helsinki:20221004T193000
DTSTAMP:20260420T051957
CREATED:20220822T080622Z
LAST-MODIFIED:20220923T070838Z
UID:10457-1664906400-1664911800@kotikirkko.fi
SUMMARY:Ti 4.10. klo 18.00 Jippii-varkkikerho
DESCRIPTION:Ti 4.10. klo 18 Jippii-varkkikerho Kotikirkolla
URL:https://kotikirkko.fi/ohjelma/ti-6-9-klo-18-00-varkkikerho-2-2-2/
END:VEVENT
BEGIN:VEVENT
DTSTART;TZID=Europe/Helsinki:20221005T180000
DTEND;TZID=Europe/Helsinki:20221005T193000
DTSTAMP:20260420T051957
CREATED:20220817T060242Z
LAST-MODIFIED:20221004T043004Z
UID:10390-1664992800-1664998200@kotikirkko.fi
SUMMARY:Ke 5.10. 18.00 Löysin vapauden – Missio- ja rukousilta
DESCRIPTION:Ke 5.10. 18.00 Löysin vapauden – Missio- ja rukousilta\, Heidi Liimatainen
URL:https://kotikirkko.fi/ohjelma/ke-5-10-18-00-rukousilta/
END:VEVENT
BEGIN:VEVENT
DTSTART;TZID=Europe/Helsinki:20221009T160000
DTEND;TZID=Europe/Helsinki:20221009T173000
DTSTAMP:20260420T051957
CREATED:20220816T120910Z
LAST-MODIFIED:20221007T140101Z
UID:10358-1665331200-1665336600@kotikirkko.fi
SUMMARY:Su 9.10. 16.00 Perhejumalanpalvelus
DESCRIPTION:Su 9.10. 16.00 Perhejumalanpalvelus\, Minna Mantila\, Heidi Antisalo\, Jippii-ryhmä\, Nikolas Hedman  & Co\, kahvitarjoilu
URL:https://kotikirkko.fi/ohjelma/su-9-10-16-00-perhejumalanpalvelus/
END:VEVENT
BEGIN:VEVENT
DTSTART;TZID=Europe/Helsinki:20221011T180000
DTEND;TZID=Europe/Helsinki:20221011T193000
DTSTAMP:20260420T051957
CREATED:20220912T071538Z
LAST-MODIFIED:20220912T071538Z
UID:10629-1665511200-1665516600@kotikirkko.fi
SUMMARY:Ti 11.10. klo 18 Varkkikerho
DESCRIPTION:Ti 11.10. klo 18 Varkkikerho Kotikirkolla
URL:https://kotikirkko.fi/ohjelma/ti-11-10-klo-18-varkkikerho/
END:VEVENT
BEGIN:VEVENT
DTSTART;TZID=Europe/Helsinki:20221012T180000
DTEND;TZID=Europe/Helsinki:20221012T193000
DTSTAMP:20260420T051957
CREATED:20220817T060347Z
LAST-MODIFIED:20221008T134121Z
UID:10393-1665597600-1665603000@kotikirkko.fi
SUMMARY:Ke 12.10. 18.00 Löysin anteeksiantamuksen – Missio- ja rukousilta
DESCRIPTION:Ke 12.10. 18.00 Löysin anteeksiantamuksen – Missio- ja rukousilta\, Tiina Halme\, musiikki Suvi Helinä ja Hanna
URL:https://kotikirkko.fi/ohjelma/ke-12-10-18-00-rukousilta/
END:VEVENT
BEGIN:VEVENT
DTSTART;TZID=Europe/Helsinki:20221014T190000
DTEND;TZID=Europe/Helsinki:20221014T230000
DTSTAMP:20260420T051957
CREATED:20220912T065532Z
LAST-MODIFIED:20220912T065532Z
UID:10606-1665774000-1665788400@kotikirkko.fi
SUMMARY:Pe 14.10. klo 19.00 Nuortenilta
DESCRIPTION:Pe 14.10. klo 19.00 Nuortenilta Kotikirkolla
URL:https://kotikirkko.fi/ohjelma/pe-14-10-klo-19-00-nuortenilta/
END:VEVENT
BEGIN:VEVENT
DTSTART;TZID=Europe/Helsinki:20221015T180000
DTEND;TZID=Europe/Helsinki:20221015T210000
DTSTAMP:20260420T051957
CREATED:20220920T062027Z
LAST-MODIFIED:20220920T062027Z
UID:10671-1665856800-1665867600@kotikirkko.fi
SUMMARY:La 15.10. klo 18.00 #Reset-kahvilailta
DESCRIPTION:La 15.10. klo 18.00 #Reset-kahvilailta Kotikirkon alakerrassa\, kahvia\, teetä ja kohtaamista.
URL:https://kotikirkko.fi/ohjelma/la-15-10-klo-18-00-reset-kahvilailta/
END:VEVENT
BEGIN:VEVENT
DTSTART;TZID=Europe/Helsinki:20221016T160000
DTEND;TZID=Europe/Helsinki:20221016T173000
DTSTAMP:20260420T051957
CREATED:20220816T123918Z
LAST-MODIFIED:20220906T062111Z
UID:10379-1665936000-1665941400@kotikirkko.fi
SUMMARY:Su 16.10. 16.00 Matinsalin musiikki-ilta
DESCRIPTION:  \nSu 16.10. 16.00 Matinsalin musiikki-ilta\, Summa-Band \n \n \n  \n  \n 
URL:https://kotikirkko.fi/ohjelma/su-16-10-11-00-musiikkijumalanpalvelus/
END:VEVENT
BEGIN:VEVENT
DTSTART;TZID=Europe/Helsinki:20221019T180000
DTEND;TZID=Europe/Helsinki:20221019T193000
DTSTAMP:20260420T051957
CREATED:20220823T063142Z
LAST-MODIFIED:20220915T092315Z
UID:10466-1666202400-1666207800@kotikirkko.fi
SUMMARY:Ke 19.10. 18.00 Löysin ilon - Missio- ja rukousilta
DESCRIPTION:Ke 19.10. 18.00 Löysin ilon – Missio- ja rukousilta\, Susan Joutjärvi ja Heidi Korpiaho\n 
URL:https://kotikirkko.fi/ohjelma/ke-19-10-18-00-rukousilta/
END:VEVENT
BEGIN:VEVENT
DTSTART;TZID=Europe/Helsinki:20221023T110000
DTEND;TZID=Europe/Helsinki:20221023T123000
DTSTAMP:20260420T051957
CREATED:20220816T123348Z
LAST-MODIFIED:20220817T055855Z
UID:10373-1666522800-1666528200@kotikirkko.fi
SUMMARY:Su 23.10. 11.00 Jumalanpalvelus\, Eväät elämään
DESCRIPTION:Su 23.10. 11.00 Jumalanpalvelus\, Eväät elämään\, Ilkka ja Leena Salminen\, Anna-Liisa Liljefors\, musiikki Virpi Lyytikäinen
URL:https://kotikirkko.fi/ohjelma/su-23-10-11-00-jumalanpalvelus-evaat-elamaan/
END:VEVENT
BEGIN:VEVENT
DTSTART;TZID=Europe/Helsinki:20221025T180000
DTEND;TZID=Europe/Helsinki:20221025T193000
DTSTAMP:20260420T051957
CREATED:20220912T071626Z
LAST-MODIFIED:20220912T071626Z
UID:10631-1666720800-1666726200@kotikirkko.fi
SUMMARY:Ti 25.10. klo 18 Varkkikerho
DESCRIPTION:Ti 25.10. klo 18 Varkkikerho Kotikirkolla
URL:https://kotikirkko.fi/ohjelma/ti-11-10-klo-18-varkkikerho-2/
END:VEVENT
END:VCALENDAR