BEGIN:VCALENDAR
VERSION:2.0
PRODID:-//Riihimäen Kotikirkko - ECPv6.15.20//NONSGML v1.0//EN
CALSCALE:GREGORIAN
METHOD:PUBLISH
X-WR-CALNAME:Riihimäen Kotikirkko
X-ORIGINAL-URL:https://kotikirkko.fi
X-WR-CALDESC:Tapahtumat Riihimäen Kotikirkko
REFRESH-INTERVAL;VALUE=DURATION:PT1H
X-Robots-Tag:noindex
X-PUBLISHED-TTL:PT1H
BEGIN:VTIMEZONE
TZID:Europe/Helsinki
BEGIN:DAYLIGHT
TZOFFSETFROM:+0200
TZOFFSETTO:+0300
TZNAME:EEST
DTSTART:20200329T010000
END:DAYLIGHT
BEGIN:STANDARD
TZOFFSETFROM:+0300
TZOFFSETTO:+0200
TZNAME:EET
DTSTART:20201025T010000
END:STANDARD
BEGIN:DAYLIGHT
TZOFFSETFROM:+0200
TZOFFSETTO:+0300
TZNAME:EEST
DTSTART:20210328T010000
END:DAYLIGHT
BEGIN:STANDARD
TZOFFSETFROM:+0300
TZOFFSETTO:+0200
TZNAME:EET
DTSTART:20211031T010000
END:STANDARD
BEGIN:DAYLIGHT
TZOFFSETFROM:+0200
TZOFFSETTO:+0300
TZNAME:EEST
DTSTART:20220327T010000
END:DAYLIGHT
BEGIN:STANDARD
TZOFFSETFROM:+0300
TZOFFSETTO:+0200
TZNAME:EET
DTSTART:20221030T010000
END:STANDARD
END:VTIMEZONE
BEGIN:VEVENT
DTSTART;TZID=Europe/Helsinki:20210901T180000
DTEND;TZID=Europe/Helsinki:20210901T193000
DTSTAMP:20260421T041212
CREATED:20210805T081502Z
LAST-MODIFIED:20210830T063606Z
UID:8497-1630519200-1630524600@kotikirkko.fi
SUMMARY:Ke 1.9. klo 18 Raamattu- ja rukousilta
DESCRIPTION:Ke 1.9. klo 18 Raamattu- ja rukousilta\, Erkki Karvanen
URL:https://kotikirkko.fi/ohjelma/ke-1-9-klo-18-rukousilta/
END:VEVENT
BEGIN:VEVENT
DTSTART;TZID=Europe/Helsinki:20210902T180000
DTEND;TZID=Europe/Helsinki:20210902T200000
DTSTAMP:20260421T041212
CREATED:20210830T064910Z
LAST-MODIFIED:20210902T061338Z
UID:8562-1630605600-1630612800@kotikirkko.fi
SUMMARY:To 2.9. klo 18 Opetuslapseuskoulu yhteistyössä OneWay -mission kanssa
DESCRIPTION:To 2.9. klo 18 Opetuslapseuskoulu yhteistyössä OneWay -mission kanssa. Koulu jatkuu koko syksyn ajan torstaisin.
URL:https://kotikirkko.fi/ohjelma/to-2-9-klo-18-opetuslapseuskoulu-yhteistyossa-oneway-mission-kanssa/
LOCATION:Kotikirkko Koivistonkatu 5
END:VEVENT
BEGIN:VEVENT
DTSTART;TZID=Europe/Helsinki:20210903T190000
DTEND;TZID=Europe/Helsinki:20210903T230000
DTSTAMP:20260421T041212
CREATED:20210809T080623Z
LAST-MODIFIED:20210809T080623Z
UID:8505-1630695600-1630710000@kotikirkko.fi
SUMMARY:Pe 3.9. klo 19.00 Nuortenilta
DESCRIPTION:Pe 3.9. klo 19.00 Nuortenilta. \nLisätiedot Heidi 050 4709970
URL:https://kotikirkko.fi/ohjelma/pe-3-9-klo-19-00-nuortenilta/
END:VEVENT
BEGIN:VEVENT
DTSTART;TZID=Europe/Helsinki:20210905T110000
DTEND;TZID=Europe/Helsinki:20210905T123000
DTSTAMP:20260421T041212
CREATED:20210805T080827Z
LAST-MODIFIED:20210903T033735Z
UID:8487-1630839600-1630845000@kotikirkko.fi
SUMMARY:Su 5.9. 11.00 Jumalanpalvelus ja ehtoollinen nuorten johdolla
DESCRIPTION:Su 5.9. 11.00 Jumalanpalvelus ja ehtoollinen nuorten johdolla\, Heidi Antinsalo\, BaseBand\, terveisiä nuorten leiriltä
URL:https://kotikirkko.fi/ohjelma/8487/
END:VEVENT
BEGIN:VEVENT
DTSTART;TZID=Europe/Helsinki:20210906T183000
DTEND;TZID=Europe/Helsinki:20210906T193000
DTSTAMP:20260421T041212
CREATED:20210830T071944Z
LAST-MODIFIED:20210903T033632Z
UID:8582-1630953000-1630956600@kotikirkko.fi
SUMMARY:Ma 6.9. 18.30	Riihimäki rukoilee -ilta Kotikirkolla
DESCRIPTION:Ma 6.9. 18.30 Riihimäki rukoilee -ilta Kotikirkolla\, Seppo Kaski\, Heidi Antinsalo\, musiikki Samuel Heikkinen ja Tapio Mäenpää
URL:https://kotikirkko.fi/ohjelma/ma-6-9-18-30riihimaki-rukoilee-ilta-kotikirkolla-seppo-kaski-heidi-antinsalo/
END:VEVENT
BEGIN:VEVENT
DTSTART;TZID=Europe/Helsinki:20210907T180000
DTEND;TZID=Europe/Helsinki:20210907T193000
DTSTAMP:20260421T041212
CREATED:20210823T084456Z
LAST-MODIFIED:20210823T084456Z
UID:8540-1631037600-1631043000@kotikirkko.fi
SUMMARY:Ti 7.9. klo 18.00 Varkkikerho
DESCRIPTION:Ti 7.9. klo 18.00 varkkikerho Kotikirkon alakerrassa
URL:https://kotikirkko.fi/ohjelma/ti-7-9-klo-18-00-varkkikerho/
END:VEVENT
BEGIN:VEVENT
DTSTART;TZID=Europe/Helsinki:20210908T180000
DTEND;TZID=Europe/Helsinki:20210908T193000
DTSTAMP:20260421T041212
CREATED:20210830T063841Z
LAST-MODIFIED:20210830T063841Z
UID:8550-1631124000-1631129400@kotikirkko.fi
SUMMARY:Ke 8.9. klo 18 Pienryhmät kodeissa ja Kotikirkolla
DESCRIPTION:Ke 8.9. klo 18 Pienryhmät kodeissa ja Kotikirkolla
URL:https://kotikirkko.fi/ohjelma/ke-8-9-klo-18-pienryhmat-kodeissa-ja-kotikirkolla/
END:VEVENT
BEGIN:VEVENT
DTSTART;TZID=Europe/Helsinki:20210909T180000
DTEND;TZID=Europe/Helsinki:20210909T200000
DTSTAMP:20260421T041212
CREATED:20210830T065459Z
LAST-MODIFIED:20210830T065459Z
UID:8567-1631210400-1631217600@kotikirkko.fi
SUMMARY:To 9.9. klo 18 Opetuslapseuskoulu yhteistyössä OneWay -mission kanssa
DESCRIPTION:To 9.9. klo 18 Opetuslapseuskoulu yhteistyössä OneWay -mission kanssa
URL:https://kotikirkko.fi/ohjelma/to-9-9-klo-18-opetuslapseuskoulu-yhteistyossa-oneway-mission-kanssa/
END:VEVENT
BEGIN:VEVENT
DTSTART;TZID=Europe/Helsinki:20210910T180000
DTEND;TZID=Europe/Helsinki:20210910T230000
DTSTAMP:20260421T041212
CREATED:20210809T081225Z
LAST-MODIFIED:20210809T081225Z
UID:8508-1631296800-1631314800@kotikirkko.fi
SUMMARY:Pe 10.9. klo 18.00 Taiteiden yö
DESCRIPTION:Pe 10.9. klo 18.00 Taiteiden yö \nLisätiedot Heidi 050 4709970
URL:https://kotikirkko.fi/ohjelma/pe-10-9-klo-18-00-taiteiden-yo/
END:VEVENT
BEGIN:VEVENT
DTSTART;TZID=Europe/Helsinki:20210912T110000
DTEND;TZID=Europe/Helsinki:20210912T123000
DTSTAMP:20260421T041212
CREATED:20210830T063427Z
LAST-MODIFIED:20210906T121336Z
UID:8545-1631444400-1631449800@kotikirkko.fi
SUMMARY:Su 12.9. klo 11 Lähetysjumalanpalvelus
DESCRIPTION:Su 12.9. klo 11 Lähetysjumalanpalvelus\, teemana Turkin työ\, Juha Lehtonen ja Susanna Lamsiah Fidasta\, Jukka Perttu\, musiikki Anette ja Markku Syrjä. Keräys Turkin työlle
URL:https://kotikirkko.fi/ohjelma/su-12-9-lahetysjumalanpalvelus/
END:VEVENT
BEGIN:VEVENT
DTSTART;TZID=Europe/Helsinki:20210913T180000
DTEND;TZID=Europe/Helsinki:20210913T193000
DTSTAMP:20260421T041212
CREATED:20210830T072325Z
LAST-MODIFIED:20210830T072325Z
UID:8588-1631556000-1631561400@kotikirkko.fi
SUMMARY:Ma 13.9. 18.00 Yhteisöilta
DESCRIPTION:Ma 13.9. 18.00 Yhteisöilta
URL:https://kotikirkko.fi/ohjelma/ma-13-9-18-00-yhteisoilta/
END:VEVENT
BEGIN:VEVENT
DTSTART;TZID=Europe/Helsinki:20210915T180000
DTEND;TZID=Europe/Helsinki:20210915T193000
DTSTAMP:20260421T041212
CREATED:20210830T064117Z
LAST-MODIFIED:20210830T064117Z
UID:8556-1631728800-1631734200@kotikirkko.fi
SUMMARY:Ke 15.9. klo 18 Rukousilta\, Seppo Kaski
DESCRIPTION:Ke 15.9. klo 18 Rukousilta\, Seppo Kaski
URL:https://kotikirkko.fi/ohjelma/ke-15-9-klo-18-rukousilta-seppo-kaski/
END:VEVENT
BEGIN:VEVENT
DTSTART;TZID=Europe/Helsinki:20210916T180000
DTEND;TZID=Europe/Helsinki:20210916T200000
DTSTAMP:20260421T041212
CREATED:20210830T072652Z
LAST-MODIFIED:20210830T072652Z
UID:8594-1631815200-1631822400@kotikirkko.fi
SUMMARY:To 16.9. klo 18 Opetuslapseuskoulu yhteistyössä OneWay -mission kanssa
DESCRIPTION:To 16.9. klo 18 Opetuslapseuskoulu yhteistyössä OneWay -mission kanssa
URL:https://kotikirkko.fi/ohjelma/to-16-9-klo-18-opetuslapseuskoulu-yhteistyossa-oneway-mission-kanssa-2/
END:VEVENT
BEGIN:VEVENT
DTSTART;TZID=Europe/Helsinki:20210917T190000
DTEND;TZID=Europe/Helsinki:20210917T230000
DTSTAMP:20260421T041212
CREATED:20210809T081515Z
LAST-MODIFIED:20210809T081515Z
UID:8511-1631905200-1631919600@kotikirkko.fi
SUMMARY:Pe 17.9. klo 19.00 Nuortenilta
DESCRIPTION: \n\nPe 17.9. klo 19.00 Nuortenilta \nLisätiedot Heidi 050 4709970
URL:https://kotikirkko.fi/ohjelma/pe-17-9-klo-19-00-nuortenilta/
END:VEVENT
BEGIN:VEVENT
DTSTART;TZID=Europe/Helsinki:20210919T110000
DTEND;TZID=Europe/Helsinki:20210919T123000
DTSTAMP:20260421T041212
CREATED:20210830T070909Z
LAST-MODIFIED:20210830T071738Z
UID:8577-1632049200-1632054600@kotikirkko.fi
SUMMARY:Su 19.9. 11.00	Konsertti – René Laulajainen
DESCRIPTION:Su 19.9. 11.00    Konsertti – René Laulajainen \nRené: ”Olen kokenut\, että päätehtäväni\, jonka olen Herraltani saanut\, on juuri olla Hänen todistajansa ja mennä Jeesuksen käskyn mukaan kaikkeen maailmaan kertoen syntisille ihmisille\, mitä Jeesus on omassa elämässäni tehnyt”
URL:https://kotikirkko.fi/ohjelma/su-19-9-11-00konsertti-rene-laulajainen/
END:VEVENT
BEGIN:VEVENT
DTSTART;TZID=Europe/Helsinki:20210921T180000
DTEND;TZID=Europe/Helsinki:20210921T193000
DTSTAMP:20260421T041212
CREATED:20210903T072447Z
LAST-MODIFIED:20210903T072447Z
UID:8628-1632247200-1632252600@kotikirkko.fi
SUMMARY:Ti 21.9. klo 18.00 Varkkikerho
DESCRIPTION:Ti 21.9. klo 18.00 Varkkikerho Kotikirkon alakerrassa
URL:https://kotikirkko.fi/ohjelma/ti-21-9-klo-18-00-varkkikerho/
END:VEVENT
BEGIN:VEVENT
DTSTART;TZID=Europe/Helsinki:20210922T180000
DTEND;TZID=Europe/Helsinki:20210922T193000
DTSTAMP:20260421T041212
CREATED:20210830T063941Z
LAST-MODIFIED:20210830T063941Z
UID:8553-1632333600-1632339000@kotikirkko.fi
SUMMARY:Ke 22.9. klo 18 Pienryhmät kodeissa ja Kotikirkolla
DESCRIPTION:Ke 22.9. klo 18 Pienryhmät kodeissa ja Kotikirkolla
URL:https://kotikirkko.fi/ohjelma/ke-22-9-klo-18-pienryhmat-kodeissa-ja-kotikirkolla/
END:VEVENT
BEGIN:VEVENT
DTSTART;TZID=Europe/Helsinki:20210923T180000
DTEND;TZID=Europe/Helsinki:20210923T200000
DTSTAMP:20260421T041212
CREATED:20210830T070407Z
LAST-MODIFIED:20210830T070538Z
UID:8570-1632420000-1632427200@kotikirkko.fi
SUMMARY:To 23.9. klo 18 Opetuslapseuskoulu yhteistyössä OneWay -mission kanssa
DESCRIPTION:To 23.9. klo 18 Opetuslapseuskoulu yhteistyössä OneWay -mission kanssa
URL:https://kotikirkko.fi/ohjelma/to-16-9-klo-18-opetuslapseuskoulu-yhteistyossa-oneway-mission-kanssa/
END:VEVENT
BEGIN:VEVENT
DTSTART;TZID=Europe/Helsinki:20210924T190000
DTEND;TZID=Europe/Helsinki:20210924T230000
DTSTAMP:20260421T041212
CREATED:20210809T081710Z
LAST-MODIFIED:20210809T081710Z
UID:8514-1632510000-1632524400@kotikirkko.fi
SUMMARY:Pe 24.9. klo 19.00 Nuortenilta
DESCRIPTION:Pe 24.9. klo 19.00 Nuortenilta \n\n\nLisätiedot Heidi 050 4709970
URL:https://kotikirkko.fi/ohjelma/pe-24-9-klo-19-00-nuortenilta/
END:VEVENT
BEGIN:VEVENT
DTSTART;TZID=Europe/Helsinki:20210925T170000
DTEND;TZID=Europe/Helsinki:20210925T210000
DTSTAMP:20260421T041212
CREATED:20210809T081914Z
LAST-MODIFIED:20210809T081914Z
UID:8517-1632589200-1632603600@kotikirkko.fi
SUMMARY:La 25.9. klo 17.00 #Reset-kahvila
DESCRIPTION:La 25.9. klo 17.00 #Reset-kahvila \nNuorille aikuisille ja lapsiperheille avoin kahvila
URL:https://kotikirkko.fi/ohjelma/la-25-9-klo-17-00-reset-kahvila/
END:VEVENT
BEGIN:VEVENT
DTSTART;TZID=Europe/Helsinki:20210926T110000
DTEND;TZID=Europe/Helsinki:20210926T123000
DTSTAMP:20260421T041212
CREATED:20210830T072214Z
LAST-MODIFIED:20210920T113411Z
UID:8585-1632654000-1632659400@kotikirkko.fi
SUMMARY:Su 26.9. 11.00	Jumalanpalvelus
DESCRIPTION:Su 26.9. 11.00 Jumalanpalvelus\, Arto Luuri\, Jarmo Korpilahti\, musiikki Marika ja Anne \n \n  \n 
URL:https://kotikirkko.fi/ohjelma/su-26-9-11-00jumalanpalvelus/
END:VEVENT
BEGIN:VEVENT
DTSTART;TZID=Europe/Helsinki:20210927T180000
DTEND;TZID=Europe/Helsinki:20210927T193000
DTSTAMP:20260421T041212
CREATED:20210830T072424Z
LAST-MODIFIED:20210830T072424Z
UID:8591-1632765600-1632771000@kotikirkko.fi
SUMMARY:Ma 27.9. 18.00 Yhteisöilta
DESCRIPTION:Ma 27.9. 18.00 Yhteisöilta
URL:https://kotikirkko.fi/ohjelma/ma-27-9-18-00-yhteisoilta/
END:VEVENT
BEGIN:VEVENT
DTSTART;TZID=Europe/Helsinki:20210928T180000
DTEND;TZID=Europe/Helsinki:20210928T193000
DTSTAMP:20260421T041212
CREATED:20210903T072545Z
LAST-MODIFIED:20210903T072545Z
UID:8631-1632852000-1632857400@kotikirkko.fi
SUMMARY:Ti 28.9. klo 18.00 Varkkikerho
DESCRIPTION:Ti 28.9. klo 18.00 Varkkikerho Kotikirkon alakerrassa
URL:https://kotikirkko.fi/ohjelma/ti-28-9-klo-18-00-varkkikerho/
END:VEVENT
BEGIN:VEVENT
DTSTART;TZID=Europe/Helsinki:20210929T180000
DTEND;TZID=Europe/Helsinki:20210929T193000
DTSTAMP:20260421T041212
CREATED:20210830T064244Z
LAST-MODIFIED:20210830T064244Z
UID:8559-1632938400-1632943800@kotikirkko.fi
SUMMARY:Ke 29.9. klo 18 Rukousilta
DESCRIPTION:Ke 29.9. klo 18 Rukousilta\, Anja Kolehmainen
URL:https://kotikirkko.fi/ohjelma/ke-29-9-klo-18-rukousilta/
END:VEVENT
BEGIN:VEVENT
DTSTART;TZID=Europe/Helsinki:20210930T180000
DTEND;TZID=Europe/Helsinki:20210930T200000
DTSTAMP:20260421T041212
CREATED:20210830T070702Z
LAST-MODIFIED:20210928T062228Z
UID:8574-1633024800-1633032000@kotikirkko.fi
SUMMARY:
DESCRIPTION: Opetuslapseuskoulu jstkuu torstaisin klo 18-20
URL:https://kotikirkko.fi/ohjelma/to-30-9-klo-18-opetuslapseuskoulu-yhteistyossa-oneway-mission-kanssa/
END:VEVENT
BEGIN:VEVENT
DTSTART;TZID=Europe/Helsinki:20211001T190000
DTEND;TZID=Europe/Helsinki:20211001T230000
DTSTAMP:20260421T041212
CREATED:20210923T042418Z
LAST-MODIFIED:20210923T042418Z
UID:8731-1633114800-1633129200@kotikirkko.fi
SUMMARY:Pe 1.10. klo 19.00 Nuortenilta
DESCRIPTION:  Pe 1.10. klo 19.00 Nuortenilta Lisätiedot Heidi 050 4709970
URL:https://kotikirkko.fi/ohjelma/pe-1-10-klo-19-00-nuortenilta/
END:VEVENT
BEGIN:VEVENT
DTSTART;TZID=Europe/Helsinki:20211003T110000
DTEND;TZID=Europe/Helsinki:20211003T123000
DTSTAMP:20260421T041212
CREATED:20210920T113622Z
LAST-MODIFIED:20210928T062520Z
UID:8675-1633258800-1633264200@kotikirkko.fi
SUMMARY:Su 3.10. 11.00 Jumalanpalvelus ja ehtoollinen
DESCRIPTION:Su 3.10. 11.00 Jumalanpalvelus ja ehtoollinen\, Seppo Kaski\, Heidi Antinsalo\, musiikki Hanna ja Anne\, kahvitarjoilu
URL:https://kotikirkko.fi/ohjelma/su-3-10-11-00-jumalanpalvelus-ja-ehtoollinen/
END:VEVENT
BEGIN:VEVENT
DTSTART;TZID=Europe/Helsinki:20211005T180000
DTEND;TZID=Europe/Helsinki:20211005T193000
DTSTAMP:20260421T041212
CREATED:20210923T043446Z
LAST-MODIFIED:20210923T043446Z
UID:8752-1633456800-1633462200@kotikirkko.fi
SUMMARY:Ti 5.10. klo 18.00 Varkkikerho
DESCRIPTION:Ti 5.10. klo 18.00 varkkikerho Kotikirkon alakerrassa
URL:https://kotikirkko.fi/ohjelma/ti-5-10-klo-18-00-varkkikerho/
END:VEVENT
BEGIN:VEVENT
DTSTART;TZID=Europe/Helsinki:20211006T180000
DTEND;TZID=Europe/Helsinki:20211006T193000
DTSTAMP:20260421T041212
CREATED:20210920T113936Z
LAST-MODIFIED:20210920T113936Z
UID:8678-1633543200-1633548600@kotikirkko.fi
SUMMARY:Ke 6.10. 18.00 Raamattu- ja rukousilta
DESCRIPTION:Ke 6.10. 18.00 Raamattu- ja rukousilta\, 1. Kor. luku 12\, Erkki Karvanen
URL:https://kotikirkko.fi/ohjelma/ke-6-10-18-00-raamattu-ja-rukousilta/
END:VEVENT
BEGIN:VEVENT
DTSTART;TZID=Europe/Helsinki:20211008T190000
DTEND;TZID=Europe/Helsinki:20211008T230000
DTSTAMP:20260421T041212
CREATED:20210923T042533Z
LAST-MODIFIED:20210923T042533Z
UID:8734-1633719600-1633734000@kotikirkko.fi
SUMMARY:Pe 8.10. klo 19.00 Nuortenilta
DESCRIPTION:  Pe 8.10. klo 19.00 Nuortenilta Lisätiedot Heidi 050 4709970
URL:https://kotikirkko.fi/ohjelma/pe-8-10-klo-19-00-nuortenilta/
END:VEVENT
END:VCALENDAR