BEGIN:VCALENDAR
VERSION:2.0
PRODID:-//Riihimäen Kotikirkko - ECPv6.15.20//NONSGML v1.0//EN
CALSCALE:GREGORIAN
METHOD:PUBLISH
X-WR-CALNAME:Riihimäen Kotikirkko
X-ORIGINAL-URL:https://kotikirkko.fi
X-WR-CALDESC:Tapahtumat Riihimäen Kotikirkko
REFRESH-INTERVAL;VALUE=DURATION:PT1H
X-Robots-Tag:noindex
X-PUBLISHED-TTL:PT1H
BEGIN:VTIMEZONE
TZID:Europe/Helsinki
BEGIN:DAYLIGHT
TZOFFSETFROM:+0200
TZOFFSETTO:+0300
TZNAME:EEST
DTSTART:20200329T010000
END:DAYLIGHT
BEGIN:STANDARD
TZOFFSETFROM:+0300
TZOFFSETTO:+0200
TZNAME:EET
DTSTART:20201025T010000
END:STANDARD
BEGIN:DAYLIGHT
TZOFFSETFROM:+0200
TZOFFSETTO:+0300
TZNAME:EEST
DTSTART:20210328T010000
END:DAYLIGHT
BEGIN:STANDARD
TZOFFSETFROM:+0300
TZOFFSETTO:+0200
TZNAME:EET
DTSTART:20211031T010000
END:STANDARD
BEGIN:DAYLIGHT
TZOFFSETFROM:+0200
TZOFFSETTO:+0300
TZNAME:EEST
DTSTART:20220327T010000
END:DAYLIGHT
BEGIN:STANDARD
TZOFFSETFROM:+0300
TZOFFSETTO:+0200
TZNAME:EET
DTSTART:20221030T010000
END:STANDARD
END:VTIMEZONE
BEGIN:VEVENT
DTSTART;TZID=Europe/Helsinki:20210801T110000
DTEND;TZID=Europe/Helsinki:20210801T123000
DTSTAMP:20260421T055952
CREATED:20210629T051553Z
LAST-MODIFIED:20210731T074523Z
UID:8166-1627815600-1627821000@kotikirkko.fi
SUMMARY:Su 1.8. 11.00 Jumalanpalvelus ja ehtoollinen
DESCRIPTION:Su 1.8. 11.00 Jumalanpalvelus ja ehtoollinen\, Seppo Kaski\, Ari Juntunen\, musiikki Henry Hedman\, Reijo Korhonen ja Pentti Oikarinen\, Vamos-lähetyskoulutukseen ja -harjoitteluun lähtevien siunaus. Lähetyslettukahvit matkan hyväksi.
URL:https://kotikirkko.fi/ohjelma/su-1-8-11-00-jumalanpalvelus-ja-ehtoollinen/
END:VEVENT
BEGIN:VEVENT
DTSTART;TZID=Europe/Helsinki:20210804T180000
DTEND;TZID=Europe/Helsinki:20210804T193000
DTSTAMP:20260421T055952
CREATED:20210629T052107Z
LAST-MODIFIED:20210724T065442Z
UID:8178-1628100000-1628105400@kotikirkko.fi
SUMMARY:Ke 4.8. 18.00 Rukousilta
DESCRIPTION:Ke 4.8. 18.00 Rukousilta\, Seppo Kaski
URL:https://kotikirkko.fi/ohjelma/ke-4-8-18-00-rukousilta/
END:VEVENT
BEGIN:VEVENT
DTSTART;TZID=Europe/Helsinki:20210806T190000
DTEND;TZID=Europe/Helsinki:20210806T230000
DTSTAMP:20260421T055952
CREATED:20210702T095053Z
LAST-MODIFIED:20210702T095053Z
UID:8208-1628276400-1628290800@kotikirkko.fi
SUMMARY:Pe 6.8. klo 19.00 Nuortenilta
DESCRIPTION:Pe 6.8. klo 19.00 Nuorten kesäkokoontuminen. \nLisätiedot Heidi 050 4709970
URL:https://kotikirkko.fi/ohjelma/pe-6-8-klo-19-00-nuortenilta/
END:VEVENT
BEGIN:VEVENT
DTSTART;TZID=Europe/Helsinki:20210808T110000
DTEND;TZID=Europe/Helsinki:20210808T123000
DTSTAMP:20260421T055952
CREATED:20210629T052249Z
LAST-MODIFIED:20210724T065653Z
UID:8181-1628420400-1628425800@kotikirkko.fi
SUMMARY:Su 8.8. 11.00 Lähetysjumalanpalvelus\, koululaisten siunaus
DESCRIPTION:Su 8.8. 11.00 Lähetysjumalanpalvelus\, koululaisten siunaus\, Pirjo Perttu\, musiikki Ulla & Hannele\, pyhäkoulu
URL:https://kotikirkko.fi/ohjelma/su-8-8-11-00-lahetysjumalanpalvelus/
END:VEVENT
BEGIN:VEVENT
DTSTART;TZID=Europe/Helsinki:20210811T180000
DTEND;TZID=Europe/Helsinki:20210811T193000
DTSTAMP:20260421T055952
CREATED:20210805T075958Z
LAST-MODIFIED:20210805T075958Z
UID:8475-1628704800-1628710200@kotikirkko.fi
SUMMARY:Ke 11.8. 18.00 Raamattu- ja rukousilta
DESCRIPTION:Ke 11.8. 18.00 Raamattu- ja rukousilta\, 1. Kor. luku 9\, Erkki Karvanen
URL:https://kotikirkko.fi/ohjelma/ke-11-8-18-00-raamattu-ja-rukousilta/
END:VEVENT
BEGIN:VEVENT
DTSTART;TZID=Europe/Helsinki:20210813T190000
DTEND;TZID=Europe/Helsinki:20210813T230000
DTSTAMP:20260421T055952
CREATED:20210702T095247Z
LAST-MODIFIED:20210702T095247Z
UID:8211-1628881200-1628895600@kotikirkko.fi
SUMMARY:Pe 13.8. klo 19.00 Nuortenleiri
DESCRIPTION:Pe 13.8.- 15.8. Nuorten leiri \nLisätiedot Heidi 050 4709970
URL:https://kotikirkko.fi/ohjelma/pe-13-8-klo-19-00-nuortenleiri/
END:VEVENT
BEGIN:VEVENT
DTSTART;TZID=Europe/Helsinki:20210815T110000
DTEND;TZID=Europe/Helsinki:20210815T123000
DTSTAMP:20260421T055952
CREATED:20210805T075752Z
LAST-MODIFIED:20210815T032616Z
UID:8472-1629025200-1629030600@kotikirkko.fi
SUMMARY:Su 15.8. 11.00 Jumalanpalvelus
DESCRIPTION:Su 15.8. 11.00 Jumalanpalvelus\, Risto Ropo\, Allani Rantasalo ja Hemmi Nyman
URL:https://kotikirkko.fi/ohjelma/su-15-8-11-00-jumalanpalvelus/
END:VEVENT
BEGIN:VEVENT
DTSTART;TZID=Europe/Helsinki:20210818T180000
DTEND;TZID=Europe/Helsinki:20210818T190000
DTSTAMP:20260421T055952
CREATED:20210805T081239Z
LAST-MODIFIED:20210805T081239Z
UID:8494-1629309600-1629313200@kotikirkko.fi
SUMMARY:Ke 18.8. 18.00 Riihimäen Kotikirkko-yhdistys ry:n vuosikokous
DESCRIPTION:Ke 18.8. 18.00 Riihimäen Kotikirkko-yhdistys ry:n vuosikokous\, Timo Mantila
URL:https://kotikirkko.fi/ohjelma/ke-18-8-18-00-riihimaen-kotikirkko-yhdistys-ryn-vuosikokous/
END:VEVENT
BEGIN:VEVENT
DTSTART;TZID=Europe/Helsinki:20210820T190000
DTEND;TZID=Europe/Helsinki:20210820T230000
DTSTAMP:20260421T055952
CREATED:20210702T095636Z
LAST-MODIFIED:20210702T095636Z
UID:8214-1629486000-1629500400@kotikirkko.fi
SUMMARY:Pe 20.8. klo 19.00 Nuortenilta
DESCRIPTION:Pe 20.8. klo 19.00 Nuorten kesäkokoontuminen. \nLisätiedot Heidi 050 4709970
URL:https://kotikirkko.fi/ohjelma/pe-20-8-klo-19-00-nuortenilta/
END:VEVENT
BEGIN:VEVENT
DTSTART;TZID=Europe/Helsinki:20210822T110000
DTEND;TZID=Europe/Helsinki:20210822T123000
DTSTAMP:20260421T055952
CREATED:20210805T080147Z
LAST-MODIFIED:20210811T080042Z
UID:8478-1629630000-1629635400@kotikirkko.fi
SUMMARY:Su 22.8. 11.00 Israel-juhla
DESCRIPTION:Su 22.8. 11.00 Israel-juhla\, Ulla Järvilehto\, Maarit Kattilakoski\, Asta Prencipe\, Valomerkki-yhtye\, kahvitarjoilu
URL:https://kotikirkko.fi/ohjelma/su-22-8-11-00-israel-juhla/
END:VEVENT
BEGIN:VEVENT
DTSTART;TZID=Europe/Helsinki:20210824T180000
DTEND;TZID=Europe/Helsinki:20210824T193000
DTSTAMP:20260421T055952
CREATED:20210823T084217Z
LAST-MODIFIED:20210823T084217Z
UID:8534-1629828000-1629833400@kotikirkko.fi
SUMMARY:Ti 24.8. klo 18.00 Varkkikerho
DESCRIPTION:Ti 24.8. klo 18.00 Varkkikerho Kotikirkon alakerrassa
URL:https://kotikirkko.fi/ohjelma/ti-24-8-klo-18-00-varkkikerho/
END:VEVENT
BEGIN:VEVENT
DTSTART;TZID=Europe/Helsinki:20210825T180000
DTEND;TZID=Europe/Helsinki:20210825T193000
DTSTAMP:20260421T055952
CREATED:20210805T081057Z
LAST-MODIFIED:20210805T081057Z
UID:8491-1629914400-1629919800@kotikirkko.fi
SUMMARY:Ke 25.8. 18.00 Raamattu- ja rukousilta
DESCRIPTION:Ke 25.8. 18.00 Raamattu- ja rukousilta\, 1. Kor. luku 10\, Erkki Karvanen
URL:https://kotikirkko.fi/ohjelma/ke-25-8-18-00-raamattu-ja-rukousilta/
END:VEVENT
BEGIN:VEVENT
DTSTART;TZID=Europe/Helsinki:20210828T100000
DTEND;TZID=Europe/Helsinki:20210828T180000
DTSTAMP:20260421T055952
CREATED:20210805T080639Z
LAST-MODIFIED:20210805T080639Z
UID:8484-1630144800-1630173600@kotikirkko.fi
SUMMARY:La 28.8. 10.00 Seurakunnan leiripäivä Valkjärvellä\, kastejuhla
DESCRIPTION:La 28.8. 10.00 Seurakunnan leiripäivä Valkjärvellä\, kastejuhla\, yhteislähtö Kotikirkolta klo 9.30\, nyyttärit
URL:https://kotikirkko.fi/ohjelma/la-28-8-10-00-seurakunnan-leiripaiva-valkjarvella-kastejuhla/
END:VEVENT
BEGIN:VEVENT
DTSTART;TZID=Europe/Helsinki:20210828T190000
DTEND;TZID=Europe/Helsinki:20210828T230000
DTSTAMP:20260421T055952
CREATED:20210809T080355Z
LAST-MODIFIED:20210809T080355Z
UID:8502-1630177200-1630191600@kotikirkko.fi
SUMMARY:La 28.8. klo 19.00 Nuortenilta Valkjärvellä
DESCRIPTION:La 28.8. klo 19.00 Nuortenilta Valkjärvellä.
URL:https://kotikirkko.fi/ohjelma/la-28-8-klo-19-00-nuortenilta-valkjarvella/
END:VEVENT
BEGIN:VEVENT
DTSTART;TZID=Europe/Helsinki:20210829T110000
DTEND;TZID=Europe/Helsinki:20210829T123000
DTSTAMP:20260421T055952
CREATED:20210805T080426Z
LAST-MODIFIED:20210823T055511Z
UID:8481-1630234800-1630240200@kotikirkko.fi
SUMMARY:Su 29.8. 11.00 Musiikkijuhla
DESCRIPTION:Su 29.8. 11.00 Musiikkijuhla\, Kent Nyman\, Janne ja Henry Hedman\, Yhteisöillan ystävät
URL:https://kotikirkko.fi/ohjelma/su-29-8-11-00-musiikkijuhla/
END:VEVENT
BEGIN:VEVENT
DTSTART;TZID=Europe/Helsinki:20210831T180000
DTEND;TZID=Europe/Helsinki:20210831T193000
DTSTAMP:20260421T055952
CREATED:20210823T084337Z
LAST-MODIFIED:20210823T084337Z
UID:8537-1630432800-1630438200@kotikirkko.fi
SUMMARY:Ti 31.8. klo 18.00 Varkkikerho
DESCRIPTION:Ti 31.8. klo 18.00 Varkkikerho Kotikirkon alakerrassa
URL:https://kotikirkko.fi/ohjelma/ti-31-8-klo-18-00-varkkikerho/
END:VEVENT
BEGIN:VEVENT
DTSTART;TZID=Europe/Helsinki:20210901T180000
DTEND;TZID=Europe/Helsinki:20210901T193000
DTSTAMP:20260421T055952
CREATED:20210805T081502Z
LAST-MODIFIED:20210830T063606Z
UID:8497-1630519200-1630524600@kotikirkko.fi
SUMMARY:Ke 1.9. klo 18 Raamattu- ja rukousilta
DESCRIPTION:Ke 1.9. klo 18 Raamattu- ja rukousilta\, Erkki Karvanen
URL:https://kotikirkko.fi/ohjelma/ke-1-9-klo-18-rukousilta/
END:VEVENT
BEGIN:VEVENT
DTSTART;TZID=Europe/Helsinki:20210902T180000
DTEND;TZID=Europe/Helsinki:20210902T200000
DTSTAMP:20260421T055952
CREATED:20210830T064910Z
LAST-MODIFIED:20210902T061338Z
UID:8562-1630605600-1630612800@kotikirkko.fi
SUMMARY:To 2.9. klo 18 Opetuslapseuskoulu yhteistyössä OneWay -mission kanssa
DESCRIPTION:To 2.9. klo 18 Opetuslapseuskoulu yhteistyössä OneWay -mission kanssa. Koulu jatkuu koko syksyn ajan torstaisin.
URL:https://kotikirkko.fi/ohjelma/to-2-9-klo-18-opetuslapseuskoulu-yhteistyossa-oneway-mission-kanssa/
LOCATION:Kotikirkko Koivistonkatu 5
END:VEVENT
BEGIN:VEVENT
DTSTART;TZID=Europe/Helsinki:20210903T190000
DTEND;TZID=Europe/Helsinki:20210903T230000
DTSTAMP:20260421T055952
CREATED:20210809T080623Z
LAST-MODIFIED:20210809T080623Z
UID:8505-1630695600-1630710000@kotikirkko.fi
SUMMARY:Pe 3.9. klo 19.00 Nuortenilta
DESCRIPTION:Pe 3.9. klo 19.00 Nuortenilta. \nLisätiedot Heidi 050 4709970
URL:https://kotikirkko.fi/ohjelma/pe-3-9-klo-19-00-nuortenilta/
END:VEVENT
BEGIN:VEVENT
DTSTART;TZID=Europe/Helsinki:20210905T110000
DTEND;TZID=Europe/Helsinki:20210905T123000
DTSTAMP:20260421T055952
CREATED:20210805T080827Z
LAST-MODIFIED:20210903T033735Z
UID:8487-1630839600-1630845000@kotikirkko.fi
SUMMARY:Su 5.9. 11.00 Jumalanpalvelus ja ehtoollinen nuorten johdolla
DESCRIPTION:Su 5.9. 11.00 Jumalanpalvelus ja ehtoollinen nuorten johdolla\, Heidi Antinsalo\, BaseBand\, terveisiä nuorten leiriltä
URL:https://kotikirkko.fi/ohjelma/8487/
END:VEVENT
BEGIN:VEVENT
DTSTART;TZID=Europe/Helsinki:20210906T183000
DTEND;TZID=Europe/Helsinki:20210906T193000
DTSTAMP:20260421T055952
CREATED:20210830T071944Z
LAST-MODIFIED:20210903T033632Z
UID:8582-1630953000-1630956600@kotikirkko.fi
SUMMARY:Ma 6.9. 18.30	Riihimäki rukoilee -ilta Kotikirkolla
DESCRIPTION:Ma 6.9. 18.30 Riihimäki rukoilee -ilta Kotikirkolla\, Seppo Kaski\, Heidi Antinsalo\, musiikki Samuel Heikkinen ja Tapio Mäenpää
URL:https://kotikirkko.fi/ohjelma/ma-6-9-18-30riihimaki-rukoilee-ilta-kotikirkolla-seppo-kaski-heidi-antinsalo/
END:VEVENT
BEGIN:VEVENT
DTSTART;TZID=Europe/Helsinki:20210907T180000
DTEND;TZID=Europe/Helsinki:20210907T193000
DTSTAMP:20260421T055952
CREATED:20210823T084456Z
LAST-MODIFIED:20210823T084456Z
UID:8540-1631037600-1631043000@kotikirkko.fi
SUMMARY:Ti 7.9. klo 18.00 Varkkikerho
DESCRIPTION:Ti 7.9. klo 18.00 varkkikerho Kotikirkon alakerrassa
URL:https://kotikirkko.fi/ohjelma/ti-7-9-klo-18-00-varkkikerho/
END:VEVENT
BEGIN:VEVENT
DTSTART;TZID=Europe/Helsinki:20210908T180000
DTEND;TZID=Europe/Helsinki:20210908T193000
DTSTAMP:20260421T055952
CREATED:20210830T063841Z
LAST-MODIFIED:20210830T063841Z
UID:8550-1631124000-1631129400@kotikirkko.fi
SUMMARY:Ke 8.9. klo 18 Pienryhmät kodeissa ja Kotikirkolla
DESCRIPTION:Ke 8.9. klo 18 Pienryhmät kodeissa ja Kotikirkolla
URL:https://kotikirkko.fi/ohjelma/ke-8-9-klo-18-pienryhmat-kodeissa-ja-kotikirkolla/
END:VEVENT
BEGIN:VEVENT
DTSTART;TZID=Europe/Helsinki:20210909T180000
DTEND;TZID=Europe/Helsinki:20210909T200000
DTSTAMP:20260421T055952
CREATED:20210830T065459Z
LAST-MODIFIED:20210830T065459Z
UID:8567-1631210400-1631217600@kotikirkko.fi
SUMMARY:To 9.9. klo 18 Opetuslapseuskoulu yhteistyössä OneWay -mission kanssa
DESCRIPTION:To 9.9. klo 18 Opetuslapseuskoulu yhteistyössä OneWay -mission kanssa
URL:https://kotikirkko.fi/ohjelma/to-9-9-klo-18-opetuslapseuskoulu-yhteistyossa-oneway-mission-kanssa/
END:VEVENT
BEGIN:VEVENT
DTSTART;TZID=Europe/Helsinki:20210910T180000
DTEND;TZID=Europe/Helsinki:20210910T230000
DTSTAMP:20260421T055952
CREATED:20210809T081225Z
LAST-MODIFIED:20210809T081225Z
UID:8508-1631296800-1631314800@kotikirkko.fi
SUMMARY:Pe 10.9. klo 18.00 Taiteiden yö
DESCRIPTION:Pe 10.9. klo 18.00 Taiteiden yö \nLisätiedot Heidi 050 4709970
URL:https://kotikirkko.fi/ohjelma/pe-10-9-klo-18-00-taiteiden-yo/
END:VEVENT
BEGIN:VEVENT
DTSTART;TZID=Europe/Helsinki:20210912T110000
DTEND;TZID=Europe/Helsinki:20210912T123000
DTSTAMP:20260421T055952
CREATED:20210830T063427Z
LAST-MODIFIED:20210906T121336Z
UID:8545-1631444400-1631449800@kotikirkko.fi
SUMMARY:Su 12.9. klo 11 Lähetysjumalanpalvelus
DESCRIPTION:Su 12.9. klo 11 Lähetysjumalanpalvelus\, teemana Turkin työ\, Juha Lehtonen ja Susanna Lamsiah Fidasta\, Jukka Perttu\, musiikki Anette ja Markku Syrjä. Keräys Turkin työlle
URL:https://kotikirkko.fi/ohjelma/su-12-9-lahetysjumalanpalvelus/
END:VEVENT
BEGIN:VEVENT
DTSTART;TZID=Europe/Helsinki:20210913T180000
DTEND;TZID=Europe/Helsinki:20210913T193000
DTSTAMP:20260421T055952
CREATED:20210830T072325Z
LAST-MODIFIED:20210830T072325Z
UID:8588-1631556000-1631561400@kotikirkko.fi
SUMMARY:Ma 13.9. 18.00 Yhteisöilta
DESCRIPTION:Ma 13.9. 18.00 Yhteisöilta
URL:https://kotikirkko.fi/ohjelma/ma-13-9-18-00-yhteisoilta/
END:VEVENT
BEGIN:VEVENT
DTSTART;TZID=Europe/Helsinki:20210915T180000
DTEND;TZID=Europe/Helsinki:20210915T193000
DTSTAMP:20260421T055952
CREATED:20210830T064117Z
LAST-MODIFIED:20210830T064117Z
UID:8556-1631728800-1631734200@kotikirkko.fi
SUMMARY:Ke 15.9. klo 18 Rukousilta\, Seppo Kaski
DESCRIPTION:Ke 15.9. klo 18 Rukousilta\, Seppo Kaski
URL:https://kotikirkko.fi/ohjelma/ke-15-9-klo-18-rukousilta-seppo-kaski/
END:VEVENT
BEGIN:VEVENT
DTSTART;TZID=Europe/Helsinki:20210916T180000
DTEND;TZID=Europe/Helsinki:20210916T200000
DTSTAMP:20260421T055952
CREATED:20210830T072652Z
LAST-MODIFIED:20210830T072652Z
UID:8594-1631815200-1631822400@kotikirkko.fi
SUMMARY:To 16.9. klo 18 Opetuslapseuskoulu yhteistyössä OneWay -mission kanssa
DESCRIPTION:To 16.9. klo 18 Opetuslapseuskoulu yhteistyössä OneWay -mission kanssa
URL:https://kotikirkko.fi/ohjelma/to-16-9-klo-18-opetuslapseuskoulu-yhteistyossa-oneway-mission-kanssa-2/
END:VEVENT
BEGIN:VEVENT
DTSTART;TZID=Europe/Helsinki:20210917T190000
DTEND;TZID=Europe/Helsinki:20210917T230000
DTSTAMP:20260421T055952
CREATED:20210809T081515Z
LAST-MODIFIED:20210809T081515Z
UID:8511-1631905200-1631919600@kotikirkko.fi
SUMMARY:Pe 17.9. klo 19.00 Nuortenilta
DESCRIPTION: \n\nPe 17.9. klo 19.00 Nuortenilta \nLisätiedot Heidi 050 4709970
URL:https://kotikirkko.fi/ohjelma/pe-17-9-klo-19-00-nuortenilta/
END:VEVENT
END:VCALENDAR