BEGIN:VCALENDAR
VERSION:2.0
PRODID:-//Riihimäen Kotikirkko - ECPv6.15.20//NONSGML v1.0//EN
CALSCALE:GREGORIAN
METHOD:PUBLISH
X-WR-CALNAME:Riihimäen Kotikirkko
X-ORIGINAL-URL:https://kotikirkko.fi
X-WR-CALDESC:Tapahtumat Riihimäen Kotikirkko
REFRESH-INTERVAL;VALUE=DURATION:PT1H
X-Robots-Tag:noindex
X-PUBLISHED-TTL:PT1H
BEGIN:VTIMEZONE
TZID:Europe/Helsinki
BEGIN:DAYLIGHT
TZOFFSETFROM:+0200
TZOFFSETTO:+0300
TZNAME:EEST
DTSTART:20200329T010000
END:DAYLIGHT
BEGIN:STANDARD
TZOFFSETFROM:+0300
TZOFFSETTO:+0200
TZNAME:EET
DTSTART:20201025T010000
END:STANDARD
BEGIN:DAYLIGHT
TZOFFSETFROM:+0200
TZOFFSETTO:+0300
TZNAME:EEST
DTSTART:20210328T010000
END:DAYLIGHT
BEGIN:STANDARD
TZOFFSETFROM:+0300
TZOFFSETTO:+0200
TZNAME:EET
DTSTART:20211031T010000
END:STANDARD
BEGIN:DAYLIGHT
TZOFFSETFROM:+0200
TZOFFSETTO:+0300
TZNAME:EEST
DTSTART:20220327T010000
END:DAYLIGHT
BEGIN:STANDARD
TZOFFSETFROM:+0300
TZOFFSETTO:+0200
TZNAME:EET
DTSTART:20221030T010000
END:STANDARD
END:VTIMEZONE
BEGIN:VEVENT
DTSTART;TZID=Europe/Helsinki:20210201T180000
DTEND;TZID=Europe/Helsinki:20210201T200000
DTSTAMP:20260421T172530
CREATED:20210201T080253Z
LAST-MODIFIED:20210201T080253Z
UID:7741-1612202400-1612209600@kotikirkko.fi
SUMMARY:Ma 1.2. klo 18.00 Naisten pienryhmä
DESCRIPTION:Ma 1.2. klo 18.00 Naisten pienryhmä. Ilmoittaudu mukaan Heidille 050 4709970
URL:https://kotikirkko.fi/ohjelma/ma-1-2-klo-18-00-naisten-pienryhma/
END:VEVENT
BEGIN:VEVENT
DTSTART;TZID=Europe/Helsinki:20210204T180000
DTEND;TZID=Europe/Helsinki:20210204T190000
DTSTAMP:20260421T172530
CREATED:20210201T083705Z
LAST-MODIFIED:20210201T105257Z
UID:7753-1612461600-1612465200@kotikirkko.fi
SUMMARY:To 4.2. klo 18.00 Toivon torstai-ilta\, YouTube-live
DESCRIPTION:4.2. klo 18.00 Toivon torstai-ilta\, Veijo\, Risto & Allani\, YouTube-live
URL:https://kotikirkko.fi/ohjelma/4-2-klo-18-00-toivon-torstai-ilta/
END:VEVENT
BEGIN:VEVENT
DTSTART;TZID=Europe/Helsinki:20210205T190000
DTEND;TZID=Europe/Helsinki:20210205T230000
DTSTAMP:20260421T172530
CREATED:20210201T080418Z
LAST-MODIFIED:20210201T080418Z
UID:7744-1612551600-1612566000@kotikirkko.fi
SUMMARY:Pe 5.2. klo 19.00 Nuorten pienryhmät
DESCRIPTION:Pe 5.2. klo 19.00 Nuorten pienryhmät. Ilmoittaudu mukaan Heidille 050 4709970
URL:https://kotikirkko.fi/ohjelma/pe-5-2-klo-19-00-nuorten-pienryhmat/
END:VEVENT
BEGIN:VEVENT
DTSTART;TZID=Europe/Helsinki:20210207T110000
DTEND;TZID=Europe/Helsinki:20210207T123000
DTSTAMP:20260421T172530
CREATED:20210117T050151Z
LAST-MODIFIED:20210117T050151Z
UID:7719-1612695600-1612701000@kotikirkko.fi
SUMMARY:Su 7.2. klo 11.00 Jumalanpalvelus ja ehtoollinen
DESCRIPTION:Su 7.2. klo 11.00 Jumalanpalvelus ja ehtoollinen nuorten johdolla\, Heidi Antinsalo\, musiikki BaseBand
URL:https://kotikirkko.fi/ohjelma/su-7-2-klo-11-00-jumalanpalvelus-ja-ehtoollinen/
END:VEVENT
BEGIN:VEVENT
DTSTART;TZID=Europe/Helsinki:20210212T190000
DTEND;TZID=Europe/Helsinki:20210212T230000
DTSTAMP:20260421T172530
CREATED:20210201T080628Z
LAST-MODIFIED:20210201T080628Z
UID:7747-1613156400-1613170800@kotikirkko.fi
SUMMARY:Pe 12.1. klo 19.00 Nuorten pienryhmät
DESCRIPTION:Pe 12.1. klo 19.00 Nuorten pienryhmät. Ilmoittaudu mukaan Heidille 050 4709970
URL:https://kotikirkko.fi/ohjelma/pe-12-1-klo-19-00-nuorten-pienryhmat/
END:VEVENT
BEGIN:VEVENT
DTSTART;TZID=Europe/Helsinki:20210214T110000
DTEND;TZID=Europe/Helsinki:20210214T120000
DTSTAMP:20260421T172530
CREATED:20210201T083937Z
LAST-MODIFIED:20210201T084938Z
UID:7756-1613300400-1613304000@kotikirkko.fi
SUMMARY:Su 14.2. klo 11.00 Lähetysjumalanpalvelus
DESCRIPTION:Su 14.2. klo 11.00 Lähetysjumalanpalvelus\, Timo Mantila\, Jukka Perttu\, musiikki Minna & Mikko Ilomäki
URL:https://kotikirkko.fi/ohjelma/su-14-2-klo-11-00-lahetysjumalanpalvelus/
END:VEVENT
BEGIN:VEVENT
DTSTART;TZID=Europe/Helsinki:20210219T190000
DTEND;TZID=Europe/Helsinki:20210219T230000
DTSTAMP:20260421T172530
CREATED:20210201T081554Z
LAST-MODIFIED:20210201T081554Z
UID:7750-1613761200-1613775600@kotikirkko.fi
SUMMARY:Pe 19.2. klo 19.00 Nuorten pienryhmät
DESCRIPTION:Pe 19.2. klo 19.00 Nuorten pienryhmät. Ilmoittaudu mukaan Heidille 050 4709970
URL:https://kotikirkko.fi/ohjelma/pe-19-2-klo-19-00-nuorten-pienryhmat/
END:VEVENT
BEGIN:VEVENT
DTSTART;TZID=Europe/Helsinki:20210221T110000
DTEND;TZID=Europe/Helsinki:20210221T120000
DTSTAMP:20260421T172530
CREATED:20210201T084415Z
LAST-MODIFIED:20210214T164035Z
UID:7761-1613905200-1613908800@kotikirkko.fi
SUMMARY:Su 21.2. klo 11.00 Jumalanpalvelus
DESCRIPTION:Su 21.2. klo 11.00 Jumalanpalvelus\, Mikko Ilomäki\, Nikolas Hedman\, musiikki Pekko Halonen & Band
URL:https://kotikirkko.fi/ohjelma/su-21-2-klo-11-00-jumalanpalvelus/
END:VEVENT
BEGIN:VEVENT
DTSTART;TZID=Europe/Helsinki:20210228T110000
DTEND;TZID=Europe/Helsinki:20210228T120000
DTSTAMP:20260421T172530
CREATED:20210201T084714Z
LAST-MODIFIED:20210219T103934Z
UID:7764-1614510000-1614513600@kotikirkko.fi
SUMMARY:Su 28.2. klo 11.00 Jumalanpalvelus
DESCRIPTION:Su 28.2. klo 11.00 Jumalanpalvelus\, Hemmi ja Hanna Nyman & Yhteisöillan ystävät
URL:https://kotikirkko.fi/ohjelma/su-28-2-klo-11-00-jumalanpalvelus/
END:VEVENT
BEGIN:VEVENT
DTSTART;TZID=Europe/Helsinki:20210304T180000
DTEND;TZID=Europe/Helsinki:20210304T190000
DTSTAMP:20260421T172530
CREATED:20210228T150047Z
LAST-MODIFIED:20210228T150246Z
UID:7810-1614880800-1614884400@kotikirkko.fi
SUMMARY:To 4.3. klo 18.00 Toivon torstai-ilta\, Reijo Blommendahl & Orkesteri
DESCRIPTION:To 4.3. klo 18.00 Toivon torstai-ilta\, Reijo Blommendahl & Orkesteri\, Kotikirkon YouTube-Kanavalla
URL:https://kotikirkko.fi/ohjelma/to-4-3-klo-18-00-toivon-torstai-ilta-reijo-blommendahl-orkesteri/
END:VEVENT
BEGIN:VEVENT
DTSTART;TZID=Europe/Helsinki:20210307T110000
DTEND;TZID=Europe/Helsinki:20210307T120000
DTSTAMP:20260421T172530
CREATED:20210228T150652Z
LAST-MODIFIED:20210228T151046Z
UID:7817-1615114800-1615118400@kotikirkko.fi
SUMMARY:Su 7.3. klo 11.00 Jumalanpalvelus ja kotiehtoollinen
DESCRIPTION:Su 7.3. klo 11.00 Jumalanpalvelus ja kotiehtoollinen\, Seppo Kaski\, Jukka Nummikoski\, musiikki Paula\, Minna & Anne\, YouTube-live
URL:https://kotikirkko.fi/ohjelma/su-7-3-klo-11-00-jumalanpalvelus-ja-kotiehtoollinen/
END:VEVENT
BEGIN:VEVENT
DTSTART;TZID=Europe/Helsinki:20210312T190000
DTEND;TZID=Europe/Helsinki:20210312T230000
DTSTAMP:20260421T172530
CREATED:20210311T144432Z
LAST-MODIFIED:20210311T144432Z
UID:7832-1615575600-1615590000@kotikirkko.fi
SUMMARY:Pe 12.3. klo 19.00 Nuorten pienryhmät
DESCRIPTION:Pe 12.3. klo 19.00 Nuorten pienryhmät.\nIlmoittaudu mukaan Heidille 050 4709970
URL:https://kotikirkko.fi/ohjelma/pe-12-3-klo-19-00-nuorten-pienryhmat/
END:VEVENT
BEGIN:VEVENT
DTSTART;TZID=Europe/Helsinki:20210314T110000
DTEND;TZID=Europe/Helsinki:20210314T120000
DTSTAMP:20260421T172530
CREATED:20210312T133455Z
LAST-MODIFIED:20210312T133601Z
UID:7848-1615719600-1615723200@kotikirkko.fi
SUMMARY:Su 14.3. 11.00	Lähetysjumalanpalvelus
DESCRIPTION:Su 14.3. 11.00	Lähetysjumalanpalvelus\, Jukka Perttu\, Jukka Nummikoski\, musiikki Ulla & Hannele
URL:https://kotikirkko.fi/ohjelma/su-14-3-11-00lahetysjumalanpalvelus/
END:VEVENT
BEGIN:VEVENT
DTSTART;TZID=Europe/Helsinki:20210315T180000
DTEND;TZID=Europe/Helsinki:20210315T200000
DTSTAMP:20260421T172530
CREATED:20210311T144852Z
LAST-MODIFIED:20210311T144852Z
UID:7838-1615831200-1615838400@kotikirkko.fi
SUMMARY:Ma 15.3. klo 18.00 Naisten pienryhmä
DESCRIPTION:Ma 15.3. klo 18.00 Naisten pienryhmä. \nIlmoittaudu mukaan Heidille.
URL:https://kotikirkko.fi/ohjelma/ma-15-3-klo-18-00-naisten-pienryhma/
END:VEVENT
BEGIN:VEVENT
DTSTART;TZID=Europe/Helsinki:20210316T180000
DTEND;TZID=Europe/Helsinki:20210316T184500
DTSTAMP:20260421T172530
CREATED:20210312T134857Z
LAST-MODIFIED:20210312T135150Z
UID:7862-1615917600-1615920300@kotikirkko.fi
SUMMARY:Ti 16.3. klo 18 Raamattuilta\, Live-stream
DESCRIPTION:Ti 16.3. klo 18 Raamattuilta\, Live-stream \n1. Kor 1. luku  Hengellisen kasvun välineitä: Yksimielisyys ja ristin pahennus\nRiihimäen Kotikirkon Raamattuilta korinttolaiskirjeestä. Videolla ovat mukana Oitin Ystäväkeitaan työn vetäjä Erkki Karvanen ja Seppo Huhdanpää\, joka esittää striimissä myös oman laulunsa.
URL:https://kotikirkko.fi/ohjelma/ti-16-3-klo-18-raamattuilta-live-stream/
END:VEVENT
BEGIN:VEVENT
DTSTART;TZID=Europe/Helsinki:20210319T190000
DTEND;TZID=Europe/Helsinki:20210319T230000
DTSTAMP:20260421T172530
CREATED:20210311T144707Z
LAST-MODIFIED:20210311T144707Z
UID:7835-1616180400-1616194800@kotikirkko.fi
SUMMARY:Pe 19.3. klo 19.00 Nuorten pienryhmät
DESCRIPTION:Pe 19.3. klo 19.00 Nuorten pienryhmät.  \nIlmoittaudu Heidille 050 4709970
URL:https://kotikirkko.fi/ohjelma/pe-19-3-klo-19-00-nuorten-pienryhmat/
END:VEVENT
BEGIN:VEVENT
DTSTART;TZID=Europe/Helsinki:20210321T110000
DTEND;TZID=Europe/Helsinki:20210321T120000
DTSTAMP:20260421T172530
CREATED:20210312T133710Z
LAST-MODIFIED:20210312T133821Z
UID:7851-1616324400-1616328000@kotikirkko.fi
SUMMARY:Su 21.3. 11.00	#Reset-teemajumalanpalvelus
DESCRIPTION:Su 21.3. 11.00	#Reset-teemajumalanpalvelus\, Vesa Saukkonen\, Ari ja Erja Juntunen\, ResetBand
URL:https://kotikirkko.fi/ohjelma/su-21-3-11-00reset-teemajumalanpalvelus/
END:VEVENT
BEGIN:VEVENT
DTSTART;TZID=Europe/Helsinki:20210323T180000
DTEND;TZID=Europe/Helsinki:20210323T193000
DTSTAMP:20260421T172530
CREATED:20210311T145019Z
LAST-MODIFIED:20210311T145019Z
UID:7841-1616522400-1616527800@kotikirkko.fi
SUMMARY:Ti 23.3. klo 18.00 Varkkikerho
DESCRIPTION:Ti 23.3. klo 18.00 Varkkikerho
URL:https://kotikirkko.fi/ohjelma/ti-23-3-klo-18-00-varkkikerho/
END:VEVENT
BEGIN:VEVENT
DTSTART;TZID=Europe/Helsinki:20210326T190000
DTEND;TZID=Europe/Helsinki:20210326T230000
DTSTAMP:20260421T172530
CREATED:20210311T145156Z
LAST-MODIFIED:20210311T145156Z
UID:7844-1616785200-1616799600@kotikirkko.fi
SUMMARY:Pe 26.3. klo 19.00 Nuorten pienryhmät
DESCRIPTION:Pe 26.3. klo 19.00 Nuorten pienryhmät. \nIlmoittaudu mukaan Heidille.
URL:https://kotikirkko.fi/ohjelma/pe-26-3-klo-19-00-nuorten-pienryhmat/
END:VEVENT
BEGIN:VEVENT
DTSTART;TZID=Europe/Helsinki:20210328T180000
DTEND;TZID=Europe/Helsinki:20210328T190000
DTSTAMP:20260421T172530
CREATED:20210312T133947Z
LAST-MODIFIED:20210328T102736Z
UID:7854-1616954400-1616958000@kotikirkko.fi
SUMMARY:Su 28.3. 18.00 Jumalanpalvelus
DESCRIPTION:Su 28.3. 18.00 Jumalanpalvelus\, Henry ja Sanna Hedman
URL:https://kotikirkko.fi/ohjelma/su-28-3-11-00jumalanpalvelus/
END:VEVENT
BEGIN:VEVENT
DTSTART;TZID=Europe/Helsinki:20210330T180000
DTEND;TZID=Europe/Helsinki:20210330T183000
DTSTAMP:20260421T172530
CREATED:20210329T144236Z
LAST-MODIFIED:20210329T144316Z
UID:7900-1617127200-1617129000@kotikirkko.fi
SUMMARY:Ti 30.3. klo 18.00 Raamattuilta
DESCRIPTION:Ti 30.3. klo 18.00 Raamattuilta\, 1. Kor. toinen luku\, Erkki Karvanen ja Seppo Huhdanpää
URL:https://kotikirkko.fi/ohjelma/ti-30-3-klo-18-00-raamattuilta/
END:VEVENT
BEGIN:VEVENT
DTSTART;TZID=Europe/Helsinki:20210401T180000
DTEND;TZID=Europe/Helsinki:20210401T184500
DTSTAMP:20260421T172530
CREATED:20210329T144532Z
LAST-MODIFIED:20210329T144537Z
UID:7903-1617300000-1617302700@kotikirkko.fi
SUMMARY:1.4. klo 18.00 Toivon torstai-ilta
DESCRIPTION:1.4. klo 18.00 Toivon torstai-ilta\, Risto Ropo\, YouTube Live-stream
URL:https://kotikirkko.fi/ohjelma/1-4-klo-18-00-toivon-torstai-ilta/
END:VEVENT
BEGIN:VEVENT
DTSTART;TZID=Europe/Helsinki:20210404T110000
DTEND;TZID=Europe/Helsinki:20210404T120000
DTSTAMP:20260421T172530
CREATED:20210312T134140Z
LAST-MODIFIED:20210329T144050Z
UID:7857-1617534000-1617537600@kotikirkko.fi
SUMMARY:Su 4.4. 11.00	Jumalanpalvelus ja kotiehtoollinen nuorten johdolla
DESCRIPTION:Su 4.4. 11.00	Jumalanpalvelus ja kotiehtoollinen nuorten johdolla\, Heidi Antinsalo\, musiikki Samuel Heikkinen
URL:https://kotikirkko.fi/ohjelma/su-4-4-11-00jumalanpalvelus-ja-kotiehtoollinen-nuorten-johdolla/
END:VEVENT
BEGIN:VEVENT
DTSTART;TZID=Europe/Helsinki:20210406T180000
DTEND;TZID=Europe/Helsinki:20210406T193000
DTSTAMP:20260421T172530
CREATED:20210406T052614Z
LAST-MODIFIED:20210406T052614Z
UID:7940-1617732000-1617737400@kotikirkko.fi
SUMMARY:Ti 6.4. klo 18.00 Varkkikerho
DESCRIPTION:Ti 6.4. klo 18.00 Varkkikerho alakerrassa\, \npelejä\, leikkejä ym 9-13-vuotiaille.
URL:https://kotikirkko.fi/ohjelma/ti-6-4-klo-18-00-varkkikerho/
END:VEVENT
BEGIN:VEVENT
DTSTART;TZID=Europe/Helsinki:20210409T190000
DTEND;TZID=Europe/Helsinki:20210409T230000
DTSTAMP:20260421T172530
CREATED:20210406T051243Z
LAST-MODIFIED:20210406T051304Z
UID:7927-1617994800-1618009200@kotikirkko.fi
SUMMARY:Pe 9.4. klo 19.00 Nuorten pienryhmät
DESCRIPTION:Pe 9.4. klo 19.00 Nuorten pienryhmät. \nIlmoittaudu mukaan Heidille 050 4709970
URL:https://kotikirkko.fi/ohjelma/pe-9-4-klo-19-00-nuorten-pienryhmat/
END:VEVENT
BEGIN:VEVENT
DTSTART;TZID=Europe/Helsinki:20210411T110000
DTEND;TZID=Europe/Helsinki:20210411T120000
DTSTAMP:20260421T172530
CREATED:20210329T144717Z
LAST-MODIFIED:20210329T144813Z
UID:7906-1618138800-1618142400@kotikirkko.fi
SUMMARY:Su 11.4. klo 11.00 Jumalanpalvelus
DESCRIPTION:Su 11.4. klo 11.00 Jumalanpalvelus\, Pirjo Perttu\, Heidi Antinsalo\, musiikki Veijo Heikkinen
URL:https://kotikirkko.fi/ohjelma/su-11-4-klo-11-00-jumalanpalvelus/
END:VEVENT
BEGIN:VEVENT
DTSTART;TZID=Europe/Helsinki:20210413T180000
DTEND;TZID=Europe/Helsinki:20210413T190000
DTSTAMP:20260421T172530
CREATED:20210410T070329Z
LAST-MODIFIED:20210410T070405Z
UID:7951-1618336800-1618340400@kotikirkko.fi
SUMMARY:Ti 13.4. klo 18 Raamattuilta #3
DESCRIPTION:Ti 13.4. klo 18 Raamattuilta #3 – 1. Kor. kolmas luku\, Erkki Karvanen\, Seppo Huhdanpää ja Pentti Toikkanen
URL:https://kotikirkko.fi/ohjelma/ti-13-4-klo-18-raamattuilta-3/
END:VEVENT
BEGIN:VEVENT
DTSTART;TZID=Europe/Helsinki:20210416T190000
DTEND;TZID=Europe/Helsinki:20210416T230000
DTSTAMP:20260421T172530
CREATED:20210406T051603Z
LAST-MODIFIED:20210406T051603Z
UID:7931-1618599600-1618614000@kotikirkko.fi
SUMMARY:Pe 16.4. klo 19.00 Nuorten pienryhmät
DESCRIPTION:Pe 16.4. klo 19.00 Nuorten pienryhmät. \nIlmoittaudu mukaan Heidille 050 4709970
URL:https://kotikirkko.fi/ohjelma/pe-16-4-klo-19-00-nuorten-pienryhmat/
END:VEVENT
BEGIN:VEVENT
DTSTART;TZID=Europe/Helsinki:20210418T110000
DTEND;TZID=Europe/Helsinki:20210418T120000
DTSTAMP:20260421T172530
CREATED:20210329T144926Z
LAST-MODIFIED:20210410T070127Z
UID:7911-1618743600-1618747200@kotikirkko.fi
SUMMARY:Su 18.4. klo 11.00 Jumalanpalvelus
DESCRIPTION:Su 18.4. klo 11.00 Jumalanpalvelus\, Minna Mantila\, Hannele Saari\, musiikki Liisa Nevalainen
URL:https://kotikirkko.fi/ohjelma/su-18-4-klo-11-00-jumalanpalvelus/
END:VEVENT
BEGIN:VEVENT
DTSTART;TZID=Europe/Helsinki:20210420T180000
DTEND;TZID=Europe/Helsinki:20210420T193000
DTSTAMP:20260421T172530
CREATED:20210406T052747Z
LAST-MODIFIED:20210406T052747Z
UID:7943-1618941600-1618947000@kotikirkko.fi
SUMMARY:Ti 20.4. klo 18.00 Varkkikerho
DESCRIPTION:Ti 20.4. klo 18.00 Varkkikerho alakerrassa\, \npelejä\, leikkejä ym 9-13-vuotiaille.
URL:https://kotikirkko.fi/ohjelma/ti-20-4-klo-18-00-varkkikerho/
END:VEVENT
END:VCALENDAR