BEGIN:VCALENDAR
VERSION:2.0
PRODID:-//Riihimäen Kotikirkko - ECPv6.15.20//NONSGML v1.0//EN
CALSCALE:GREGORIAN
METHOD:PUBLISH
X-WR-CALNAME:Riihimäen Kotikirkko
X-ORIGINAL-URL:https://kotikirkko.fi
X-WR-CALDESC:Tapahtumat Riihimäen Kotikirkko
REFRESH-INTERVAL;VALUE=DURATION:PT1H
X-Robots-Tag:noindex
X-PUBLISHED-TTL:PT1H
BEGIN:VTIMEZONE
TZID:Europe/Helsinki
BEGIN:DAYLIGHT
TZOFFSETFROM:+0200
TZOFFSETTO:+0300
TZNAME:EEST
DTSTART:20210328T010000
END:DAYLIGHT
BEGIN:STANDARD
TZOFFSETFROM:+0300
TZOFFSETTO:+0200
TZNAME:EET
DTSTART:20211031T010000
END:STANDARD
BEGIN:DAYLIGHT
TZOFFSETFROM:+0200
TZOFFSETTO:+0300
TZNAME:EEST
DTSTART:20220327T010000
END:DAYLIGHT
BEGIN:STANDARD
TZOFFSETFROM:+0300
TZOFFSETTO:+0200
TZNAME:EET
DTSTART:20221030T010000
END:STANDARD
BEGIN:DAYLIGHT
TZOFFSETFROM:+0200
TZOFFSETTO:+0300
TZNAME:EEST
DTSTART:20230326T010000
END:DAYLIGHT
BEGIN:STANDARD
TZOFFSETFROM:+0300
TZOFFSETTO:+0200
TZNAME:EET
DTSTART:20231029T010000
END:STANDARD
END:VTIMEZONE
BEGIN:VEVENT
DTSTART;TZID=Europe/Helsinki:20221102T180000
DTEND;TZID=Europe/Helsinki:20221102T193000
DTSTAMP:20260419T230439
CREATED:20220830T061857Z
LAST-MODIFIED:20221027T073751Z
UID:10482-1667412000-1667417400@kotikirkko.fi
SUMMARY:Ke 2.11. 18.00 Rukousilta
DESCRIPTION:Ke 2.11. 18.00 Rukousilta\, Allani Rantasalo
URL:https://kotikirkko.fi/ohjelma/ke-2-11-18-00-rukousilta/
END:VEVENT
BEGIN:VEVENT
DTSTART;TZID=Europe/Helsinki:20221104T190000
DTEND;TZID=Europe/Helsinki:20221104T230000
DTSTAMP:20260419T230439
CREATED:20220912T065947Z
LAST-MODIFIED:20220912T065947Z
UID:10612-1667588400-1667602800@kotikirkko.fi
SUMMARY:Pe 4.11. klo 19.00 Nuortenilta
DESCRIPTION:Pe 4.11. klo 19.00 Nuortenilta Kotikirkolla
URL:https://kotikirkko.fi/ohjelma/pe-4-11-klo-19-00-nuortenilta/
END:VEVENT
BEGIN:VEVENT
DTSTART;TZID=Europe/Helsinki:20221106T160000
DTEND;TZID=Europe/Helsinki:20221106T173000
DTSTAMP:20260419T230439
CREATED:20220816T123632Z
LAST-MODIFIED:20221105T140406Z
UID:10376-1667750400-1667755800@kotikirkko.fi
SUMMARY:Su 6.11. 16.00	Perhe- ja ehtoollisjuhla
DESCRIPTION:Su 6.11. 16.00 Perhe- ja ehtoollisjuhla\, Seppo Kaski\, Ari Juntunen\, #ResetBand\, pyhäkoulu\, kahvitarjoilu
URL:https://kotikirkko.fi/ohjelma/su-6-11-16-00perhejumalanpalvelus-ja-ehtoollinen/
END:VEVENT
BEGIN:VEVENT
DTSTART;TZID=Europe/Helsinki:20221108T180000
DTEND;TZID=Europe/Helsinki:20221108T193000
DTSTAMP:20260419T230439
CREATED:20220912T071801Z
LAST-MODIFIED:20220912T071801Z
UID:10638-1667930400-1667935800@kotikirkko.fi
SUMMARY:Ti 8.11. klo 18 Varkkikerho
DESCRIPTION:Ti 8.11. klo 18 Varkkikerho Kotikirkolla
URL:https://kotikirkko.fi/ohjelma/ti-11-10-klo-18-varkkikerho-2-2-2/
END:VEVENT
BEGIN:VEVENT
DTSTART;TZID=Europe/Helsinki:20221109T180000
DTEND;TZID=Europe/Helsinki:20221109T193000
DTSTAMP:20260419T230439
CREATED:20220830T062025Z
LAST-MODIFIED:20221027T074729Z
UID:10485-1668016800-1668022200@kotikirkko.fi
SUMMARY:Ke 9.11. 18.00 Rukousilta
DESCRIPTION:Ke 9.11. 18.00 Riihimäen Kotikirkko -yhdistys ry:n syyskokous\, Timo Mantila
URL:https://kotikirkko.fi/ohjelma/ke-9-11-18-00-rukousilta/
END:VEVENT
BEGIN:VEVENT
DTSTART;TZID=Europe/Helsinki:20221111T190000
DTEND;TZID=Europe/Helsinki:20221111T230000
DTSTAMP:20260419T230439
CREATED:20220912T070031Z
LAST-MODIFIED:20220912T070031Z
UID:10615-1668193200-1668207600@kotikirkko.fi
SUMMARY:Pe 11.11. klo 19.00 Nuortenilta
DESCRIPTION:Pe 11.11. klo 19.00 Nuortenilta Kotikirkolla
URL:https://kotikirkko.fi/ohjelma/pe-4-11-klo-19-00-nuortenilta-2/
END:VEVENT
BEGIN:VEVENT
DTSTART;TZID=Europe/Helsinki:20221113T160000
DTEND;TZID=Europe/Helsinki:20221113T173000
DTSTAMP:20260419T230439
CREATED:20220830T070829Z
LAST-MODIFIED:20221113T065321Z
UID:10503-1668355200-1668360600@kotikirkko.fi
SUMMARY:Su 13.11. 16.00 Yhteisöilta
DESCRIPTION:Su 13.11. 16.00 Yhteisöilta\, Allani Rantasalo & Tiimi\, Henkka Nyman\, Robert Berg ja Risto Ropo
URL:https://kotikirkko.fi/ohjelma/su-13-11-16-00-yhteisoilta/
END:VEVENT
BEGIN:VEVENT
DTSTART;TZID=Europe/Helsinki:20221116T180000
DTEND;TZID=Europe/Helsinki:20221116T193000
DTSTAMP:20260419T230439
CREATED:20220830T062133Z
LAST-MODIFIED:20221027T074830Z
UID:10488-1668621600-1668627000@kotikirkko.fi
SUMMARY:Ke 16.11. 18.00 Rukousilta
DESCRIPTION:Ke 16.11. 18.00 Rukousilta\, Mikko ja Minna Ilomäki
URL:https://kotikirkko.fi/ohjelma/ke-16-11-18-00-rukousilta/
END:VEVENT
BEGIN:VEVENT
DTSTART;TZID=Europe/Helsinki:20221118T190000
DTEND;TZID=Europe/Helsinki:20221118T230000
DTSTAMP:20260419T230439
CREATED:20220912T070310Z
LAST-MODIFIED:20220912T070310Z
UID:10618-1668798000-1668812400@kotikirkko.fi
SUMMARY:Pe 18.11. klo 19.00 Nuorten tapahtuma
DESCRIPTION:Pe 18.11. klo 19.00 Nuorten tapahtuma\, Maata Näkyvissä-festarit
URL:https://kotikirkko.fi/ohjelma/pe-4-11-klo-19-00-nuortenilta-2-2/
END:VEVENT
BEGIN:VEVENT
DTSTART;TZID=Europe/Helsinki:20221120T110000
DTEND;TZID=Europe/Helsinki:20221120T123000
DTSTAMP:20260419T230439
CREATED:20220830T071338Z
LAST-MODIFIED:20220830T071355Z
UID:10509-1668942000-1668947400@kotikirkko.fi
SUMMARY:Su 20.11. 11.00 Jumalanpalvelus
DESCRIPTION:Su 20.11. 11.00 Jumalanpalvelus\, Mari Palomäki\, Timo Mantila
URL:https://kotikirkko.fi/ohjelma/su-20-11-11-00-jumalanpalvelus/
END:VEVENT
BEGIN:VEVENT
DTSTART;TZID=Europe/Helsinki:20221122T180000
DTEND;TZID=Europe/Helsinki:20221122T193000
DTSTAMP:20260419T230439
CREATED:20220912T071844Z
LAST-MODIFIED:20220912T071844Z
UID:10641-1669140000-1669145400@kotikirkko.fi
SUMMARY:Ti 22.11. klo 18 Varkkikerho
DESCRIPTION:Ti 22.11. klo 18 Varkkikerho Kotikirkolla
URL:https://kotikirkko.fi/ohjelma/ti-11-10-klo-18-varkkikerho-2-2-2-2/
END:VEVENT
BEGIN:VEVENT
DTSTART;TZID=Europe/Helsinki:20221123T180000
DTEND;TZID=Europe/Helsinki:20221123T193000
DTSTAMP:20260419T230439
CREATED:20220830T065902Z
LAST-MODIFIED:20221121T074626Z
UID:10493-1669226400-1669231800@kotikirkko.fi
SUMMARY:Ke 23.11. 18.00 Rukousilta
DESCRIPTION:Ke 23.11. 18.00 Rukousilta\, Nikolas Hedman\, Heidi Antinsalo
URL:https://kotikirkko.fi/ohjelma/ke-23-11-18-00-rukousilta/
END:VEVENT
BEGIN:VEVENT
DTSTART;TZID=Europe/Helsinki:20221125T190000
DTEND;TZID=Europe/Helsinki:20221125T230000
DTSTAMP:20260419T230439
CREATED:20220912T070350Z
LAST-MODIFIED:20221125T112106Z
UID:10621-1669402800-1669417200@kotikirkko.fi
SUMMARY:Pe 25.11. klo 20.00 Nuortenilta
DESCRIPTION:Pe 25.11. klo 18.00 Joulutapahtuma Vanhalla torilla\, jonka jälkeen klo 20.00 Nuortenilta
URL:https://kotikirkko.fi/ohjelma/pe-4-11-klo-19-00-nuortenilta-2-2-2/
END:VEVENT
BEGIN:VEVENT
DTSTART;TZID=Europe/Helsinki:20221127T160000
DTEND;TZID=Europe/Helsinki:20221127T173000
DTSTAMP:20260419T230439
CREATED:20220830T071749Z
LAST-MODIFIED:20221027T074349Z
UID:10512-1669564800-1669570200@kotikirkko.fi
SUMMARY:Su 27.11. 16.00 Matinsalin musiikki-ilta
DESCRIPTION:Su 27.11. 16.00 Matinsalin musiikki-ilta\, Jaana Pöllänen & Ville Uusitalo \n \n 
URL:https://kotikirkko.fi/ohjelma/su-16-10-16-00-matinsalin-musiikki-ilta/
END:VEVENT
BEGIN:VEVENT
DTSTART;TZID=Europe/Helsinki:20221130T180000
DTEND;TZID=Europe/Helsinki:20221130T193000
DTSTAMP:20260419T230439
CREATED:20220830T071034Z
LAST-MODIFIED:20221027T075307Z
UID:10506-1669831200-1669836600@kotikirkko.fi
SUMMARY:Ke 30.11. 18.00 Rukousilta
DESCRIPTION:Ke 30.11. 18.00 Rukousilta\, Jukka ja Paula Nummikoski
URL:https://kotikirkko.fi/ohjelma/ke-30-11-18-00-rukousilta-2/
END:VEVENT
END:VCALENDAR