BEGIN:VCALENDAR
VERSION:2.0
PRODID:-//Riihimäen Kotikirkko - ECPv6.15.20//NONSGML v1.0//EN
CALSCALE:GREGORIAN
METHOD:PUBLISH
X-ORIGINAL-URL:https://kotikirkko.fi
X-WR-CALDESC:Tapahtumat Riihimäen Kotikirkko
REFRESH-INTERVAL;VALUE=DURATION:PT1H
X-Robots-Tag:noindex
X-PUBLISHED-TTL:PT1H
BEGIN:VTIMEZONE
TZID:Europe/Helsinki
BEGIN:DAYLIGHT
TZOFFSETFROM:+0200
TZOFFSETTO:+0300
TZNAME:EEST
DTSTART:20210328T010000
END:DAYLIGHT
BEGIN:STANDARD
TZOFFSETFROM:+0300
TZOFFSETTO:+0200
TZNAME:EET
DTSTART:20211031T010000
END:STANDARD
BEGIN:DAYLIGHT
TZOFFSETFROM:+0200
TZOFFSETTO:+0300
TZNAME:EEST
DTSTART:20220327T010000
END:DAYLIGHT
BEGIN:STANDARD
TZOFFSETFROM:+0300
TZOFFSETTO:+0200
TZNAME:EET
DTSTART:20221030T010000
END:STANDARD
BEGIN:DAYLIGHT
TZOFFSETFROM:+0200
TZOFFSETTO:+0300
TZNAME:EEST
DTSTART:20230326T010000
END:DAYLIGHT
BEGIN:STANDARD
TZOFFSETFROM:+0300
TZOFFSETTO:+0200
TZNAME:EET
DTSTART:20231029T010000
END:STANDARD
END:VTIMEZONE
BEGIN:VEVENT
DTSTART;TZID=Europe/Helsinki:20220201T180000
DTEND;TZID=Europe/Helsinki:20220201T193000
DTSTAMP:20260420T170627
CREATED:20220120T210635Z
LAST-MODIFIED:20220120T210635Z
UID:9270-1643738400-1643743800@kotikirkko.fi
SUMMARY:Ti 1.2. klo 18.00 Varkkikerho
DESCRIPTION:Ti 1.2. klo 18.00 varkkikerho Kotikirkon alakerrassa
URL:https://kotikirkko.fi/ohjelma/ti-1-2-klo-18-00-varkkikerho/
END:VEVENT
BEGIN:VEVENT
DTSTART;TZID=Europe/Helsinki:20220202T180000
DTEND;TZID=Europe/Helsinki:20220202T193000
DTSTAMP:20260420T170627
CREATED:20220120T145344Z
LAST-MODIFIED:20220120T145344Z
UID:9238-1643824800-1643830200@kotikirkko.fi
SUMMARY:Keskiviikon rukousillat Kotikirkolla kahdessa 10 hengen ryhmässä 23.2. saakka. Ilmoittaudu tekstiviestillä puh. 0400 787742 (Seppo Kaski)
DESCRIPTION:Keskiviikon rukousillat Kotikirkolla kahdessa 10 hengen ryhmässä 23.2. saakka. Ilmoittaudu tekstiviestillä puh. 0400 787742 (Seppo Kaski).
URL:https://kotikirkko.fi/ohjelma/keskiviikon-rukousillat-kotikirkolla-kahdessa-10-hengen-ryhmassa-23-2-saakka-ilmoittaudu-tekstiviestilla-puh-0400-787742-seppo-kaski/
END:VEVENT
BEGIN:VEVENT
DTSTART;TZID=Europe/Helsinki:20220204T190000
DTEND;TZID=Europe/Helsinki:20220204T230000
DTSTAMP:20260420T170627
CREATED:20211228T104841Z
LAST-MODIFIED:20211228T104841Z
UID:9164-1644001200-1644015600@kotikirkko.fi
SUMMARY:Pe 4.2. klo 19.00 Nuortenilta
DESCRIPTION:Pe 4.2. klo 19.00 Nuortenilta Lisätiedot Heidi 050 4709970
URL:https://kotikirkko.fi/ohjelma/pe-4-2-klo-19-00-nuortenilta/
END:VEVENT
BEGIN:VEVENT
DTSTART;TZID=Europe/Helsinki:20220206T110000
DTEND;TZID=Europe/Helsinki:20220206T123000
DTSTAMP:20260420T170627
CREATED:20211222T090927Z
LAST-MODIFIED:20220202T082042Z
UID:9136-1644145200-1644150600@kotikirkko.fi
SUMMARY:Su 6.2. klo 11 Elämäntarinoita ja muusiikkia\, kotiehtoollinen
DESCRIPTION:Su 6.2. klo 11 Elämäntarinoita ja muusiikkia\, kotiehtoollinen. Haastattelussa Elina\, Rebekka ja Voitto\, loppusanat Seppo Kaski. Musiikki Virpi Lyytikäinen
URL:https://kotikirkko.fi/ohjelma/su-6-2-11-00-ehtoollisjuhla/
END:VEVENT
BEGIN:VEVENT
DTSTART;TZID=Europe/Helsinki:20220208T180000
DTEND;TZID=Europe/Helsinki:20220208T193000
DTSTAMP:20260420T170627
CREATED:20220120T210756Z
LAST-MODIFIED:20220120T210756Z
UID:9273-1644343200-1644348600@kotikirkko.fi
SUMMARY:Ti 8.2. klo 18.00 Varkkikerho
DESCRIPTION:Ti 8.2. klo 18.00 varkkikerho Kotikirkon alakerrassa
URL:https://kotikirkko.fi/ohjelma/ti-8-2-klo-18-00-varkkikerho/
END:VEVENT
BEGIN:VEVENT
DTSTART;TZID=Europe/Helsinki:20220209T180000
DTEND;TZID=Europe/Helsinki:20220209T193000
DTSTAMP:20260420T170627
CREATED:20220120T134735Z
LAST-MODIFIED:20220120T145613Z
UID:9216-1644429600-1644435000@kotikirkko.fi
SUMMARY:Keskiviikon rukousillat Kotikirkolla kahdessa 10 hengen ryhmässä 23.2. saakka. Ilmoittaudu tekstiviestillä puh. 0400 787742 (Seppo Kaski)
DESCRIPTION:Keskiviikon rukousillat Kotikirkolla kahdessa 10 hengen ryhmässä 23.2. saakka. Ilmoittaudu tekstiviestillä puh. 0400 787742 (Seppo Kaski)
URL:https://kotikirkko.fi/ohjelma/keskiviikon-rukousillat-kotikirkolla-kahdessa-10-hengen-ryhmassa-ilmoittaudu-tekstiviestilla-puh-0400-787742-seppo-kaski/
END:VEVENT
BEGIN:VEVENT
DTSTART;TZID=Europe/Helsinki:20220211T190000
DTEND;TZID=Europe/Helsinki:20220211T230000
DTSTAMP:20260420T170627
CREATED:20220120T205935Z
LAST-MODIFIED:20220120T205935Z
UID:9258-1644606000-1644620400@kotikirkko.fi
SUMMARY:Pe 11.2. klo 19.00 Nuortenilta
DESCRIPTION:Pe 11.2. klo 19.00 Nuortenilta Lisätiedot Heidi 050 4709970
URL:https://kotikirkko.fi/ohjelma/pe-11-2-klo-19-00-nuortenilta/
END:VEVENT
BEGIN:VEVENT
DTSTART;TZID=Europe/Helsinki:20220213T110000
DTEND;TZID=Europe/Helsinki:20220213T123000
DTSTAMP:20260420T170627
CREATED:20220120T135338Z
LAST-MODIFIED:20220120T135338Z
UID:9223-1644750000-1644755400@kotikirkko.fi
SUMMARY:Su 13.2. 11.00	Lähetysjumalanpalvelus Israel-teemalla
DESCRIPTION:Su 13.2. 11.00	Lähetysjumalanpalvelus Israel-teemalla\, Anja Kolehmainen\, Pirjo Perttu\, musiikki Veijo\, Seppo\, Rufina ja Anne
URL:https://kotikirkko.fi/ohjelma/su-13-2-11-00lahetysjumalanpalvelus-israel-teemalla/
END:VEVENT
BEGIN:VEVENT
DTSTART;TZID=Europe/Helsinki:20220215T180000
DTEND;TZID=Europe/Helsinki:20220215T193000
DTSTAMP:20260420T170627
CREATED:20220120T210939Z
LAST-MODIFIED:20220120T211023Z
UID:9276-1644948000-1644953400@kotikirkko.fi
SUMMARY:Ti 15.2. klo 18.00 Varkkikerho
DESCRIPTION:Ti 15.2. klo 18.00 varkkikerho Kotikirkon alakerrassa
URL:https://kotikirkko.fi/ohjelma/ti-15-2-klo-18-00-varkkikerho/
END:VEVENT
BEGIN:VEVENT
DTSTART;TZID=Europe/Helsinki:20220216T180000
DTEND;TZID=Europe/Helsinki:20220216T193000
DTSTAMP:20260420T170627
CREATED:20220120T145505Z
LAST-MODIFIED:20220120T145505Z
UID:9241-1645034400-1645039800@kotikirkko.fi
SUMMARY:Keskiviikon rukousillat Kotikirkolla kahdessa 10 hengen ryhmässä 23.2. saakka. Ilmoittaudu tekstiviestillä puh. 0400 787742 (Seppo Kaski)
DESCRIPTION:Keskiviikon rukousillat Kotikirkolla kahdessa 10 hengen ryhmässä 23.2. saakka. Ilmoittaudu tekstiviestillä puh. 0400 787742 (Seppo Kaski)
URL:https://kotikirkko.fi/ohjelma/keskiviikon-rukousillat-kotikirkolla-kahdessa-10-hengen-ryhmassa-23-2-saakka-ilmoittaudu-tekstiviestilla-puh-0400-787742-seppo-kaski-2/
END:VEVENT
BEGIN:VEVENT
DTSTART;TZID=Europe/Helsinki:20220218T190000
DTEND;TZID=Europe/Helsinki:20220218T230000
DTSTAMP:20260420T170627
CREATED:20220120T210120Z
LAST-MODIFIED:20220216T105000Z
UID:9261-1645210800-1645225200@kotikirkko.fi
SUMMARY:Pe 18.2. klo 19.00 Nuortenilta
DESCRIPTION:Pe 18.2. klo 19.00 Nuortenilta\, jonka jälkeen voi jäädä yöBaseen. Lisätiedot Heidi 050 4709970
URL:https://kotikirkko.fi/ohjelma/pe-18-2-klo-19-00-nuortenilta/
END:VEVENT
BEGIN:VEVENT
DTSTART;TZID=Europe/Helsinki:20220220T160000
DTEND;TZID=Europe/Helsinki:20220220T171500
DTSTAMP:20260420T170627
CREATED:20220120T135605Z
LAST-MODIFIED:20220211T084513Z
UID:9227-1645372800-1645377300@kotikirkko.fi
SUMMARY:Su 20.2. 16.00 Usko ja tiede-seminaari osa 2
DESCRIPTION:Su 20.2. 16.00 Usko ja tiede-seminaari osa 2\, Martin Stenberg\, Erkki Karvanen
URL:https://kotikirkko.fi/ohjelma/su-20-2-16-00-usko-ja-tiede-seminaari-osa-2/
END:VEVENT
BEGIN:VEVENT
DTSTART;TZID=Europe/Helsinki:20220223T180000
DTEND;TZID=Europe/Helsinki:20220223T193000
DTSTAMP:20260420T170627
CREATED:20220120T145712Z
LAST-MODIFIED:20220218T092348Z
UID:9246-1645639200-1645644600@kotikirkko.fi
SUMMARY:Ke 23.2. klo 18 Rukousilta\, Hanna Prinkkilä ja Birgit Ranta\, Viisikielisen lauluja
DESCRIPTION:Ke 23.2. klo 18 Rukousilta\, Hanna Prinkkilä ja Birgit Ranta\, Viisikielisen lauluja laulattaa Anne ja Seppo
URL:https://kotikirkko.fi/ohjelma/keskiviikon-rukousillat-kotikirkolla-kahdessa-10-hengen-ryhmassa-23-2-saakka-ilmoittaudu-tekstiviestilla-puh-0400-787742-seppo-kaski-3/
END:VEVENT
BEGIN:VEVENT
DTSTART;TZID=Europe/Helsinki:20220227T110000
DTEND;TZID=Europe/Helsinki:20220227T123000
DTSTAMP:20260420T170627
CREATED:20220120T135940Z
LAST-MODIFIED:20220220T082128Z
UID:9232-1645959600-1645965000@kotikirkko.fi
SUMMARY:Su 27.2. 11.00 KAN-teemajumalanpalvelus
DESCRIPTION:Su 27.2. 11.00 KAN-teemajumalanpalvelus\, Ari Rautavirta\, Allani Rantasalo\, musiikki Dimitri ja Arja Nyman
URL:https://kotikirkko.fi/ohjelma/su-27-2-11-00-kan-teemajumalanpalvelus/
END:VEVENT
BEGIN:VEVENT
DTSTART;TZID=Europe/Helsinki:20220228T183000
DTEND;TZID=Europe/Helsinki:20220228T200000
DTSTAMP:20260420T170627
CREATED:20220216T105218Z
LAST-MODIFIED:20220216T105218Z
UID:9403-1646073000-1646078400@kotikirkko.fi
SUMMARY:Ma 28.2. klo 18.30 Jippii-kerho
DESCRIPTION:Ma 28.2. klo 18.30 lasten Jippii-kerho Kotikirkolla
URL:https://kotikirkko.fi/ohjelma/ma-28-2-klo-18-30-jippii-kerho/
END:VEVENT
END:VCALENDAR