BEGIN:VCALENDAR
VERSION:2.0
PRODID:-//Riihimäen Kotikirkko - ECPv6.15.20//NONSGML v1.0//EN
CALSCALE:GREGORIAN
METHOD:PUBLISH
X-ORIGINAL-URL:https://kotikirkko.fi
X-WR-CALDESC:Tapahtumat Riihimäen Kotikirkko
REFRESH-INTERVAL;VALUE=DURATION:PT1H
X-Robots-Tag:noindex
X-PUBLISHED-TTL:PT1H
BEGIN:VTIMEZONE
TZID:Europe/Helsinki
BEGIN:DAYLIGHT
TZOFFSETFROM:+0200
TZOFFSETTO:+0300
TZNAME:EEST
DTSTART:20200329T010000
END:DAYLIGHT
BEGIN:STANDARD
TZOFFSETFROM:+0300
TZOFFSETTO:+0200
TZNAME:EET
DTSTART:20201025T010000
END:STANDARD
BEGIN:DAYLIGHT
TZOFFSETFROM:+0200
TZOFFSETTO:+0300
TZNAME:EEST
DTSTART:20210328T010000
END:DAYLIGHT
BEGIN:STANDARD
TZOFFSETFROM:+0300
TZOFFSETTO:+0200
TZNAME:EET
DTSTART:20211031T010000
END:STANDARD
BEGIN:DAYLIGHT
TZOFFSETFROM:+0200
TZOFFSETTO:+0300
TZNAME:EEST
DTSTART:20220327T010000
END:DAYLIGHT
BEGIN:STANDARD
TZOFFSETFROM:+0300
TZOFFSETTO:+0200
TZNAME:EET
DTSTART:20221030T010000
END:STANDARD
END:VTIMEZONE
BEGIN:VEVENT
DTSTART;TZID=Europe/Helsinki:20210502T110000
DTEND;TZID=Europe/Helsinki:20210502T120000
DTSTAMP:20260421T095120
CREATED:20210329T145440Z
LAST-MODIFIED:20210425T040336Z
UID:7917-1619953200-1619956800@kotikirkko.fi
SUMMARY:Su 2.5. klo 11.00 Jumalanpalvelus ja kotiehtoollinen
DESCRIPTION:Su 2.5. klo 11.00 Jumalanpalvelus ja kotiehtoollinen\, Seppo Kaski\, Rebekka Antinsalo\, musiikki Hanna & Anne
URL:https://kotikirkko.fi/ohjelma/su-2-5-klo-11-00-jumalanpalvelus-ja-ehtoollinen/
END:VEVENT
BEGIN:VEVENT
DTSTART;TZID=Europe/Helsinki:20210504T180000
DTEND;TZID=Europe/Helsinki:20210504T193000
DTSTAMP:20260421T095120
CREATED:20210430T114119Z
LAST-MODIFIED:20210430T114119Z
UID:7990-1620151200-1620156600@kotikirkko.fi
SUMMARY:Ti 4.5. klo 18.00 Varkit
DESCRIPTION:Ti 4.5. klo 18.00 Varkkikerho.
URL:https://kotikirkko.fi/ohjelma/ti-4-5-klo-18-00-varkit/
END:VEVENT
BEGIN:VEVENT
DTSTART;TZID=Europe/Helsinki:20210506T180000
DTEND;TZID=Europe/Helsinki:20210506T190000
DTSTAMP:20260421T095120
CREATED:20210503T052753Z
LAST-MODIFIED:20210504T013411Z
UID:7995-1620324000-1620327600@kotikirkko.fi
SUMMARY:6.5. klo 18.00 Toivon tostai-ilta\, YouTube-striimi
DESCRIPTION:6.5. klo 18.00 Toivon tostai-ilta\, Hedmanin sisarukset\, Risto Ropo\, YouTube-striimi
URL:https://kotikirkko.fi/ohjelma/6-5-klo-18-00-toivon-tostai-ilta-youtube-striimi/
END:VEVENT
BEGIN:VEVENT
DTSTART;TZID=Europe/Helsinki:20210507T190000
DTEND;TZID=Europe/Helsinki:20210507T230000
DTSTAMP:20260421T095120
CREATED:20210430T113411Z
LAST-MODIFIED:20210430T113411Z
UID:7978-1620414000-1620428400@kotikirkko.fi
SUMMARY:Pe 7.5. klo 19.00 Nuorten pienryhmät
DESCRIPTION:Pe 7.5. klo 19.00 Nuorten pienryhmät. Ilmoittaudu mukaan Heidille 050 4709970
URL:https://kotikirkko.fi/ohjelma/pe-7-5-klo-19-00-nuorten-pienryhmat/
END:VEVENT
BEGIN:VEVENT
DTSTART;TZID=Europe/Helsinki:20210509T110000
DTEND;TZID=Europe/Helsinki:20210509T120000
DTSTAMP:20260421T095120
CREATED:20210429T131038Z
LAST-MODIFIED:20210429T131038Z
UID:7973-1620558000-1620561600@kotikirkko.fi
SUMMARY:9.5. klo 11.00 Koko perheen äitienpäivän Jumalanpalvelus
DESCRIPTION:9.5. klo 11.00 Koko perheen äitienpäivän Jumalanpalvelus\, mukana Anna ja enkeli (Inka ja Rebekka)
URL:https://kotikirkko.fi/ohjelma/9-5-klo-11-00-koko-perheen-aitienpaivan-jumalanpalvelus/
END:VEVENT
BEGIN:VEVENT
DTSTART;TZID=Europe/Helsinki:20210511T180000
DTEND;TZID=Europe/Helsinki:20210511T190000
DTSTAMP:20260421T095120
CREATED:20210503T054016Z
LAST-MODIFIED:20210503T054016Z
UID:7998-1620756000-1620759600@kotikirkko.fi
SUMMARY:Ti 11.5. klo 18.00 Raamattuilta #5\, YouTube-striimi
DESCRIPTION:Ti 11.5. klo 18.00 Raamattuilta #5\, Pursijärventien laavulla 1. Kor. viidennestä luvusta keskustelevat Erkki Karvanen\, Pentti Toikkanen ja Seppo Huhdanpää
URL:https://kotikirkko.fi/ohjelma/ti-11-5-klo-18-00-raamattuilta-5-youtube-striimi/
END:VEVENT
BEGIN:VEVENT
DTSTART;TZID=Europe/Helsinki:20210514T190000
DTEND;TZID=Europe/Helsinki:20210514T230000
DTSTAMP:20260421T095120
CREATED:20210430T113619Z
LAST-MODIFIED:20210430T113619Z
UID:7981-1621018800-1621033200@kotikirkko.fi
SUMMARY:Pe 14.5. klo 19.00 Nuorten pienryhmät
DESCRIPTION:Pe 14.5. klo 19.00 Nuorten pienryhmät. Ilmoittaudu mukaan Heidille 050 4709970
URL:https://kotikirkko.fi/ohjelma/pe-14-5-klo-19-00-nuorten-pienryhmat/
END:VEVENT
BEGIN:VEVENT
DTSTART;TZID=Europe/Helsinki:20210516T110000
DTEND;TZID=Europe/Helsinki:20210516T121500
DTSTAMP:20260421T095120
CREATED:20210503T055244Z
LAST-MODIFIED:20210503T060014Z
UID:8001-1621162800-1621167300@kotikirkko.fi
SUMMARY:Su 16.5. klo 11.00 Lähetysjumalanpalvelus
DESCRIPTION:Su 16.5. klo 11.00 Lähetysjumalanpalvelus\, Milka Myllynen\, Anna-Liisa Liljefors\, musiikki Erika Gueissaz\, YouTube-live
URL:https://kotikirkko.fi/ohjelma/su-16-5-klo-11-00-lahetysjumalanpalvelus/
END:VEVENT
BEGIN:VEVENT
DTSTART;TZID=Europe/Helsinki:20210521T180000
DTEND;TZID=Europe/Helsinki:20210521T200000
DTSTAMP:20260421T095120
CREATED:20210430T114803Z
LAST-MODIFIED:20210430T114803Z
UID:7992-1621620000-1621627200@kotikirkko.fi
SUMMARY:Pe 21.5 klo 18.00 Varkkiretki
DESCRIPTION:Pe 21.5 klo 18.00 Varkkikerhon kevätkauden päätösretki. Ilmoittaudu mukaan Heidille 050 4709970
URL:https://kotikirkko.fi/ohjelma/pe-21-5-klo-18-00-varkkiretki/
END:VEVENT
BEGIN:VEVENT
DTSTART;TZID=Europe/Helsinki:20210521T190000
DTEND;TZID=Europe/Helsinki:20210521T230000
DTSTAMP:20260421T095120
CREATED:20210430T113835Z
LAST-MODIFIED:20210430T113835Z
UID:7984-1621623600-1621638000@kotikirkko.fi
SUMMARY:Pe 21.5. klo 19.00 Nuorten pienryhmät
DESCRIPTION:Pe 21.5. klo 19.00 Nuorten pienryhmät. Ilmoittaudu mukaan Heidille 050 4709970
URL:https://kotikirkko.fi/ohjelma/pe-21-5-klo-19-00-nuorten-pienryhmat/
END:VEVENT
BEGIN:VEVENT
DTSTART;TZID=Europe/Helsinki:20210523T110000
DTEND;TZID=Europe/Helsinki:20210523T121500
DTSTAMP:20260421T095120
CREATED:20210503T060549Z
LAST-MODIFIED:20210521T123316Z
UID:8009-1621767600-1621772100@kotikirkko.fi
SUMMARY:Su 23.5. klo 11.00 Jumalanpalvelus
DESCRIPTION:Su 23.5. klo 11.00 Jumalanpalvelus\, Heikki Hilvo\, Risto Ropo\, musiikki Samuel Heikkinen ja Tapio Mäenpää\, YouYube-live
URL:https://kotikirkko.fi/ohjelma/su-23-5-klo-11-00-jumalanpalvelus/
END:VEVENT
BEGIN:VEVENT
DTSTART;TZID=Europe/Helsinki:20210525T180000
DTEND;TZID=Europe/Helsinki:20210525T190000
DTSTAMP:20260421T095120
CREATED:20210503T061510Z
LAST-MODIFIED:20210503T061738Z
UID:8016-1621965600-1621969200@kotikirkko.fi
SUMMARY:Ti 25.5. klo 18.00 Raamattuilta #6\, YouTube-striimi
DESCRIPTION:Ti 11.5. klo 18.00 Raamattuilta #6\, Pursijärventien laavulla 1. Kor. kuudennesta luvusta keskustelevat Erkki Karvanen\, Pentti Toikkanen ja Seppo Huhdanpää
URL:https://kotikirkko.fi/ohjelma/ti-25-5-klo-18-00-raamattuilta-6-youtube-striimi/
END:VEVENT
BEGIN:VEVENT
DTSTART;TZID=Europe/Helsinki:20210528T190000
DTEND;TZID=Europe/Helsinki:20210528T230000
DTSTAMP:20260421T095120
CREATED:20210430T113950Z
LAST-MODIFIED:20210430T113950Z
UID:7987-1622228400-1622242800@kotikirkko.fi
SUMMARY:Pe 28.5. klo 19.00 Nuorten pienryhmät
DESCRIPTION:Pe 28.5. klo 19.00 Nuorten pienryhmät. Ilmoittaudu mukaan Heidille 050 4709970
URL:https://kotikirkko.fi/ohjelma/pe-28-5-klo-19-00-nuorten-pienryhmat/
END:VEVENT
BEGIN:VEVENT
DTSTART;TZID=Europe/Helsinki:20210530T160000
DTEND;TZID=Europe/Helsinki:20210530T171500
DTSTAMP:20260421T095120
CREATED:20210503T060925Z
LAST-MODIFIED:20210503T061002Z
UID:8012-1622390400-1622394900@kotikirkko.fi
SUMMARY:Su 30.5. klo 16.00 #Reset-teemajumalanpalvelus
DESCRIPTION:Su 30.5. klo 16.00 #Reset-teemajumalanpalvelus – Riippuvuudet\, Vesa Saukkonen\, #Reset-tiimi\, YouTube-live
URL:https://kotikirkko.fi/ohjelma/su-30-5-klo-16-00-reset-teemajumalanpalvelus/
END:VEVENT
END:VCALENDAR