BEGIN:VCALENDAR
VERSION:2.0
PRODID:-//Riihimäen Kotikirkko - ECPv6.15.20//NONSGML v1.0//EN
CALSCALE:GREGORIAN
METHOD:PUBLISH
X-WR-CALNAME:Riihimäen Kotikirkko
X-ORIGINAL-URL:https://kotikirkko.fi
X-WR-CALDESC:Tapahtumat Riihimäen Kotikirkko
REFRESH-INTERVAL;VALUE=DURATION:PT1H
X-Robots-Tag:noindex
X-PUBLISHED-TTL:PT1H
BEGIN:VTIMEZONE
TZID:Europe/Helsinki
BEGIN:DAYLIGHT
TZOFFSETFROM:+0200
TZOFFSETTO:+0300
TZNAME:EEST
DTSTART:20200329T010000
END:DAYLIGHT
BEGIN:STANDARD
TZOFFSETFROM:+0300
TZOFFSETTO:+0200
TZNAME:EET
DTSTART:20201025T010000
END:STANDARD
BEGIN:DAYLIGHT
TZOFFSETFROM:+0200
TZOFFSETTO:+0300
TZNAME:EEST
DTSTART:20210328T010000
END:DAYLIGHT
BEGIN:STANDARD
TZOFFSETFROM:+0300
TZOFFSETTO:+0200
TZNAME:EET
DTSTART:20211031T010000
END:STANDARD
BEGIN:DAYLIGHT
TZOFFSETFROM:+0200
TZOFFSETTO:+0300
TZNAME:EEST
DTSTART:20220327T010000
END:DAYLIGHT
BEGIN:STANDARD
TZOFFSETFROM:+0300
TZOFFSETTO:+0200
TZNAME:EET
DTSTART:20221030T010000
END:STANDARD
END:VTIMEZONE
BEGIN:VEVENT
DTSTART;TZID=Europe/Helsinki:20210103T110000
DTEND;TZID=Europe/Helsinki:20210103T120000
DTSTAMP:20260421T172513
CREATED:20201228T101516Z
LAST-MODIFIED:20201230T133707Z
UID:7648-1609671600-1609675200@kotikirkko.fi
SUMMARY:Su 3.1. klo 11 Jumalanpalvelus
DESCRIPTION:Su 3.1. klo 11 Jumalanpalvelus striimi\, Seppo Kaski\, musiikki Marika & Anne
URL:https://kotikirkko.fi/ohjelma/su-3-1-klo-11-jumalanpalvelus/
END:VEVENT
BEGIN:VEVENT
DTSTART;TZID=Europe/Helsinki:20210108T190000
DTEND;TZID=Europe/Helsinki:20210108T230000
DTSTAMP:20260421T172513
CREATED:20210106T150325Z
LAST-MODIFIED:20210106T150422Z
UID:7679-1610132400-1610146800@kotikirkko.fi
SUMMARY:Pe 8.1. klo 19.00 Nuorten pienryhmät
DESCRIPTION:Pe 8.1. klo 19.00 Nuorten pienryhmät. Ilmoittaudu mukaan Heidille 050 4709970.
URL:https://kotikirkko.fi/ohjelma/pe-8-1-klo-19-00-nuorten-pienryhmat/
END:VEVENT
BEGIN:VEVENT
DTSTART;TZID=Europe/Helsinki:20210110T110000
DTEND;TZID=Europe/Helsinki:20210110T120000
DTSTAMP:20260421T172513
CREATED:20201230T132413Z
LAST-MODIFIED:20210109T073441Z
UID:7658-1610276400-1610280000@kotikirkko.fi
SUMMARY:Su 10.1. Klo 11.00 Lähetysjumalanpalvelus\, YouTube-live
DESCRIPTION:Su 10.1. Klo 11.00 Lähetysjumalanpalvelus\, Veera ja Daniel Hug\, Anna-Liisa Liljefors\, musiikki Ulla & Hannele\nhttps://youtu.be/fCoWFeDIOgE
URL:https://kotikirkko.fi/ohjelma/su-10-1-klo-11-00-lahetysjumalanpalvelus/
END:VEVENT
BEGIN:VEVENT
DTSTART;TZID=Europe/Helsinki:20210115T190000
DTEND;TZID=Europe/Helsinki:20210115T230000
DTSTAMP:20260421T172513
CREATED:20210114T063338Z
LAST-MODIFIED:20210114T063338Z
UID:7700-1610737200-1610751600@kotikirkko.fi
SUMMARY:Pe 15.1. klo 19.00 Nuorten pienryhmät
DESCRIPTION:Pe 15.1. klo 19.00 Nuorten pienryhmät. Ilmoittaudu mukaan Heidille 050 4709970.
URL:https://kotikirkko.fi/ohjelma/pe-15-1-klo-19-00-nuorten-pienryhmat/
END:VEVENT
BEGIN:VEVENT
DTSTART;TZID=Europe/Helsinki:20210117T110000
DTEND;TZID=Europe/Helsinki:20210117T120000
DTSTAMP:20260421T172513
CREATED:20210111T093314Z
LAST-MODIFIED:20210111T093314Z
UID:7692-1610881200-1610884800@kotikirkko.fi
SUMMARY:Su 17.1. Klo 11.00 Jumalanpalvelus\, YouTube-live
DESCRIPTION:Su 17.1. Klo 11.00 Jumalanpalvelus\, Riihimäen Idäntyön ystävät\, YouTube-live
URL:https://kotikirkko.fi/ohjelma/su-17-1-klo-11-00-jumalanpalvelus-youtube-live/
END:VEVENT
BEGIN:VEVENT
DTSTART;TZID=Europe/Helsinki:20210122T190000
DTEND;TZID=Europe/Helsinki:20210122T230000
DTSTAMP:20260421T172513
CREATED:20210114T063548Z
LAST-MODIFIED:20210114T063548Z
UID:7703-1611342000-1611356400@kotikirkko.fi
SUMMARY:Pe 22.1. klo 19.00 Nuorten pienryhmät
DESCRIPTION:Pe 22.1. klo 19.00 Nuorten pienryhmät. Ilmoittaudu mukaan Heidille 050 4709970.
URL:https://kotikirkko.fi/ohjelma/pe-22-1-klo-19-00-nuorten-pienryhmat/
END:VEVENT
BEGIN:VEVENT
DTSTART;TZID=Europe/Helsinki:20210124T110000
DTEND;TZID=Europe/Helsinki:20210124T120000
DTSTAMP:20260421T172513
CREATED:20210111T093644Z
LAST-MODIFIED:20210117T045416Z
UID:7695-1611486000-1611489600@kotikirkko.fi
SUMMARY:Su 24.1. Klo 11.00 Jumalanpalvelus\, YouTube-live
DESCRIPTION:Su 24.1. Klo 11.00 Jumalanpalvelus\, Jani Rossi\, Seppo Kaski\, Voitto Olkkonen\, musiikki Hanna Sipilä\, YouTube-live
URL:https://kotikirkko.fi/ohjelma/su-24-1-klo-11-00-jumalanpalvelus-youtube-live/
END:VEVENT
BEGIN:VEVENT
DTSTART;TZID=Europe/Helsinki:20210129T190000
DTEND;TZID=Europe/Helsinki:20210129T230000
DTSTAMP:20260421T172513
CREATED:20210114T063717Z
LAST-MODIFIED:20210114T063717Z
UID:7706-1611946800-1611961200@kotikirkko.fi
SUMMARY:Pe 29.1. klo 19.00 Nuorten pienryhmät
DESCRIPTION:Pe 29.1. klo 19.00 Nuorten pienryhmät. Ilmoittaudu mukaan Heidille 050 4709970.
URL:https://kotikirkko.fi/ohjelma/pe-29-1-klo-19-00-nuorten-pienryhmat/
END:VEVENT
BEGIN:VEVENT
DTSTART;TZID=Europe/Helsinki:20210131T110000
DTEND;TZID=Europe/Helsinki:20210131T123000
DTSTAMP:20260421T172513
CREATED:20210117T045232Z
LAST-MODIFIED:20210125T035505Z
UID:7714-1612090800-1612096200@kotikirkko.fi
SUMMARY:Su 31.1. klo 11.00 Elämä ja Valo-teemajumalanpalvelus\, YouTube-live
DESCRIPTION:Su 31.1. klo 11.00 Elämä ja Valo-teemajumalanpalvelus\, Kyösti Lindeman\, Kyösti Nikkinen\, Henry Hedman\, YouTube-live
URL:https://kotikirkko.fi/ohjelma/su-31-1-klo-11-00-elama-ja-valo-teemajumalanpalvelus-youtube-live/
END:VEVENT
END:VCALENDAR