BEGIN:VCALENDAR
VERSION:2.0
PRODID:-//Riihimäen Kotikirkko - ECPv6.15.20//NONSGML v1.0//EN
CALSCALE:GREGORIAN
METHOD:PUBLISH
X-WR-CALNAME:Riihimäen Kotikirkko
X-ORIGINAL-URL:https://kotikirkko.fi
X-WR-CALDESC:Tapahtumat Riihimäen Kotikirkko
REFRESH-INTERVAL;VALUE=DURATION:PT1H
X-Robots-Tag:noindex
X-PUBLISHED-TTL:PT1H
BEGIN:VTIMEZONE
TZID:Europe/Helsinki
BEGIN:DAYLIGHT
TZOFFSETFROM:+0200
TZOFFSETTO:+0300
TZNAME:EEST
DTSTART:20190331T010000
END:DAYLIGHT
BEGIN:STANDARD
TZOFFSETFROM:+0300
TZOFFSETTO:+0200
TZNAME:EET
DTSTART:20191027T010000
END:STANDARD
BEGIN:DAYLIGHT
TZOFFSETFROM:+0200
TZOFFSETTO:+0300
TZNAME:EEST
DTSTART:20200329T010000
END:DAYLIGHT
BEGIN:STANDARD
TZOFFSETFROM:+0300
TZOFFSETTO:+0200
TZNAME:EET
DTSTART:20201025T010000
END:STANDARD
BEGIN:DAYLIGHT
TZOFFSETFROM:+0200
TZOFFSETTO:+0300
TZNAME:EEST
DTSTART:20210328T010000
END:DAYLIGHT
BEGIN:STANDARD
TZOFFSETFROM:+0300
TZOFFSETTO:+0200
TZNAME:EET
DTSTART:20211031T010000
END:STANDARD
END:VTIMEZONE
BEGIN:VEVENT
DTSTART;TZID=Europe/Helsinki:20201201T180000
DTEND;TZID=Europe/Helsinki:20201201T193000
DTSTAMP:20260421T191740
CREATED:20201110T082048Z
LAST-MODIFIED:20201110T082048Z
UID:7521-1606845600-1606851000@kotikirkko.fi
SUMMARY:Ti 1.12. klo 18.00 Varkkikerho
DESCRIPTION:Ti 1.12. klo 18.00 Varkkikerho\, pikkujoulut
URL:https://kotikirkko.fi/ohjelma/ti-1-12-klo-18-00-varkkikerho/
END:VEVENT
BEGIN:VEVENT
DTSTART;TZID=Europe/Helsinki:20201202T180000
DTEND;TZID=Europe/Helsinki:20201202T193000
DTSTAMP:20260421T191740
CREATED:20201029T093215Z
LAST-MODIFIED:20201130T142131Z
UID:7354-1606932000-1606937400@kotikirkko.fi
SUMMARY:Ke 2.12. Rukousilta on peruutettu
DESCRIPTION:Kotikirkon kaikki kokoustoiminta on peruutettu 1.12.-20.12. väliseksi ajaksi.
URL:https://kotikirkko.fi/ohjelma/ke-2-12-rukousilta/
END:VEVENT
BEGIN:VEVENT
DTSTART;TZID=Europe/Helsinki:20201203T180000
DTEND;TZID=Europe/Helsinki:20201203T193000
DTSTAMP:20260421T191740
CREATED:20201129T081851Z
LAST-MODIFIED:20201130T142238Z
UID:7577-1607018400-1607023800@kotikirkko.fi
SUMMARY:3.12. klo 18.00 Yhteisöilta on peruutettu
DESCRIPTION:Kotikirkon kaikki kokoustoiminta on peruutettu 1.12.-20.12. väliseksi ajaksi.
URL:https://kotikirkko.fi/ohjelma/4-12-klo-18-00-yhteisoilta/
END:VEVENT
BEGIN:VEVENT
DTSTART;TZID=Europe/Helsinki:20201204T190000
DTEND;TZID=Europe/Helsinki:20201204T230000
DTSTAMP:20260421T191740
CREATED:20201110T082429Z
LAST-MODIFIED:20201201T125106Z
UID:7524-1607108400-1607122800@kotikirkko.fi
SUMMARY:Pe 4.12. klo 19.00 Nuorten pienryhmä
DESCRIPTION:Pe 4.12. klo 19.00 Nuorten pienryhmä\, ilmoittaudu etukäteen Heidille (050 4709970)
URL:https://kotikirkko.fi/ohjelma/pe-4-12-klo-19-00-nuortenilta/
END:VEVENT
BEGIN:VEVENT
DTSTART;TZID=Europe/Helsinki:20201205T100000
DTEND;TZID=Europe/Helsinki:20201205T140000
DTSTAMP:20260421T191740
CREATED:20201129T081335Z
LAST-MODIFIED:20201130T142308Z
UID:7568-1607162400-1607176800@kotikirkko.fi
SUMMARY:La 5.12. klo 10-14 Käsityömyyjäiset
DESCRIPTION:La 5.12. klo 10-14 Käsityömyyjäiset
URL:https://kotikirkko.fi/ohjelma/la-5-12-klo-10-14-kasityomyyjaiset/
END:VEVENT
BEGIN:VEVENT
DTSTART;TZID=Europe/Helsinki:20201206T110000
DTEND;TZID=Europe/Helsinki:20201206T123000
DTSTAMP:20260421T191740
CREATED:20201029T092706Z
LAST-MODIFIED:20201130T142540Z
UID:7345-1607252400-1607257800@kotikirkko.fi
SUMMARY:Su 6.12. 11.00 Jumalanpalvelus Live-striiminä
DESCRIPTION:Kotikirkon kaikki kokoustoiminta on peruutettu 1.12.-20.12. väliseksi ajaksi.\nSunnuntain Jumalanpalvelukset striimataan YouTube -kanavalla.\nSu 6.12. 11.00 Jumalanpalvelus Live-striiminä\, Seppo Kaski\, Carola Jarske\, Jarmo Korpilahti\, musiikki Hanna ja Anne.
URL:https://kotikirkko.fi/ohjelma/su-6-12-11-00-jumalanpalvelus-ja-ehtoollinen/
END:VEVENT
BEGIN:VEVENT
DTSTART;TZID=Europe/Helsinki:20201209T180000
DTEND;TZID=Europe/Helsinki:20201209T193000
DTSTAMP:20260421T191740
CREATED:20201029T093317Z
LAST-MODIFIED:20201029T093317Z
UID:7357-1607536800-1607542200@kotikirkko.fi
SUMMARY:Ke 9.12. Rukousilta
DESCRIPTION:Ke 9.12. Rukousilta
URL:https://kotikirkko.fi/ohjelma/ke-9-12-rukousilta/
END:VEVENT
BEGIN:VEVENT
DTSTART;TZID=Europe/Helsinki:20201211T180000
DTEND;TZID=Europe/Helsinki:20201211T230000
DTSTAMP:20260421T191740
CREATED:20201110T082758Z
LAST-MODIFIED:20201201T125215Z
UID:7527-1607709600-1607727600@kotikirkko.fi
SUMMARY:Pe 11.12. klo 19.00 Nuorten pienryhmä
DESCRIPTION:Pe 11.12. klo 19.00 Nuorten pienryhmä\, ilmoittaudu etukäteen Heidille (050 4709970)
URL:https://kotikirkko.fi/ohjelma/pe-11-12-klo-19-00-nuortenilta/
END:VEVENT
BEGIN:VEVENT
DTSTART;TZID=Europe/Helsinki:20201213T110000
DTEND;TZID=Europe/Helsinki:20201213T123000
DTSTAMP:20260421T191740
CREATED:20201029T093821Z
LAST-MODIFIED:20201129T082349Z
UID:7366-1607857200-1607862600@kotikirkko.fi
SUMMARY:Su 13.12. klo 11.00 Lähetysjumalanpalvelus
DESCRIPTION:Su 13.12. klo 11.00 Lähetysjumalanpalvelus\, Pirjo & Jukka Perttu\, musiikki Sari Holmi
URL:https://kotikirkko.fi/ohjelma/su-13-12-klo-11-00-lahetysjumalanpalvelus/
END:VEVENT
BEGIN:VEVENT
DTSTART;TZID=Europe/Helsinki:20201216T180000
DTEND;TZID=Europe/Helsinki:20201216T193000
DTSTAMP:20260421T191740
CREATED:20201029T093417Z
LAST-MODIFIED:20201029T093417Z
UID:7360-1608141600-1608147000@kotikirkko.fi
SUMMARY:Ke 16.12. Rukousilta
DESCRIPTION:Ke 16.12. Rukousilta
URL:https://kotikirkko.fi/ohjelma/ke-16-12-rukousilta/
END:VEVENT
BEGIN:VEVENT
DTSTART;TZID=Europe/Helsinki:20201218T190000
DTEND;TZID=Europe/Helsinki:20201218T230000
DTSTAMP:20260421T191740
CREATED:20201110T082918Z
LAST-MODIFIED:20201201T125402Z
UID:7530-1608318000-1608332400@kotikirkko.fi
SUMMARY:Pe 18.12. klo 19.00 Nuorten pienryhmä
DESCRIPTION:Pe 18.12. klo 19.00 Nuorten pienryhmä\, ilmoittaudu etukäteen Heidille (050 4709970)
URL:https://kotikirkko.fi/ohjelma/pe-18-12-klo-19-00-nuortenilta/
END:VEVENT
BEGIN:VEVENT
DTSTART;TZID=Europe/Helsinki:20201220T160000
DTEND;TZID=Europe/Helsinki:20201220T173000
DTSTAMP:20260421T191740
CREATED:20201029T094558Z
LAST-MODIFIED:20201029T094558Z
UID:7369-1608480000-1608485400@kotikirkko.fi
SUMMARY:Su 20.12. klo 16.00 Seurakunnan joulujuhla
DESCRIPTION:Su 20.12. klo 16.00 Seurakunnan joulujuhla
URL:https://kotikirkko.fi/ohjelma/su-20-12-klo-16-00-seurakunnan-joulujuhla/
END:VEVENT
BEGIN:VEVENT
DTSTART;TZID=Europe/Helsinki:20201227T110000
DTEND;TZID=Europe/Helsinki:20201227T123000
DTSTAMP:20260421T191740
CREATED:20201029T095029Z
LAST-MODIFIED:20201129T082257Z
UID:7372-1609066800-1609072200@kotikirkko.fi
SUMMARY:Su 27.12. klo 11 Teemajumalanpalvelus
DESCRIPTION:Su 27.12. klo 11 Teemajumalanpalvelus\, seurakuntalaisten todistuspuheenvuoroja\, Erkki Karvanen\, Allani Rantasalo\, Yhteisöillan ryhmä
URL:https://kotikirkko.fi/ohjelma/su-27-12-klo-11-teemajumalanpalvelus/
END:VEVENT
END:VCALENDAR