BEGIN:VCALENDAR
VERSION:2.0
PRODID:-//Riihimäen Kotikirkko - ECPv6.15.20//NONSGML v1.0//EN
CALSCALE:GREGORIAN
METHOD:PUBLISH
X-ORIGINAL-URL:https://kotikirkko.fi
X-WR-CALDESC:Tapahtumat Riihimäen Kotikirkko
REFRESH-INTERVAL;VALUE=DURATION:PT1H
X-Robots-Tag:noindex
X-PUBLISHED-TTL:PT1H
BEGIN:VTIMEZONE
TZID:Europe/Helsinki
BEGIN:DAYLIGHT
TZOFFSETFROM:+0200
TZOFFSETTO:+0300
TZNAME:EEST
DTSTART:20190331T010000
END:DAYLIGHT
BEGIN:STANDARD
TZOFFSETFROM:+0300
TZOFFSETTO:+0200
TZNAME:EET
DTSTART:20191027T010000
END:STANDARD
BEGIN:DAYLIGHT
TZOFFSETFROM:+0200
TZOFFSETTO:+0300
TZNAME:EEST
DTSTART:20200329T010000
END:DAYLIGHT
BEGIN:STANDARD
TZOFFSETFROM:+0300
TZOFFSETTO:+0200
TZNAME:EET
DTSTART:20201025T010000
END:STANDARD
BEGIN:DAYLIGHT
TZOFFSETFROM:+0200
TZOFFSETTO:+0300
TZNAME:EEST
DTSTART:20210328T010000
END:DAYLIGHT
BEGIN:STANDARD
TZOFFSETFROM:+0300
TZOFFSETTO:+0200
TZNAME:EET
DTSTART:20211031T010000
END:STANDARD
END:VTIMEZONE
BEGIN:VEVENT
DTSTART;TZID=Europe/Helsinki:20201101T110000
DTEND;TZID=Europe/Helsinki:20201101T123000
DTSTAMP:20260421T204827
CREATED:20200930T055515Z
LAST-MODIFIED:20201029T084302Z
UID:7250-1604228400-1604233800@kotikirkko.fi
SUMMARY:Su 1.11. 11.00 Jumalanpalvelus ja ehtoollinen nuorten johdolla
DESCRIPTION:Su 1.11. 11.00 Jumalanpalvelus ja ehtoollinen nuorten johdolla\, Heidi Antinsalo\, Ari Juntunen\, BaseBand
URL:https://kotikirkko.fi/ohjelma/su-6-11-11-00-jumalanpalvelus-ja-ehtoollinen-nuorten-johdolla/
END:VEVENT
BEGIN:VEVENT
DTSTART;TZID=Europe/Helsinki:20201102T183000
DTEND;TZID=Europe/Helsinki:20201102T200000
DTSTAMP:20260421T204827
CREATED:20201029T090015Z
LAST-MODIFIED:20201029T090631Z
UID:7312-1604341800-1604347200@kotikirkko.fi
SUMMARY:Ma 2.11. 18.30	Riihimäki -rukoilee ilta Kotikirkolla
DESCRIPTION:Ma 2.11. 18.30    Riihimäki -rukoilee ilta Kotikirkolla\, Seppo Kaski\, Heidi Antinsalo
URL:https://kotikirkko.fi/ohjelma/ma-2-11-18-30riihimaki-rukoilee-ilta-kotikirkolla/
END:VEVENT
BEGIN:VEVENT
DTSTART;TZID=Europe/Helsinki:20201103T180000
DTEND;TZID=Europe/Helsinki:20201103T193000
DTSTAMP:20260421T204827
CREATED:20201031T101535Z
LAST-MODIFIED:20201031T101535Z
UID:7476-1604426400-1604431800@kotikirkko.fi
SUMMARY:Ti 3.11. klo 18.00 Varkkikerho
DESCRIPTION:Ti 3.11. klo 18.00 Varkkikerho
URL:https://kotikirkko.fi/ohjelma/ti-3-11-klo-18-00-varkkikerho/
END:VEVENT
BEGIN:VEVENT
DTSTART;TZID=Europe/Helsinki:20201104T180000
DTEND;TZID=Europe/Helsinki:20201104T193000
DTSTAMP:20260421T204827
CREATED:20201029T084839Z
LAST-MODIFIED:20201101T142951Z
UID:7304-1604512800-1604518200@kotikirkko.fi
SUMMARY:Ke 4.11. 18.00 Raamattu- ja rukousilta\, aiheena profetoiminen
DESCRIPTION:Ke 4.11. 18.00 Raamattu- ja rukousilta\, aiheena profetoiminen\, Seppo Kaski\, Risto Ropo
URL:https://kotikirkko.fi/ohjelma/ke-4-11-18-00-raamattu-ja-rukousilta-aiheena-profetoiminen/
LOCATION:Riihimäen Kotikirkko\, Koivistonkatu 5\, Koivistonkatu 5\, Riihimäki\, NJ
ORGANIZER;CN="Riihim%C3%A4en Kotikirkko":MAILTO:toimisto@kotikirkko.fi
END:VEVENT
BEGIN:VEVENT
DTSTART;TZID=Europe/Helsinki:20201105T180000
DTEND;TZID=Europe/Helsinki:20201105T193000
DTSTAMP:20260421T204827
CREATED:20201029T090826Z
LAST-MODIFIED:20201029T090826Z
UID:7316-1604599200-1604604600@kotikirkko.fi
SUMMARY:To 5.11. 18.00	Yhteisöillan nuorisokahvila alakerrassa
DESCRIPTION:To 5.11. 18.00    Yhteisöillan nuorisokahvila alakerrassa
URL:https://kotikirkko.fi/ohjelma/to-5-11-18-00yhteisoillan-nuorisokahvila-alakerrassa/
END:VEVENT
BEGIN:VEVENT
DTSTART;TZID=Europe/Helsinki:20201106T190000
DTEND;TZID=Europe/Helsinki:20201106T230000
DTSTAMP:20260421T204827
CREATED:20201031T101040Z
LAST-MODIFIED:20201031T101040Z
UID:7463-1604689200-1604703600@kotikirkko.fi
SUMMARY:Pe 6.11. klo 19.00 Nuortenilta
DESCRIPTION:Pe 6.11. klo 19.00 Nuortenilta
URL:https://kotikirkko.fi/ohjelma/pe-6-11-klo-19-00-nuortenilta/
END:VEVENT
BEGIN:VEVENT
DTSTART;TZID=Europe/Helsinki:20201108T110000
DTEND;TZID=Europe/Helsinki:20201108T123000
DTSTAMP:20260421T204827
CREATED:20201029T085738Z
LAST-MODIFIED:20201101T134411Z
UID:7309-1604833200-1604838600@kotikirkko.fi
SUMMARY:Su 8.11. 11.00 Lähetysjumalanpalvelus
DESCRIPTION:Su 8.11. 11.00    Lähetysjumalanpalvelus\, Saara Tikkakoski\, Raili Väisänen ja Mirjami Ylenius-Kuosmanen\, musiikki Virpi ja Hannele
URL:https://kotikirkko.fi/ohjelma/su-8-11-11-00-lahetysjumalanpalvelus/
END:VEVENT
BEGIN:VEVENT
DTSTART;TZID=Europe/Helsinki:20201110T180000
DTEND;TZID=Europe/Helsinki:20201110T193000
DTSTAMP:20260421T204827
CREATED:20201031T101631Z
LAST-MODIFIED:20201031T101631Z
UID:7479-1605031200-1605036600@kotikirkko.fi
SUMMARY:Ti 10.11. klo 18.00 Varkkikerho
DESCRIPTION:Ti 10.11. klo 18.00 Varkkikerho
URL:https://kotikirkko.fi/ohjelma/ti-10-11-klo-18-00-varkkikerho/
END:VEVENT
BEGIN:VEVENT
DTSTART;TZID=Europe/Helsinki:20201111T180000
DTEND;TZID=Europe/Helsinki:20201111T193000
DTSTAMP:20260421T204827
CREATED:20201029T091047Z
LAST-MODIFIED:20201029T091047Z
UID:7319-1605117600-1605123000@kotikirkko.fi
SUMMARY:Ke 11.11. 18.00	Rukousilta
DESCRIPTION:Ke 11.11. 18.00 Rukousilta\, Carola Jarske ja Jyrki Ojanperä
URL:https://kotikirkko.fi/ohjelma/ke-11-11-18-00rukousilta/
END:VEVENT
BEGIN:VEVENT
DTSTART;TZID=Europe/Helsinki:20201112T180000
DTEND;TZID=Europe/Helsinki:20201112T193000
DTSTAMP:20260421T204827
CREATED:20201029T091546Z
LAST-MODIFIED:20201029T091546Z
UID:7327-1605204000-1605209400@kotikirkko.fi
SUMMARY:To 12.11. 18.00 Yhteisöillan nuorisokahvila alakerrassa
DESCRIPTION:To 12.11. 18.00 Yhteisöillan nuorisokahvila alakerrassa
URL:https://kotikirkko.fi/ohjelma/to-12-11-18-00-yhteisoillan-nuorisokahvila-alakerrassa/
END:VEVENT
BEGIN:VEVENT
DTSTART;TZID=Europe/Helsinki:20201113T190000
DTEND;TZID=Europe/Helsinki:20201113T230000
DTSTAMP:20260421T204827
CREATED:20201031T101158Z
LAST-MODIFIED:20201031T101158Z
UID:7466-1605294000-1605308400@kotikirkko.fi
SUMMARY:Pe 13.11. klo 19.00 Nuortenilta
DESCRIPTION:Pe 13.11. klo 19.00 Nuortenilta
URL:https://kotikirkko.fi/ohjelma/pe-13-11-klo-19-00-nuortenilta/
END:VEVENT
BEGIN:VEVENT
DTSTART;TZID=Europe/Helsinki:20201115T110000
DTEND;TZID=Europe/Helsinki:20201115T131500
DTSTAMP:20260421T204827
CREATED:20201029T091311Z
LAST-MODIFIED:20201029T091442Z
UID:7322-1605438000-1605446100@kotikirkko.fi
SUMMARY:Su 15.11. 11.00   Hoitava seurakunta -raamattutunnit
DESCRIPTION:Su 15.11. 11.00   Hoitava seurakunta -raamattutunnit\, Ulla Dahlen\, Seppo Kaski\, tauolla kahvitarjoilu
URL:https://kotikirkko.fi/ohjelma/su-15-11-11-00-hoitava-seurakunta-raamattutunnit/
END:VEVENT
BEGIN:VEVENT
DTSTART;TZID=Europe/Helsinki:20201117T180000
DTEND;TZID=Europe/Helsinki:20201117T193000
DTSTAMP:20260421T204827
CREATED:20201031T101729Z
LAST-MODIFIED:20201031T101729Z
UID:7482-1605636000-1605641400@kotikirkko.fi
SUMMARY:Ti 17.11. klo 18.00 Varkkikerho
DESCRIPTION:Ti 17.11. klo 18.00 Varkkikerho
URL:https://kotikirkko.fi/ohjelma/ti-17-11-klo-18-00-varkkikerho/
END:VEVENT
BEGIN:VEVENT
DTSTART;TZID=Europe/Helsinki:20201118T180000
DTEND;TZID=Europe/Helsinki:20201118T190000
DTSTAMP:20260421T204827
CREATED:20201029T091735Z
LAST-MODIFIED:20201029T091735Z
UID:7331-1605722400-1605726000@kotikirkko.fi
SUMMARY:Ke 18.11. 18.00 Kotikirkko -yhdistys ry:n syyskokous
DESCRIPTION:Ke 18.11. 18.00   Kotikirkko -yhdistys ry:n syyskokous\, Timo Mantila     
URL:https://kotikirkko.fi/ohjelma/ke-18-11-18-00-kotikirkko-yhdistys-ryn-syyskokous/
END:VEVENT
BEGIN:VEVENT
DTSTART;TZID=Europe/Helsinki:20201119T180000
DTEND;TZID=Europe/Helsinki:20201119T193000
DTSTAMP:20260421T204827
CREATED:20201029T092805Z
LAST-MODIFIED:20201029T092805Z
UID:7348-1605808800-1605814200@kotikirkko.fi
SUMMARY:To 19.11. 18.00	Yhteisöillan nuorisokahvila alakerrassa
DESCRIPTION:To 19.11. 18.00 Yhteisöillan nuorisokahvila alakerrassa
URL:https://kotikirkko.fi/ohjelma/to-19-11-18-00yhteisoillan-nuorisokahvila-alakerrassa/
END:VEVENT
BEGIN:VEVENT
DTSTART;TZID=Europe/Helsinki:20201120T190000
DTEND;TZID=Europe/Helsinki:20201120T230000
DTSTAMP:20260421T204827
CREATED:20201031T101305Z
LAST-MODIFIED:20201116T104355Z
UID:7469-1605898800-1605913200@kotikirkko.fi
SUMMARY:Pe 20.11. klo 19.00 Nuortenilta
DESCRIPTION:Pe 20.11. klo 19.00-24.00 Nuortenilta
URL:https://kotikirkko.fi/ohjelma/pe-20-11-klo-19-00-nuortenilta/
END:VEVENT
BEGIN:VEVENT
DTSTART;TZID=Europe/Helsinki:20201122T160000
DTEND;TZID=Europe/Helsinki:20201122T173000
DTSTAMP:20260421T204827
CREATED:20201029T091907Z
LAST-MODIFIED:20201029T091945Z
UID:7336-1606060800-1606066200@kotikirkko.fi
SUMMARY:Su 22.11. 16.00 Reset -teemajumalanpalvelus
DESCRIPTION:Su 22.11. 16.00 Reset -teemajumalanpalvelus\, Jimmy Huhtala\, ResetBand
URL:https://kotikirkko.fi/ohjelma/su-22-11-16-00-reset-teemajumalanpalvelus/
END:VEVENT
BEGIN:VEVENT
DTSTART;TZID=Europe/Helsinki:20201124T180000
DTEND;TZID=Europe/Helsinki:20201124T193000
DTSTAMP:20260421T204827
CREATED:20201031T101827Z
LAST-MODIFIED:20201031T101827Z
UID:7485-1606240800-1606246200@kotikirkko.fi
SUMMARY:Ti 24.11. klo 18.00 Varkkikerho
DESCRIPTION:Ti 24.11. klo 18.00 Varkkikerho
URL:https://kotikirkko.fi/ohjelma/ti-24-11-klo-18-00-varkkikerho/
END:VEVENT
BEGIN:VEVENT
DTSTART;TZID=Europe/Helsinki:20201125T180000
DTEND;TZID=Europe/Helsinki:20201125T193000
DTSTAMP:20260421T204827
CREATED:20201029T092106Z
LAST-MODIFIED:20201029T092242Z
UID:7339-1606327200-1606332600@kotikirkko.fi
SUMMARY:Ke 25.11. 18.00   Lähetysrukousilta
DESCRIPTION:Ke 25.11. 18.00   Lähetysrukousilta\, Jukka Nummikoski
URL:https://kotikirkko.fi/ohjelma/ke-25-11-18-00-lahetysrukousilta/
END:VEVENT
BEGIN:VEVENT
DTSTART;TZID=Europe/Helsinki:20201126T180000
DTEND;TZID=Europe/Helsinki:20201126T193000
DTSTAMP:20260421T204827
CREATED:20201029T093019Z
LAST-MODIFIED:20201029T093019Z
UID:7351-1606413600-1606419000@kotikirkko.fi
SUMMARY:To 26.11. 18.00 Yhteisöillan nuorisokahvila alakerrassa
DESCRIPTION:To 26.11. 18.00 Yhteisöillan nuorisokahvila alakerrassa
URL:https://kotikirkko.fi/ohjelma/to-26-11-18-00-yhteisoillan-nuorisokahvila-alakerrassa/
END:VEVENT
BEGIN:VEVENT
DTSTART;TZID=Europe/Helsinki:20201127T190000
DTEND;TZID=Europe/Helsinki:20201127T230000
DTSTAMP:20260421T204827
CREATED:20201031T101405Z
LAST-MODIFIED:20201116T104437Z
UID:7472-1606503600-1606518000@kotikirkko.fi
SUMMARY:Pe 27.11. klo 19.00 Nuortenilta
DESCRIPTION:Pe 27.11. klo 19.00-24.00 Nuortenilta
URL:https://kotikirkko.fi/ohjelma/pe-27-11-klo-19-00-nuortenilta/
END:VEVENT
BEGIN:VEVENT
DTSTART;TZID=Europe/Helsinki:20201129T160000
DTEND;TZID=Europe/Helsinki:20201129T173000
DTSTAMP:20260421T204827
CREATED:20201029T092512Z
LAST-MODIFIED:20201129T081711Z
UID:7342-1606665600-1606671000@kotikirkko.fi
SUMMARY:PERUTTU: Su 29.11. 16.00 Matinsalin musiikki-ilta
DESCRIPTION:Tapahtuma peruttu!
URL:https://kotikirkko.fi/ohjelma/su-29-11-16-00-matinsalin-musiikki-ilta-bassn-helen/
END:VEVENT
END:VCALENDAR